BEGIN:VCALENDAR
VERSION:2.0
PRODID:-//Wir. Alle. Füreinander. - ECPv6.15.5//NONSGML v1.0//EN
CALSCALE:GREGORIAN
METHOD:PUBLISH
X-WR-CALNAME:Wir. Alle. Füreinander.
X-ORIGINAL-URL:https://inklusion-warendorf.de
X-WR-CALDESC:Veranstaltungen für Wir. Alle. Füreinander.
REFRESH-INTERVAL;VALUE=DURATION:PT1H
X-Robots-Tag:noindex
X-PUBLISHED-TTL:PT1H
BEGIN:VTIMEZONE
TZID:Europe/Berlin
BEGIN:DAYLIGHT
TZOFFSETFROM:+0100
TZOFFSETTO:+0200
TZNAME:CEST
DTSTART:20260329T010000
END:DAYLIGHT
BEGIN:STANDARD
TZOFFSETFROM:+0200
TZOFFSETTO:+0100
TZNAME:CET
DTSTART:20261025T010000
END:STANDARD
END:VTIMEZONE
BEGIN:VEVENT
DTSTART;TZID=Europe/Berlin:20260428T170000
DTEND;TZID=Europe/Berlin:20260428T183000
DTSTAMP:20260421T164538
CREATED:20260421T061825Z
LAST-MODIFIED:20260421T061825Z
UID:10007488-1777395600-1777401000@inklusion-warendorf.de
SUMMARY:Das Behindertentestament – Welche Neuerungen sind zu berücksichtigen
DESCRIPTION:Ein Behindertentestament schützt das Erbe Ihres Kindes – und verhindert\, dass der Staat es einfordert. Doch was hat sich zuletzt geändert\, und worauf kommt es jetzt an? Rechtsanwalt Jan Kaven aus Münster informiert und steht im Anschluss für Ihre Fragen zur Verfügung. \n🗓 Dienstag\, 28. April 2026 | 17:00 Uhr\n📍 FreiRaum\, Münsterstraße 27\, 48231 Warendorf \nDie Veranstaltung richtet sich vor allem an ehrenamtliche rechtliche Betreuer:innen und Angehörige – aber auch alle anderen Interessierten sind herzlich willkommen! \n⚠️ Anmeldung erforderlich bis 27.04.2026\n📞 02581 633257\n✅ Teilnahme kostenlos \nEine Kooperationsveranstaltung mit dem Betreuungsverein Innosozial im Kreis Warendorf e.V.
URL:https://inklusion-warendorf.de/veranstaltung/das-behindertentestament-welche-neuerungen-sind-zu-beruecksichtigen/
LOCATION:FreiRaum\, Münsterstraße 27\, Warendorf\, NRW\, 48231\, Deutschland
CATEGORIES:Aktuelle Termine,FreiRaum
ATTACH;FMTTYPE=image/webp:https://inklusion-warendorf.de/wp-content/uploads/2026/04/testament_schild.webp
END:VEVENT
END:VCALENDAR