BEGIN:VCALENDAR
VERSION:2.0
PRODID:-//Wir. Alle. Füreinander. - ECPv6.15.5//NONSGML v1.0//EN
CALSCALE:GREGORIAN
METHOD:PUBLISH
X-WR-CALNAME:Wir. Alle. Füreinander.
X-ORIGINAL-URL:https://inklusion-warendorf.de
X-WR-CALDESC:Veranstaltungen für Wir. Alle. Füreinander.
REFRESH-INTERVAL;VALUE=DURATION:PT1H
X-Robots-Tag:noindex
X-PUBLISHED-TTL:PT1H
BEGIN:VTIMEZONE
TZID:Europe/Berlin
BEGIN:DAYLIGHT
TZOFFSETFROM:+0100
TZOFFSETTO:+0200
TZNAME:CEST
DTSTART:20240331T010000
END:DAYLIGHT
BEGIN:STANDARD
TZOFFSETFROM:+0200
TZOFFSETTO:+0100
TZNAME:CET
DTSTART:20241027T010000
END:STANDARD
END:VTIMEZONE
BEGIN:VEVENT
DTSTART;TZID=Europe/Berlin:20241002T160000
DTEND;TZID=Europe/Berlin:20241002T190000
DTSTAMP:20260422T184558
CREATED:20240624T220358Z
LAST-MODIFIED:20241218T133037Z
UID:10000137-1727884800-1727895600@inklusion-warendorf.de
SUMMARY:Café international
DESCRIPTION:Café international: Jeden Mittwoch Nachmittag im FreiRaum
URL:https://inklusion-warendorf.de/veranstaltung/cafe-international/2024-10-02/
LOCATION:FreiRaum\, Münsterstraße 27\, Warendorf\, NRW\, 48231\, Deutschland
CATEGORIES:FreiRaum
ATTACH;FMTTYPE=image/jpeg:https://inklusion-warendorf.de/wp-content/uploads/2024/04/cookies-1383280_1920.jpg
END:VEVENT
BEGIN:VEVENT
DTSTART;TZID=Europe/Berlin:20241009T160000
DTEND;TZID=Europe/Berlin:20241009T190000
DTSTAMP:20260422T184558
CREATED:20240624T220358Z
LAST-MODIFIED:20241218T133037Z
UID:10000138-1728489600-1728500400@inklusion-warendorf.de
SUMMARY:Café international
DESCRIPTION:Café international: Jeden Mittwoch Nachmittag im FreiRaum
URL:https://inklusion-warendorf.de/veranstaltung/cafe-international/2024-10-09/
LOCATION:FreiRaum\, Münsterstraße 27\, Warendorf\, NRW\, 48231\, Deutschland
CATEGORIES:FreiRaum
ATTACH;FMTTYPE=image/jpeg:https://inklusion-warendorf.de/wp-content/uploads/2024/04/cookies-1383280_1920.jpg
END:VEVENT
BEGIN:VEVENT
DTSTART;TZID=Europe/Berlin:20241016T160000
DTEND;TZID=Europe/Berlin:20241016T190000
DTSTAMP:20260422T184558
CREATED:20240624T220358Z
LAST-MODIFIED:20241218T133037Z
UID:10000139-1729094400-1729105200@inklusion-warendorf.de
SUMMARY:Café international
DESCRIPTION:Café international: Jeden Mittwoch Nachmittag im FreiRaum
URL:https://inklusion-warendorf.de/veranstaltung/cafe-international/2024-10-16/
LOCATION:FreiRaum\, Münsterstraße 27\, Warendorf\, NRW\, 48231\, Deutschland
CATEGORIES:FreiRaum
ATTACH;FMTTYPE=image/jpeg:https://inklusion-warendorf.de/wp-content/uploads/2024/04/cookies-1383280_1920.jpg
END:VEVENT
BEGIN:VEVENT
DTSTART;TZID=Europe/Berlin:20241023T160000
DTEND;TZID=Europe/Berlin:20241023T190000
DTSTAMP:20260422T184558
CREATED:20240624T220358Z
LAST-MODIFIED:20241218T133037Z
UID:10000140-1729699200-1729710000@inklusion-warendorf.de
SUMMARY:Café international
DESCRIPTION:Café international: Jeden Mittwoch Nachmittag im FreiRaum
URL:https://inklusion-warendorf.de/veranstaltung/cafe-international/2024-10-23/
LOCATION:FreiRaum\, Münsterstraße 27\, Warendorf\, NRW\, 48231\, Deutschland
CATEGORIES:FreiRaum
ATTACH;FMTTYPE=image/jpeg:https://inklusion-warendorf.de/wp-content/uploads/2024/04/cookies-1383280_1920.jpg
END:VEVENT
BEGIN:VEVENT
DTSTART;TZID=Europe/Berlin:20241030T160000
DTEND;TZID=Europe/Berlin:20241030T190000
DTSTAMP:20260422T184558
CREATED:20240624T220358Z
LAST-MODIFIED:20241218T133037Z
UID:10000141-1730304000-1730314800@inklusion-warendorf.de
SUMMARY:Café international
DESCRIPTION:Café international: Jeden Mittwoch Nachmittag im FreiRaum
URL:https://inklusion-warendorf.de/veranstaltung/cafe-international/2024-10-30/
LOCATION:FreiRaum\, Münsterstraße 27\, Warendorf\, NRW\, 48231\, Deutschland
CATEGORIES:FreiRaum
ATTACH;FMTTYPE=image/jpeg:https://inklusion-warendorf.de/wp-content/uploads/2024/04/cookies-1383280_1920.jpg
END:VEVENT
END:VCALENDAR