BEGIN:VCALENDAR
VERSION:2.0
PRODID:-//Wir. Alle. Füreinander. - ECPv6.15.5//NONSGML v1.0//EN
CALSCALE:GREGORIAN
METHOD:PUBLISH
X-WR-CALNAME:Wir. Alle. Füreinander.
X-ORIGINAL-URL:https://inklusion-warendorf.de
X-WR-CALDESC:Veranstaltungen für Wir. Alle. Füreinander.
REFRESH-INTERVAL;VALUE=DURATION:PT1H
X-Robots-Tag:noindex
X-PUBLISHED-TTL:PT1H
BEGIN:VTIMEZONE
TZID:Europe/Berlin
BEGIN:DAYLIGHT
TZOFFSETFROM:+0100
TZOFFSETTO:+0200
TZNAME:CEST
DTSTART:20250330T010000
END:DAYLIGHT
BEGIN:STANDARD
TZOFFSETFROM:+0200
TZOFFSETTO:+0100
TZNAME:CET
DTSTART:20251026T010000
END:STANDARD
END:VTIMEZONE
BEGIN:VEVENT
DTSTART;TZID=Europe/Berlin:20250903T160000
DTEND;TZID=Europe/Berlin:20250903T190000
DTSTAMP:20260420T002016
CREATED:20240624T220358Z
LAST-MODIFIED:20241218T133037Z
UID:10000185-1756915200-1756926000@inklusion-warendorf.de
SUMMARY:Café international
DESCRIPTION:Café international: Jeden Mittwoch Nachmittag im FreiRaum
URL:https://inklusion-warendorf.de/veranstaltung/cafe-international/2025-09-03/
LOCATION:FreiRaum\, Münsterstraße 27\, Warendorf\, NRW\, 48231\, Deutschland
CATEGORIES:FreiRaum
ATTACH;FMTTYPE=image/jpeg:https://inklusion-warendorf.de/wp-content/uploads/2024/04/cookies-1383280_1920.jpg
END:VEVENT
BEGIN:VEVENT
DTSTART;TZID=Europe/Berlin:20250910T160000
DTEND;TZID=Europe/Berlin:20250910T190000
DTSTAMP:20260420T002016
CREATED:20240624T220358Z
LAST-MODIFIED:20241218T133037Z
UID:10000186-1757520000-1757530800@inklusion-warendorf.de
SUMMARY:Café international
DESCRIPTION:Café international: Jeden Mittwoch Nachmittag im FreiRaum
URL:https://inklusion-warendorf.de/veranstaltung/cafe-international/2025-09-10/
LOCATION:FreiRaum\, Münsterstraße 27\, Warendorf\, NRW\, 48231\, Deutschland
CATEGORIES:FreiRaum
ATTACH;FMTTYPE=image/jpeg:https://inklusion-warendorf.de/wp-content/uploads/2024/04/cookies-1383280_1920.jpg
END:VEVENT
BEGIN:VEVENT
DTSTART;TZID=Europe/Berlin:20250917T160000
DTEND;TZID=Europe/Berlin:20250917T190000
DTSTAMP:20260420T002016
CREATED:20240624T220358Z
LAST-MODIFIED:20241218T133037Z
UID:10000187-1758124800-1758135600@inklusion-warendorf.de
SUMMARY:Café international
DESCRIPTION:Café international: Jeden Mittwoch Nachmittag im FreiRaum
URL:https://inklusion-warendorf.de/veranstaltung/cafe-international/2025-09-17/
LOCATION:FreiRaum\, Münsterstraße 27\, Warendorf\, NRW\, 48231\, Deutschland
CATEGORIES:FreiRaum
ATTACH;FMTTYPE=image/jpeg:https://inklusion-warendorf.de/wp-content/uploads/2024/04/cookies-1383280_1920.jpg
END:VEVENT
BEGIN:VEVENT
DTSTART;TZID=Europe/Berlin:20250924T160000
DTEND;TZID=Europe/Berlin:20250924T190000
DTSTAMP:20260420T002016
CREATED:20240624T220358Z
LAST-MODIFIED:20241218T133037Z
UID:10000188-1758729600-1758740400@inklusion-warendorf.de
SUMMARY:Café international
DESCRIPTION:Café international: Jeden Mittwoch Nachmittag im FreiRaum
URL:https://inklusion-warendorf.de/veranstaltung/cafe-international/2025-09-24/
LOCATION:FreiRaum\, Münsterstraße 27\, Warendorf\, NRW\, 48231\, Deutschland
CATEGORIES:FreiRaum
ATTACH;FMTTYPE=image/jpeg:https://inklusion-warendorf.de/wp-content/uploads/2024/04/cookies-1383280_1920.jpg
END:VEVENT
END:VCALENDAR