BEGIN:VCALENDAR
VERSION:2.0
PRODID:-//Wir. Alle. Füreinander. - ECPv6.15.5//NONSGML v1.0//EN
CALSCALE:GREGORIAN
METHOD:PUBLISH
X-WR-CALNAME:Wir. Alle. Füreinander.
X-ORIGINAL-URL:https://inklusion-warendorf.de
X-WR-CALDESC:Veranstaltungen für Wir. Alle. Füreinander.
REFRESH-INTERVAL;VALUE=DURATION:PT1H
X-Robots-Tag:noindex
X-PUBLISHED-TTL:PT1H
BEGIN:VTIMEZONE
TZID:Europe/Berlin
BEGIN:DAYLIGHT
TZOFFSETFROM:+0100
TZOFFSETTO:+0200
TZNAME:CEST
DTSTART:20280326T010000
END:DAYLIGHT
BEGIN:STANDARD
TZOFFSETFROM:+0200
TZOFFSETTO:+0100
TZNAME:CET
DTSTART:20281029T010000
END:STANDARD
END:VTIMEZONE
BEGIN:VEVENT
DTSTART;TZID=Europe/Berlin:20280202T160000
DTEND;TZID=Europe/Berlin:20280202T190000
DTSTAMP:20260421T011428
CREATED:20240624T220358Z
LAST-MODIFIED:20241218T133037Z
UID:10000311-1833120000-1833130800@inklusion-warendorf.de
SUMMARY:Café international
DESCRIPTION:Café international: Jeden Mittwoch Nachmittag im FreiRaum
URL:https://inklusion-warendorf.de/veranstaltung/cafe-international/2028-02-02/
LOCATION:FreiRaum\, Münsterstraße 27\, Warendorf\, NRW\, 48231\, Deutschland
CATEGORIES:FreiRaum
ATTACH;FMTTYPE=image/jpeg:https://inklusion-warendorf.de/wp-content/uploads/2024/04/cookies-1383280_1920.jpg
END:VEVENT
BEGIN:VEVENT
DTSTART;TZID=Europe/Berlin:20280209T160000
DTEND;TZID=Europe/Berlin:20280209T190000
DTSTAMP:20260421T011428
CREATED:20240624T220358Z
LAST-MODIFIED:20241218T133037Z
UID:10000312-1833724800-1833735600@inklusion-warendorf.de
SUMMARY:Café international
DESCRIPTION:Café international: Jeden Mittwoch Nachmittag im FreiRaum
URL:https://inklusion-warendorf.de/veranstaltung/cafe-international/2028-02-09/
LOCATION:FreiRaum\, Münsterstraße 27\, Warendorf\, NRW\, 48231\, Deutschland
CATEGORIES:FreiRaum
ATTACH;FMTTYPE=image/jpeg:https://inklusion-warendorf.de/wp-content/uploads/2024/04/cookies-1383280_1920.jpg
END:VEVENT
BEGIN:VEVENT
DTSTART;TZID=Europe/Berlin:20280216T160000
DTEND;TZID=Europe/Berlin:20280216T190000
DTSTAMP:20260421T011428
CREATED:20240624T220358Z
LAST-MODIFIED:20241218T133037Z
UID:10000313-1834329600-1834340400@inklusion-warendorf.de
SUMMARY:Café international
DESCRIPTION:Café international: Jeden Mittwoch Nachmittag im FreiRaum
URL:https://inklusion-warendorf.de/veranstaltung/cafe-international/2028-02-16/
LOCATION:FreiRaum\, Münsterstraße 27\, Warendorf\, NRW\, 48231\, Deutschland
CATEGORIES:FreiRaum
ATTACH;FMTTYPE=image/jpeg:https://inklusion-warendorf.de/wp-content/uploads/2024/04/cookies-1383280_1920.jpg
END:VEVENT
BEGIN:VEVENT
DTSTART;TZID=Europe/Berlin:20280223T160000
DTEND;TZID=Europe/Berlin:20280223T190000
DTSTAMP:20260421T011428
CREATED:20240624T220358Z
LAST-MODIFIED:20241218T133037Z
UID:10000314-1834934400-1834945200@inklusion-warendorf.de
SUMMARY:Café international
DESCRIPTION:Café international: Jeden Mittwoch Nachmittag im FreiRaum
URL:https://inklusion-warendorf.de/veranstaltung/cafe-international/2028-02-23/
LOCATION:FreiRaum\, Münsterstraße 27\, Warendorf\, NRW\, 48231\, Deutschland
CATEGORIES:FreiRaum
ATTACH;FMTTYPE=image/jpeg:https://inklusion-warendorf.de/wp-content/uploads/2024/04/cookies-1383280_1920.jpg
END:VEVENT
END:VCALENDAR