BEGIN:VCALENDAR
VERSION:2.0
PRODID:-//Wir. Alle. Füreinander. - ECPv6.15.5//NONSGML v1.0//EN
CALSCALE:GREGORIAN
METHOD:PUBLISH
X-ORIGINAL-URL:https://inklusion-warendorf.de
X-WR-CALDESC:Veranstaltungen für Wir. Alle. Füreinander.
REFRESH-INTERVAL;VALUE=DURATION:PT1H
X-Robots-Tag:noindex
X-PUBLISHED-TTL:PT1H
BEGIN:VTIMEZONE
TZID:Europe/Berlin
BEGIN:DAYLIGHT
TZOFFSETFROM:+0100
TZOFFSETTO:+0200
TZNAME:CEST
DTSTART:20270328T010000
END:DAYLIGHT
BEGIN:STANDARD
TZOFFSETFROM:+0200
TZOFFSETTO:+0100
TZNAME:CET
DTSTART:20271031T010000
END:STANDARD
BEGIN:DAYLIGHT
TZOFFSETFROM:+0100
TZOFFSETTO:+0200
TZNAME:CEST
DTSTART:20280326T010000
END:DAYLIGHT
BEGIN:STANDARD
TZOFFSETFROM:+0200
TZOFFSETTO:+0100
TZNAME:CET
DTSTART:20281029T010000
END:STANDARD
END:VTIMEZONE
BEGIN:VEVENT
DTSTART;TZID=Europe/Berlin:20270616T160000
DTEND;TZID=Europe/Berlin:20270616T190000
DTSTAMP:20260419T223852
CREATED:20240624T220358Z
LAST-MODIFIED:20241218T133037Z
UID:10000278-1813161600-1813172400@inklusion-warendorf.de
SUMMARY:Café international
DESCRIPTION:Café international: Jeden Mittwoch Nachmittag im FreiRaum
URL:https://inklusion-warendorf.de/veranstaltung/cafe-international/2027-06-16/
LOCATION:FreiRaum\, Münsterstraße 27\, Warendorf\, NRW\, 48231\, Deutschland
CATEGORIES:FreiRaum
ATTACH;FMTTYPE=image/jpeg:https://inklusion-warendorf.de/wp-content/uploads/2024/04/cookies-1383280_1920.jpg
END:VEVENT
BEGIN:VEVENT
DTSTART;TZID=Europe/Berlin:20270623T160000
DTEND;TZID=Europe/Berlin:20270623T190000
DTSTAMP:20260419T223852
CREATED:20240624T220358Z
LAST-MODIFIED:20241218T133037Z
UID:10000279-1813766400-1813777200@inklusion-warendorf.de
SUMMARY:Café international
DESCRIPTION:Café international: Jeden Mittwoch Nachmittag im FreiRaum
URL:https://inklusion-warendorf.de/veranstaltung/cafe-international/2027-06-23/
LOCATION:FreiRaum\, Münsterstraße 27\, Warendorf\, NRW\, 48231\, Deutschland
CATEGORIES:FreiRaum
ATTACH;FMTTYPE=image/jpeg:https://inklusion-warendorf.de/wp-content/uploads/2024/04/cookies-1383280_1920.jpg
END:VEVENT
BEGIN:VEVENT
DTSTART;TZID=Europe/Berlin:20270630T160000
DTEND;TZID=Europe/Berlin:20270630T190000
DTSTAMP:20260419T223852
CREATED:20240624T220358Z
LAST-MODIFIED:20241218T133037Z
UID:10000280-1814371200-1814382000@inklusion-warendorf.de
SUMMARY:Café international
DESCRIPTION:Café international: Jeden Mittwoch Nachmittag im FreiRaum
URL:https://inklusion-warendorf.de/veranstaltung/cafe-international/2027-06-30/
LOCATION:FreiRaum\, Münsterstraße 27\, Warendorf\, NRW\, 48231\, Deutschland
CATEGORIES:FreiRaum
ATTACH;FMTTYPE=image/jpeg:https://inklusion-warendorf.de/wp-content/uploads/2024/04/cookies-1383280_1920.jpg
END:VEVENT
BEGIN:VEVENT
DTSTART;TZID=Europe/Berlin:20270707T160000
DTEND;TZID=Europe/Berlin:20270707T190000
DTSTAMP:20260419T223852
CREATED:20240624T220358Z
LAST-MODIFIED:20241218T133037Z
UID:10000281-1814976000-1814986800@inklusion-warendorf.de
SUMMARY:Café international
DESCRIPTION:Café international: Jeden Mittwoch Nachmittag im FreiRaum
URL:https://inklusion-warendorf.de/veranstaltung/cafe-international/2027-07-07/
LOCATION:FreiRaum\, Münsterstraße 27\, Warendorf\, NRW\, 48231\, Deutschland
CATEGORIES:FreiRaum
ATTACH;FMTTYPE=image/jpeg:https://inklusion-warendorf.de/wp-content/uploads/2024/04/cookies-1383280_1920.jpg
END:VEVENT
BEGIN:VEVENT
DTSTART;TZID=Europe/Berlin:20270714T160000
DTEND;TZID=Europe/Berlin:20270714T190000
DTSTAMP:20260419T223852
CREATED:20240624T220358Z
LAST-MODIFIED:20241218T133037Z
UID:10000282-1815580800-1815591600@inklusion-warendorf.de
SUMMARY:Café international
DESCRIPTION:Café international: Jeden Mittwoch Nachmittag im FreiRaum
URL:https://inklusion-warendorf.de/veranstaltung/cafe-international/2027-07-14/
LOCATION:FreiRaum\, Münsterstraße 27\, Warendorf\, NRW\, 48231\, Deutschland
CATEGORIES:FreiRaum
ATTACH;FMTTYPE=image/jpeg:https://inklusion-warendorf.de/wp-content/uploads/2024/04/cookies-1383280_1920.jpg
END:VEVENT
BEGIN:VEVENT
DTSTART;TZID=Europe/Berlin:20270721T160000
DTEND;TZID=Europe/Berlin:20270721T190000
DTSTAMP:20260419T223852
CREATED:20240624T220358Z
LAST-MODIFIED:20241218T133037Z
UID:10000283-1816185600-1816196400@inklusion-warendorf.de
SUMMARY:Café international
DESCRIPTION:Café international: Jeden Mittwoch Nachmittag im FreiRaum
URL:https://inklusion-warendorf.de/veranstaltung/cafe-international/2027-07-21/
LOCATION:FreiRaum\, Münsterstraße 27\, Warendorf\, NRW\, 48231\, Deutschland
CATEGORIES:FreiRaum
ATTACH;FMTTYPE=image/jpeg:https://inklusion-warendorf.de/wp-content/uploads/2024/04/cookies-1383280_1920.jpg
END:VEVENT
BEGIN:VEVENT
DTSTART;TZID=Europe/Berlin:20270728T160000
DTEND;TZID=Europe/Berlin:20270728T190000
DTSTAMP:20260419T223852
CREATED:20240624T220358Z
LAST-MODIFIED:20241218T133037Z
UID:10000284-1816790400-1816801200@inklusion-warendorf.de
SUMMARY:Café international
DESCRIPTION:Café international: Jeden Mittwoch Nachmittag im FreiRaum
URL:https://inklusion-warendorf.de/veranstaltung/cafe-international/2027-07-28/
LOCATION:FreiRaum\, Münsterstraße 27\, Warendorf\, NRW\, 48231\, Deutschland
CATEGORIES:FreiRaum
ATTACH;FMTTYPE=image/jpeg:https://inklusion-warendorf.de/wp-content/uploads/2024/04/cookies-1383280_1920.jpg
END:VEVENT
BEGIN:VEVENT
DTSTART;TZID=Europe/Berlin:20270804T160000
DTEND;TZID=Europe/Berlin:20270804T190000
DTSTAMP:20260419T223852
CREATED:20240624T220358Z
LAST-MODIFIED:20241218T133037Z
UID:10000285-1817395200-1817406000@inklusion-warendorf.de
SUMMARY:Café international
DESCRIPTION:Café international: Jeden Mittwoch Nachmittag im FreiRaum
URL:https://inklusion-warendorf.de/veranstaltung/cafe-international/2027-08-04/
LOCATION:FreiRaum\, Münsterstraße 27\, Warendorf\, NRW\, 48231\, Deutschland
CATEGORIES:FreiRaum
ATTACH;FMTTYPE=image/jpeg:https://inklusion-warendorf.de/wp-content/uploads/2024/04/cookies-1383280_1920.jpg
END:VEVENT
BEGIN:VEVENT
DTSTART;TZID=Europe/Berlin:20270811T160000
DTEND;TZID=Europe/Berlin:20270811T190000
DTSTAMP:20260419T223852
CREATED:20240624T220358Z
LAST-MODIFIED:20241218T133037Z
UID:10000286-1818000000-1818010800@inklusion-warendorf.de
SUMMARY:Café international
DESCRIPTION:Café international: Jeden Mittwoch Nachmittag im FreiRaum
URL:https://inklusion-warendorf.de/veranstaltung/cafe-international/2027-08-11/
LOCATION:FreiRaum\, Münsterstraße 27\, Warendorf\, NRW\, 48231\, Deutschland
CATEGORIES:FreiRaum
ATTACH;FMTTYPE=image/jpeg:https://inklusion-warendorf.de/wp-content/uploads/2024/04/cookies-1383280_1920.jpg
END:VEVENT
BEGIN:VEVENT
DTSTART;TZID=Europe/Berlin:20270818T160000
DTEND;TZID=Europe/Berlin:20270818T190000
DTSTAMP:20260419T223852
CREATED:20240624T220358Z
LAST-MODIFIED:20241218T133037Z
UID:10000287-1818604800-1818615600@inklusion-warendorf.de
SUMMARY:Café international
DESCRIPTION:Café international: Jeden Mittwoch Nachmittag im FreiRaum
URL:https://inklusion-warendorf.de/veranstaltung/cafe-international/2027-08-18/
LOCATION:FreiRaum\, Münsterstraße 27\, Warendorf\, NRW\, 48231\, Deutschland
CATEGORIES:FreiRaum
ATTACH;FMTTYPE=image/jpeg:https://inklusion-warendorf.de/wp-content/uploads/2024/04/cookies-1383280_1920.jpg
END:VEVENT
BEGIN:VEVENT
DTSTART;TZID=Europe/Berlin:20270825T160000
DTEND;TZID=Europe/Berlin:20270825T190000
DTSTAMP:20260419T223852
CREATED:20240624T220358Z
LAST-MODIFIED:20241218T133037Z
UID:10000288-1819209600-1819220400@inklusion-warendorf.de
SUMMARY:Café international
DESCRIPTION:Café international: Jeden Mittwoch Nachmittag im FreiRaum
URL:https://inklusion-warendorf.de/veranstaltung/cafe-international/2027-08-25/
LOCATION:FreiRaum\, Münsterstraße 27\, Warendorf\, NRW\, 48231\, Deutschland
CATEGORIES:FreiRaum
ATTACH;FMTTYPE=image/jpeg:https://inklusion-warendorf.de/wp-content/uploads/2024/04/cookies-1383280_1920.jpg
END:VEVENT
BEGIN:VEVENT
DTSTART;TZID=Europe/Berlin:20270901T160000
DTEND;TZID=Europe/Berlin:20270901T190000
DTSTAMP:20260419T223852
CREATED:20240624T220358Z
LAST-MODIFIED:20241218T133037Z
UID:10000289-1819814400-1819825200@inklusion-warendorf.de
SUMMARY:Café international
DESCRIPTION:Café international: Jeden Mittwoch Nachmittag im FreiRaum
URL:https://inklusion-warendorf.de/veranstaltung/cafe-international/2027-09-01/
LOCATION:FreiRaum\, Münsterstraße 27\, Warendorf\, NRW\, 48231\, Deutschland
CATEGORIES:FreiRaum
ATTACH;FMTTYPE=image/jpeg:https://inklusion-warendorf.de/wp-content/uploads/2024/04/cookies-1383280_1920.jpg
END:VEVENT
BEGIN:VEVENT
DTSTART;TZID=Europe/Berlin:20270908T160000
DTEND;TZID=Europe/Berlin:20270908T190000
DTSTAMP:20260419T223852
CREATED:20240624T220358Z
LAST-MODIFIED:20241218T133037Z
UID:10000290-1820419200-1820430000@inklusion-warendorf.de
SUMMARY:Café international
DESCRIPTION:Café international: Jeden Mittwoch Nachmittag im FreiRaum
URL:https://inklusion-warendorf.de/veranstaltung/cafe-international/2027-09-08/
LOCATION:FreiRaum\, Münsterstraße 27\, Warendorf\, NRW\, 48231\, Deutschland
CATEGORIES:FreiRaum
ATTACH;FMTTYPE=image/jpeg:https://inklusion-warendorf.de/wp-content/uploads/2024/04/cookies-1383280_1920.jpg
END:VEVENT
BEGIN:VEVENT
DTSTART;TZID=Europe/Berlin:20270915T160000
DTEND;TZID=Europe/Berlin:20270915T190000
DTSTAMP:20260419T223852
CREATED:20240624T220358Z
LAST-MODIFIED:20241218T133037Z
UID:10000291-1821024000-1821034800@inklusion-warendorf.de
SUMMARY:Café international
DESCRIPTION:Café international: Jeden Mittwoch Nachmittag im FreiRaum
URL:https://inklusion-warendorf.de/veranstaltung/cafe-international/2027-09-15/
LOCATION:FreiRaum\, Münsterstraße 27\, Warendorf\, NRW\, 48231\, Deutschland
CATEGORIES:FreiRaum
ATTACH;FMTTYPE=image/jpeg:https://inklusion-warendorf.de/wp-content/uploads/2024/04/cookies-1383280_1920.jpg
END:VEVENT
BEGIN:VEVENT
DTSTART;TZID=Europe/Berlin:20270922T160000
DTEND;TZID=Europe/Berlin:20270922T190000
DTSTAMP:20260419T223852
CREATED:20240624T220358Z
LAST-MODIFIED:20241218T133037Z
UID:10000292-1821628800-1821639600@inklusion-warendorf.de
SUMMARY:Café international
DESCRIPTION:Café international: Jeden Mittwoch Nachmittag im FreiRaum
URL:https://inklusion-warendorf.de/veranstaltung/cafe-international/2027-09-22/
LOCATION:FreiRaum\, Münsterstraße 27\, Warendorf\, NRW\, 48231\, Deutschland
CATEGORIES:FreiRaum
ATTACH;FMTTYPE=image/jpeg:https://inklusion-warendorf.de/wp-content/uploads/2024/04/cookies-1383280_1920.jpg
END:VEVENT
BEGIN:VEVENT
DTSTART;TZID=Europe/Berlin:20270929T160000
DTEND;TZID=Europe/Berlin:20270929T190000
DTSTAMP:20260419T223852
CREATED:20240624T220358Z
LAST-MODIFIED:20241218T133037Z
UID:10000293-1822233600-1822244400@inklusion-warendorf.de
SUMMARY:Café international
DESCRIPTION:Café international: Jeden Mittwoch Nachmittag im FreiRaum
URL:https://inklusion-warendorf.de/veranstaltung/cafe-international/2027-09-29/
LOCATION:FreiRaum\, Münsterstraße 27\, Warendorf\, NRW\, 48231\, Deutschland
CATEGORIES:FreiRaum
ATTACH;FMTTYPE=image/jpeg:https://inklusion-warendorf.de/wp-content/uploads/2024/04/cookies-1383280_1920.jpg
END:VEVENT
BEGIN:VEVENT
DTSTART;TZID=Europe/Berlin:20271006T160000
DTEND;TZID=Europe/Berlin:20271006T190000
DTSTAMP:20260419T223852
CREATED:20240624T220358Z
LAST-MODIFIED:20241218T133037Z
UID:10000294-1822838400-1822849200@inklusion-warendorf.de
SUMMARY:Café international
DESCRIPTION:Café international: Jeden Mittwoch Nachmittag im FreiRaum
URL:https://inklusion-warendorf.de/veranstaltung/cafe-international/2027-10-06/
LOCATION:FreiRaum\, Münsterstraße 27\, Warendorf\, NRW\, 48231\, Deutschland
CATEGORIES:FreiRaum
ATTACH;FMTTYPE=image/jpeg:https://inklusion-warendorf.de/wp-content/uploads/2024/04/cookies-1383280_1920.jpg
END:VEVENT
BEGIN:VEVENT
DTSTART;TZID=Europe/Berlin:20271013T160000
DTEND;TZID=Europe/Berlin:20271013T190000
DTSTAMP:20260419T223852
CREATED:20240624T220358Z
LAST-MODIFIED:20241218T133037Z
UID:10000295-1823443200-1823454000@inklusion-warendorf.de
SUMMARY:Café international
DESCRIPTION:Café international: Jeden Mittwoch Nachmittag im FreiRaum
URL:https://inklusion-warendorf.de/veranstaltung/cafe-international/2027-10-13/
LOCATION:FreiRaum\, Münsterstraße 27\, Warendorf\, NRW\, 48231\, Deutschland
CATEGORIES:FreiRaum
ATTACH;FMTTYPE=image/jpeg:https://inklusion-warendorf.de/wp-content/uploads/2024/04/cookies-1383280_1920.jpg
END:VEVENT
BEGIN:VEVENT
DTSTART;TZID=Europe/Berlin:20271020T160000
DTEND;TZID=Europe/Berlin:20271020T190000
DTSTAMP:20260419T223852
CREATED:20240624T220358Z
LAST-MODIFIED:20241218T133037Z
UID:10000296-1824048000-1824058800@inklusion-warendorf.de
SUMMARY:Café international
DESCRIPTION:Café international: Jeden Mittwoch Nachmittag im FreiRaum
URL:https://inklusion-warendorf.de/veranstaltung/cafe-international/2027-10-20/
LOCATION:FreiRaum\, Münsterstraße 27\, Warendorf\, NRW\, 48231\, Deutschland
CATEGORIES:FreiRaum
ATTACH;FMTTYPE=image/jpeg:https://inklusion-warendorf.de/wp-content/uploads/2024/04/cookies-1383280_1920.jpg
END:VEVENT
BEGIN:VEVENT
DTSTART;TZID=Europe/Berlin:20271027T160000
DTEND;TZID=Europe/Berlin:20271027T190000
DTSTAMP:20260419T223852
CREATED:20240624T220358Z
LAST-MODIFIED:20241218T133037Z
UID:10000297-1824652800-1824663600@inklusion-warendorf.de
SUMMARY:Café international
DESCRIPTION:Café international: Jeden Mittwoch Nachmittag im FreiRaum
URL:https://inklusion-warendorf.de/veranstaltung/cafe-international/2027-10-27/
LOCATION:FreiRaum\, Münsterstraße 27\, Warendorf\, NRW\, 48231\, Deutschland
CATEGORIES:FreiRaum
ATTACH;FMTTYPE=image/jpeg:https://inklusion-warendorf.de/wp-content/uploads/2024/04/cookies-1383280_1920.jpg
END:VEVENT
BEGIN:VEVENT
DTSTART;TZID=Europe/Berlin:20271103T160000
DTEND;TZID=Europe/Berlin:20271103T190000
DTSTAMP:20260419T223852
CREATED:20240624T220358Z
LAST-MODIFIED:20241218T133037Z
UID:10000298-1825257600-1825268400@inklusion-warendorf.de
SUMMARY:Café international
DESCRIPTION:Café international: Jeden Mittwoch Nachmittag im FreiRaum
URL:https://inklusion-warendorf.de/veranstaltung/cafe-international/2027-11-03/
LOCATION:FreiRaum\, Münsterstraße 27\, Warendorf\, NRW\, 48231\, Deutschland
CATEGORIES:FreiRaum
ATTACH;FMTTYPE=image/jpeg:https://inklusion-warendorf.de/wp-content/uploads/2024/04/cookies-1383280_1920.jpg
END:VEVENT
BEGIN:VEVENT
DTSTART;TZID=Europe/Berlin:20271110T160000
DTEND;TZID=Europe/Berlin:20271110T190000
DTSTAMP:20260419T223852
CREATED:20240624T220358Z
LAST-MODIFIED:20241218T133037Z
UID:10000299-1825862400-1825873200@inklusion-warendorf.de
SUMMARY:Café international
DESCRIPTION:Café international: Jeden Mittwoch Nachmittag im FreiRaum
URL:https://inklusion-warendorf.de/veranstaltung/cafe-international/2027-11-10/
LOCATION:FreiRaum\, Münsterstraße 27\, Warendorf\, NRW\, 48231\, Deutschland
CATEGORIES:FreiRaum
ATTACH;FMTTYPE=image/jpeg:https://inklusion-warendorf.de/wp-content/uploads/2024/04/cookies-1383280_1920.jpg
END:VEVENT
BEGIN:VEVENT
DTSTART;TZID=Europe/Berlin:20271117T160000
DTEND;TZID=Europe/Berlin:20271117T190000
DTSTAMP:20260419T223852
CREATED:20240624T220358Z
LAST-MODIFIED:20241218T133037Z
UID:10000300-1826467200-1826478000@inklusion-warendorf.de
SUMMARY:Café international
DESCRIPTION:Café international: Jeden Mittwoch Nachmittag im FreiRaum
URL:https://inklusion-warendorf.de/veranstaltung/cafe-international/2027-11-17/
LOCATION:FreiRaum\, Münsterstraße 27\, Warendorf\, NRW\, 48231\, Deutschland
CATEGORIES:FreiRaum
ATTACH;FMTTYPE=image/jpeg:https://inklusion-warendorf.de/wp-content/uploads/2024/04/cookies-1383280_1920.jpg
END:VEVENT
BEGIN:VEVENT
DTSTART;TZID=Europe/Berlin:20271124T160000
DTEND;TZID=Europe/Berlin:20271124T190000
DTSTAMP:20260419T223852
CREATED:20240624T220358Z
LAST-MODIFIED:20241218T133037Z
UID:10000301-1827072000-1827082800@inklusion-warendorf.de
SUMMARY:Café international
DESCRIPTION:Café international: Jeden Mittwoch Nachmittag im FreiRaum
URL:https://inklusion-warendorf.de/veranstaltung/cafe-international/2027-11-24/
LOCATION:FreiRaum\, Münsterstraße 27\, Warendorf\, NRW\, 48231\, Deutschland
CATEGORIES:FreiRaum
ATTACH;FMTTYPE=image/jpeg:https://inklusion-warendorf.de/wp-content/uploads/2024/04/cookies-1383280_1920.jpg
END:VEVENT
BEGIN:VEVENT
DTSTART;TZID=Europe/Berlin:20271201T160000
DTEND;TZID=Europe/Berlin:20271201T190000
DTSTAMP:20260419T223852
CREATED:20240624T220358Z
LAST-MODIFIED:20241218T133037Z
UID:10000302-1827676800-1827687600@inklusion-warendorf.de
SUMMARY:Café international
DESCRIPTION:Café international: Jeden Mittwoch Nachmittag im FreiRaum
URL:https://inklusion-warendorf.de/veranstaltung/cafe-international/2027-12-01/
LOCATION:FreiRaum\, Münsterstraße 27\, Warendorf\, NRW\, 48231\, Deutschland
CATEGORIES:FreiRaum
ATTACH;FMTTYPE=image/jpeg:https://inklusion-warendorf.de/wp-content/uploads/2024/04/cookies-1383280_1920.jpg
END:VEVENT
BEGIN:VEVENT
DTSTART;TZID=Europe/Berlin:20271208T160000
DTEND;TZID=Europe/Berlin:20271208T190000
DTSTAMP:20260419T223852
CREATED:20240624T220358Z
LAST-MODIFIED:20241218T133037Z
UID:10000303-1828281600-1828292400@inklusion-warendorf.de
SUMMARY:Café international
DESCRIPTION:Café international: Jeden Mittwoch Nachmittag im FreiRaum
URL:https://inklusion-warendorf.de/veranstaltung/cafe-international/2027-12-08/
LOCATION:FreiRaum\, Münsterstraße 27\, Warendorf\, NRW\, 48231\, Deutschland
CATEGORIES:FreiRaum
ATTACH;FMTTYPE=image/jpeg:https://inklusion-warendorf.de/wp-content/uploads/2024/04/cookies-1383280_1920.jpg
END:VEVENT
BEGIN:VEVENT
DTSTART;TZID=Europe/Berlin:20271215T160000
DTEND;TZID=Europe/Berlin:20271215T190000
DTSTAMP:20260419T223852
CREATED:20240624T220358Z
LAST-MODIFIED:20241218T133037Z
UID:10000304-1828886400-1828897200@inklusion-warendorf.de
SUMMARY:Café international
DESCRIPTION:Café international: Jeden Mittwoch Nachmittag im FreiRaum
URL:https://inklusion-warendorf.de/veranstaltung/cafe-international/2027-12-15/
LOCATION:FreiRaum\, Münsterstraße 27\, Warendorf\, NRW\, 48231\, Deutschland
CATEGORIES:FreiRaum
ATTACH;FMTTYPE=image/jpeg:https://inklusion-warendorf.de/wp-content/uploads/2024/04/cookies-1383280_1920.jpg
END:VEVENT
BEGIN:VEVENT
DTSTART;TZID=Europe/Berlin:20271222T160000
DTEND;TZID=Europe/Berlin:20271222T190000
DTSTAMP:20260419T223852
CREATED:20240624T220358Z
LAST-MODIFIED:20241218T133037Z
UID:10000305-1829491200-1829502000@inklusion-warendorf.de
SUMMARY:Café international
DESCRIPTION:Café international: Jeden Mittwoch Nachmittag im FreiRaum
URL:https://inklusion-warendorf.de/veranstaltung/cafe-international/2027-12-22/
LOCATION:FreiRaum\, Münsterstraße 27\, Warendorf\, NRW\, 48231\, Deutschland
CATEGORIES:FreiRaum
ATTACH;FMTTYPE=image/jpeg:https://inklusion-warendorf.de/wp-content/uploads/2024/04/cookies-1383280_1920.jpg
END:VEVENT
BEGIN:VEVENT
DTSTART;TZID=Europe/Berlin:20271229T160000
DTEND;TZID=Europe/Berlin:20271229T190000
DTSTAMP:20260419T223852
CREATED:20240624T220358Z
LAST-MODIFIED:20241218T133037Z
UID:10000306-1830096000-1830106800@inklusion-warendorf.de
SUMMARY:Café international
DESCRIPTION:Café international: Jeden Mittwoch Nachmittag im FreiRaum
URL:https://inklusion-warendorf.de/veranstaltung/cafe-international/2027-12-29/
LOCATION:FreiRaum\, Münsterstraße 27\, Warendorf\, NRW\, 48231\, Deutschland
CATEGORIES:FreiRaum
ATTACH;FMTTYPE=image/jpeg:https://inklusion-warendorf.de/wp-content/uploads/2024/04/cookies-1383280_1920.jpg
END:VEVENT
BEGIN:VEVENT
DTSTART;TZID=Europe/Berlin:20280105T160000
DTEND;TZID=Europe/Berlin:20280105T190000
DTSTAMP:20260419T223852
CREATED:20240624T220358Z
LAST-MODIFIED:20241218T133037Z
UID:10000307-1830700800-1830711600@inklusion-warendorf.de
SUMMARY:Café international
DESCRIPTION:Café international: Jeden Mittwoch Nachmittag im FreiRaum
URL:https://inklusion-warendorf.de/veranstaltung/cafe-international/2028-01-05/
LOCATION:FreiRaum\, Münsterstraße 27\, Warendorf\, NRW\, 48231\, Deutschland
CATEGORIES:FreiRaum
ATTACH;FMTTYPE=image/jpeg:https://inklusion-warendorf.de/wp-content/uploads/2024/04/cookies-1383280_1920.jpg
END:VEVENT
END:VCALENDAR