BEGIN:VCALENDAR
VERSION:2.0
PRODID:-//Wir. Alle. Füreinander. - ECPv6.15.5//NONSGML v1.0//EN
CALSCALE:GREGORIAN
METHOD:PUBLISH
X-WR-CALNAME:Wir. Alle. Füreinander.
X-ORIGINAL-URL:https://inklusion-warendorf.de
X-WR-CALDESC:Veranstaltungen für Wir. Alle. Füreinander.
REFRESH-INTERVAL;VALUE=DURATION:PT1H
X-Robots-Tag:noindex
X-PUBLISHED-TTL:PT1H
BEGIN:VTIMEZONE
TZID:Europe/Berlin
BEGIN:DAYLIGHT
TZOFFSETFROM:+0100
TZOFFSETTO:+0200
TZNAME:CEST
DTSTART:20250330T010000
END:DAYLIGHT
BEGIN:STANDARD
TZOFFSETFROM:+0200
TZOFFSETTO:+0100
TZNAME:CET
DTSTART:20251026T010000
END:STANDARD
END:VTIMEZONE
BEGIN:VEVENT
DTSTART;TZID=Europe/Berlin:20250502T100000
DTEND;TZID=Europe/Berlin:20250502T113000
DTSTAMP:20260420T072416
CREATED:20241202T083436Z
LAST-MODIFIED:20250422T121056Z
UID:10004754-1746180000-1746185400@inklusion-warendorf.de
SUMMARY:Erzählbänke - Erzähl mir was!
DESCRIPTION:Die kalten Wintermonate verbringen die Erzählbänke jeden Freitag im FreiRaum!
URL:https://inklusion-warendorf.de/veranstaltung/erzaehlbaenke-erzaehl-mir-was/2025-05-02/
LOCATION:FreiRaum\, Münsterstraße 27\, Warendorf\, NRW\, 48231\, Deutschland
CATEGORIES:FreiRaum
ATTACH;FMTTYPE=image/jpeg:https://inklusion-warendorf.de/wp-content/uploads/2024/12/erzaehlbaenke-bild-scaled.jpg
END:VEVENT
BEGIN:VEVENT
DTSTART;TZID=Europe/Berlin:20250509T100000
DTEND;TZID=Europe/Berlin:20250509T113000
DTSTAMP:20260420T072416
CREATED:20241202T083436Z
LAST-MODIFIED:20250422T121056Z
UID:10004755-1746784800-1746790200@inklusion-warendorf.de
SUMMARY:Erzählbänke - Erzähl mir was!
DESCRIPTION:Die kalten Wintermonate verbringen die Erzählbänke jeden Freitag im FreiRaum!
URL:https://inklusion-warendorf.de/veranstaltung/erzaehlbaenke-erzaehl-mir-was/2025-05-09/
LOCATION:FreiRaum\, Münsterstraße 27\, Warendorf\, NRW\, 48231\, Deutschland
CATEGORIES:FreiRaum
ATTACH;FMTTYPE=image/jpeg:https://inklusion-warendorf.de/wp-content/uploads/2024/12/erzaehlbaenke-bild-scaled.jpg
END:VEVENT
BEGIN:VEVENT
DTSTART;TZID=Europe/Berlin:20250516T100000
DTEND;TZID=Europe/Berlin:20250516T113000
DTSTAMP:20260420T072416
CREATED:20241202T083436Z
LAST-MODIFIED:20250422T121056Z
UID:10004756-1747389600-1747395000@inklusion-warendorf.de
SUMMARY:Erzählbänke - Erzähl mir was!
DESCRIPTION:Die kalten Wintermonate verbringen die Erzählbänke jeden Freitag im FreiRaum!
URL:https://inklusion-warendorf.de/veranstaltung/erzaehlbaenke-erzaehl-mir-was/2025-05-16/
LOCATION:FreiRaum\, Münsterstraße 27\, Warendorf\, NRW\, 48231\, Deutschland
CATEGORIES:FreiRaum
ATTACH;FMTTYPE=image/jpeg:https://inklusion-warendorf.de/wp-content/uploads/2024/12/erzaehlbaenke-bild-scaled.jpg
END:VEVENT
BEGIN:VEVENT
DTSTART;TZID=Europe/Berlin:20250523T100000
DTEND;TZID=Europe/Berlin:20250523T113000
DTSTAMP:20260420T072416
CREATED:20241202T083436Z
LAST-MODIFIED:20250422T121056Z
UID:10004757-1747994400-1747999800@inklusion-warendorf.de
SUMMARY:Erzählbänke - Erzähl mir was!
DESCRIPTION:Die kalten Wintermonate verbringen die Erzählbänke jeden Freitag im FreiRaum!
URL:https://inklusion-warendorf.de/veranstaltung/erzaehlbaenke-erzaehl-mir-was/2025-05-23/
LOCATION:FreiRaum\, Münsterstraße 27\, Warendorf\, NRW\, 48231\, Deutschland
CATEGORIES:FreiRaum
ATTACH;FMTTYPE=image/jpeg:https://inklusion-warendorf.de/wp-content/uploads/2024/12/erzaehlbaenke-bild-scaled.jpg
END:VEVENT
BEGIN:VEVENT
DTSTART;TZID=Europe/Berlin:20250530T100000
DTEND;TZID=Europe/Berlin:20250530T113000
DTSTAMP:20260420T072416
CREATED:20241202T083436Z
LAST-MODIFIED:20250422T121056Z
UID:10004758-1748599200-1748604600@inklusion-warendorf.de
SUMMARY:Erzählbänke - Erzähl mir was!
DESCRIPTION:Die kalten Wintermonate verbringen die Erzählbänke jeden Freitag im FreiRaum!
URL:https://inklusion-warendorf.de/veranstaltung/erzaehlbaenke-erzaehl-mir-was/2025-05-30/
LOCATION:FreiRaum\, Münsterstraße 27\, Warendorf\, NRW\, 48231\, Deutschland
CATEGORIES:FreiRaum
ATTACH;FMTTYPE=image/jpeg:https://inklusion-warendorf.de/wp-content/uploads/2024/12/erzaehlbaenke-bild-scaled.jpg
END:VEVENT
END:VCALENDAR