BEGIN:VCALENDAR
VERSION:2.0
PRODID:-//Wir. Alle. Füreinander. - ECPv6.15.5//NONSGML v1.0//EN
CALSCALE:GREGORIAN
METHOD:PUBLISH
X-ORIGINAL-URL:https://inklusion-warendorf.de
X-WR-CALDESC:Veranstaltungen für Wir. Alle. Füreinander.
REFRESH-INTERVAL;VALUE=DURATION:PT1H
X-Robots-Tag:noindex
X-PUBLISHED-TTL:PT1H
BEGIN:VTIMEZONE
TZID:Europe/Berlin
BEGIN:DAYLIGHT
TZOFFSETFROM:+0100
TZOFFSETTO:+0200
TZNAME:CEST
DTSTART:20250330T010000
END:DAYLIGHT
BEGIN:STANDARD
TZOFFSETFROM:+0200
TZOFFSETTO:+0100
TZNAME:CET
DTSTART:20251026T010000
END:STANDARD
END:VTIMEZONE
BEGIN:VEVENT
DTSTART;TZID=Europe/Berlin:20250704T100000
DTEND;TZID=Europe/Berlin:20250704T113000
DTSTAMP:20260420T040805
CREATED:20241202T083436Z
LAST-MODIFIED:20250422T121056Z
UID:10004763-1751623200-1751628600@inklusion-warendorf.de
SUMMARY:Erzählbänke - Erzähl mir was!
DESCRIPTION:Die kalten Wintermonate verbringen die Erzählbänke jeden Freitag im FreiRaum!
URL:https://inklusion-warendorf.de/veranstaltung/erzaehlbaenke-erzaehl-mir-was/2025-07-04/
LOCATION:FreiRaum\, Münsterstraße 27\, Warendorf\, NRW\, 48231\, Deutschland
CATEGORIES:FreiRaum
ATTACH;FMTTYPE=image/jpeg:https://inklusion-warendorf.de/wp-content/uploads/2024/12/erzaehlbaenke-bild-scaled.jpg
END:VEVENT
BEGIN:VEVENT
DTSTART;TZID=Europe/Berlin:20250711T100000
DTEND;TZID=Europe/Berlin:20250711T113000
DTSTAMP:20260420T040805
CREATED:20241202T083436Z
LAST-MODIFIED:20250422T121056Z
UID:10004764-1752228000-1752233400@inklusion-warendorf.de
SUMMARY:Erzählbänke - Erzähl mir was!
DESCRIPTION:Die kalten Wintermonate verbringen die Erzählbänke jeden Freitag im FreiRaum!
URL:https://inklusion-warendorf.de/veranstaltung/erzaehlbaenke-erzaehl-mir-was/2025-07-11/
LOCATION:FreiRaum\, Münsterstraße 27\, Warendorf\, NRW\, 48231\, Deutschland
CATEGORIES:FreiRaum
ATTACH;FMTTYPE=image/jpeg:https://inklusion-warendorf.de/wp-content/uploads/2024/12/erzaehlbaenke-bild-scaled.jpg
END:VEVENT
BEGIN:VEVENT
DTSTART;TZID=Europe/Berlin:20250718T100000
DTEND;TZID=Europe/Berlin:20250718T113000
DTSTAMP:20260420T040805
CREATED:20241202T083436Z
LAST-MODIFIED:20250422T121056Z
UID:10004765-1752832800-1752838200@inklusion-warendorf.de
SUMMARY:Erzählbänke - Erzähl mir was!
DESCRIPTION:Die kalten Wintermonate verbringen die Erzählbänke jeden Freitag im FreiRaum!
URL:https://inklusion-warendorf.de/veranstaltung/erzaehlbaenke-erzaehl-mir-was/2025-07-18/
LOCATION:FreiRaum\, Münsterstraße 27\, Warendorf\, NRW\, 48231\, Deutschland
CATEGORIES:FreiRaum
ATTACH;FMTTYPE=image/jpeg:https://inklusion-warendorf.de/wp-content/uploads/2024/12/erzaehlbaenke-bild-scaled.jpg
END:VEVENT
BEGIN:VEVENT
DTSTART;TZID=Europe/Berlin:20250725T100000
DTEND;TZID=Europe/Berlin:20250725T113000
DTSTAMP:20260420T040805
CREATED:20241202T083436Z
LAST-MODIFIED:20250422T121056Z
UID:10004766-1753437600-1753443000@inklusion-warendorf.de
SUMMARY:Erzählbänke - Erzähl mir was!
DESCRIPTION:Die kalten Wintermonate verbringen die Erzählbänke jeden Freitag im FreiRaum!
URL:https://inklusion-warendorf.de/veranstaltung/erzaehlbaenke-erzaehl-mir-was/2025-07-25/
LOCATION:FreiRaum\, Münsterstraße 27\, Warendorf\, NRW\, 48231\, Deutschland
CATEGORIES:FreiRaum
ATTACH;FMTTYPE=image/jpeg:https://inklusion-warendorf.de/wp-content/uploads/2024/12/erzaehlbaenke-bild-scaled.jpg
END:VEVENT
END:VCALENDAR