BEGIN:VCALENDAR
VERSION:2.0
PRODID:-//Wir. Alle. Füreinander. - ECPv6.15.5//NONSGML v1.0//EN
CALSCALE:GREGORIAN
METHOD:PUBLISH
X-ORIGINAL-URL:https://inklusion-warendorf.de
X-WR-CALDESC:Veranstaltungen für Wir. Alle. Füreinander.
REFRESH-INTERVAL;VALUE=DURATION:PT1H
X-Robots-Tag:noindex
X-PUBLISHED-TTL:PT1H
BEGIN:VTIMEZONE
TZID:Europe/Berlin
BEGIN:DAYLIGHT
TZOFFSETFROM:+0100
TZOFFSETTO:+0200
TZNAME:CEST
DTSTART:20250330T010000
END:DAYLIGHT
BEGIN:STANDARD
TZOFFSETFROM:+0200
TZOFFSETTO:+0100
TZNAME:CET
DTSTART:20251026T010000
END:STANDARD
END:VTIMEZONE
BEGIN:VEVENT
DTSTART;TZID=Europe/Berlin:20251003T100000
DTEND;TZID=Europe/Berlin:20251003T113000
DTSTAMP:20260419T225648
CREATED:20241202T083436Z
LAST-MODIFIED:20250422T121056Z
UID:10004776-1759485600-1759491000@inklusion-warendorf.de
SUMMARY:Erzählbänke - Erzähl mir was!
DESCRIPTION:Die kalten Wintermonate verbringen die Erzählbänke jeden Freitag im FreiRaum!
URL:https://inklusion-warendorf.de/veranstaltung/erzaehlbaenke-erzaehl-mir-was/2025-10-03/
LOCATION:FreiRaum\, Münsterstraße 27\, Warendorf\, NRW\, 48231\, Deutschland
CATEGORIES:FreiRaum
ATTACH;FMTTYPE=image/jpeg:https://inklusion-warendorf.de/wp-content/uploads/2024/12/erzaehlbaenke-bild-scaled.jpg
END:VEVENT
BEGIN:VEVENT
DTSTART;TZID=Europe/Berlin:20251010T100000
DTEND;TZID=Europe/Berlin:20251010T113000
DTSTAMP:20260419T225648
CREATED:20241202T083436Z
LAST-MODIFIED:20250422T121056Z
UID:10004777-1760090400-1760095800@inklusion-warendorf.de
SUMMARY:Erzählbänke - Erzähl mir was!
DESCRIPTION:Die kalten Wintermonate verbringen die Erzählbänke jeden Freitag im FreiRaum!
URL:https://inklusion-warendorf.de/veranstaltung/erzaehlbaenke-erzaehl-mir-was/2025-10-10/
LOCATION:FreiRaum\, Münsterstraße 27\, Warendorf\, NRW\, 48231\, Deutschland
CATEGORIES:FreiRaum
ATTACH;FMTTYPE=image/jpeg:https://inklusion-warendorf.de/wp-content/uploads/2024/12/erzaehlbaenke-bild-scaled.jpg
END:VEVENT
BEGIN:VEVENT
DTSTART;TZID=Europe/Berlin:20251017T100000
DTEND;TZID=Europe/Berlin:20251017T113000
DTSTAMP:20260419T225648
CREATED:20241202T083436Z
LAST-MODIFIED:20250422T121056Z
UID:10004778-1760695200-1760700600@inklusion-warendorf.de
SUMMARY:Erzählbänke - Erzähl mir was!
DESCRIPTION:Die kalten Wintermonate verbringen die Erzählbänke jeden Freitag im FreiRaum!
URL:https://inklusion-warendorf.de/veranstaltung/erzaehlbaenke-erzaehl-mir-was/2025-10-17/
LOCATION:FreiRaum\, Münsterstraße 27\, Warendorf\, NRW\, 48231\, Deutschland
CATEGORIES:FreiRaum
ATTACH;FMTTYPE=image/jpeg:https://inklusion-warendorf.de/wp-content/uploads/2024/12/erzaehlbaenke-bild-scaled.jpg
END:VEVENT
BEGIN:VEVENT
DTSTART;TZID=Europe/Berlin:20251024T100000
DTEND;TZID=Europe/Berlin:20251024T113000
DTSTAMP:20260419T225648
CREATED:20241202T083436Z
LAST-MODIFIED:20250422T121056Z
UID:10004779-1761300000-1761305400@inklusion-warendorf.de
SUMMARY:Erzählbänke - Erzähl mir was!
DESCRIPTION:Die kalten Wintermonate verbringen die Erzählbänke jeden Freitag im FreiRaum!
URL:https://inklusion-warendorf.de/veranstaltung/erzaehlbaenke-erzaehl-mir-was/2025-10-24/
LOCATION:FreiRaum\, Münsterstraße 27\, Warendorf\, NRW\, 48231\, Deutschland
CATEGORIES:FreiRaum
ATTACH;FMTTYPE=image/jpeg:https://inklusion-warendorf.de/wp-content/uploads/2024/12/erzaehlbaenke-bild-scaled.jpg
END:VEVENT
BEGIN:VEVENT
DTSTART;TZID=Europe/Berlin:20251031T100000
DTEND;TZID=Europe/Berlin:20251031T113000
DTSTAMP:20260419T225648
CREATED:20241202T083436Z
LAST-MODIFIED:20250422T121056Z
UID:10004780-1761904800-1761910200@inklusion-warendorf.de
SUMMARY:Erzählbänke - Erzähl mir was!
DESCRIPTION:Die kalten Wintermonate verbringen die Erzählbänke jeden Freitag im FreiRaum!
URL:https://inklusion-warendorf.de/veranstaltung/erzaehlbaenke-erzaehl-mir-was/2025-10-31/
LOCATION:FreiRaum\, Münsterstraße 27\, Warendorf\, NRW\, 48231\, Deutschland
CATEGORIES:FreiRaum
ATTACH;FMTTYPE=image/jpeg:https://inklusion-warendorf.de/wp-content/uploads/2024/12/erzaehlbaenke-bild-scaled.jpg
END:VEVENT
END:VCALENDAR