BEGIN:VCALENDAR
VERSION:2.0
PRODID:-//Wir. Alle. Füreinander. - ECPv6.15.5//NONSGML v1.0//EN
CALSCALE:GREGORIAN
METHOD:PUBLISH
X-ORIGINAL-URL:https://inklusion-warendorf.de
X-WR-CALDESC:Veranstaltungen für Wir. Alle. Füreinander.
REFRESH-INTERVAL;VALUE=DURATION:PT1H
X-Robots-Tag:noindex
X-PUBLISHED-TTL:PT1H
BEGIN:VTIMEZONE
TZID:Europe/Berlin
BEGIN:DAYLIGHT
TZOFFSETFROM:+0100
TZOFFSETTO:+0200
TZNAME:CEST
DTSTART:20260329T010000
END:DAYLIGHT
BEGIN:STANDARD
TZOFFSETFROM:+0200
TZOFFSETTO:+0100
TZNAME:CET
DTSTART:20261025T010000
END:STANDARD
END:VTIMEZONE
BEGIN:VEVENT
DTSTART;TZID=Europe/Berlin:20260206T100000
DTEND;TZID=Europe/Berlin:20260206T113000
DTSTAMP:20260419T160930
CREATED:20241202T083436Z
LAST-MODIFIED:20250422T121056Z
UID:10004794-1770372000-1770377400@inklusion-warendorf.de
SUMMARY:Erzählbänke - Erzähl mir was!
DESCRIPTION:Die kalten Wintermonate verbringen die Erzählbänke jeden Freitag im FreiRaum!
URL:https://inklusion-warendorf.de/veranstaltung/erzaehlbaenke-erzaehl-mir-was/2026-02-06/
LOCATION:FreiRaum\, Münsterstraße 27\, Warendorf\, NRW\, 48231\, Deutschland
CATEGORIES:FreiRaum
ATTACH;FMTTYPE=image/jpeg:https://inklusion-warendorf.de/wp-content/uploads/2024/12/erzaehlbaenke-bild-scaled.jpg
END:VEVENT
BEGIN:VEVENT
DTSTART;TZID=Europe/Berlin:20260213T100000
DTEND;TZID=Europe/Berlin:20260213T113000
DTSTAMP:20260419T160930
CREATED:20241202T083436Z
LAST-MODIFIED:20250422T121056Z
UID:10004795-1770976800-1770982200@inklusion-warendorf.de
SUMMARY:Erzählbänke - Erzähl mir was!
DESCRIPTION:Die kalten Wintermonate verbringen die Erzählbänke jeden Freitag im FreiRaum!
URL:https://inklusion-warendorf.de/veranstaltung/erzaehlbaenke-erzaehl-mir-was/2026-02-13/
LOCATION:FreiRaum\, Münsterstraße 27\, Warendorf\, NRW\, 48231\, Deutschland
CATEGORIES:FreiRaum
ATTACH;FMTTYPE=image/jpeg:https://inklusion-warendorf.de/wp-content/uploads/2024/12/erzaehlbaenke-bild-scaled.jpg
END:VEVENT
BEGIN:VEVENT
DTSTART;TZID=Europe/Berlin:20260220T100000
DTEND;TZID=Europe/Berlin:20260220T113000
DTSTAMP:20260419T160930
CREATED:20241202T083436Z
LAST-MODIFIED:20250422T121056Z
UID:10004796-1771581600-1771587000@inklusion-warendorf.de
SUMMARY:Erzählbänke - Erzähl mir was!
DESCRIPTION:Die kalten Wintermonate verbringen die Erzählbänke jeden Freitag im FreiRaum!
URL:https://inklusion-warendorf.de/veranstaltung/erzaehlbaenke-erzaehl-mir-was/2026-02-20/
LOCATION:FreiRaum\, Münsterstraße 27\, Warendorf\, NRW\, 48231\, Deutschland
CATEGORIES:FreiRaum
ATTACH;FMTTYPE=image/jpeg:https://inklusion-warendorf.de/wp-content/uploads/2024/12/erzaehlbaenke-bild-scaled.jpg
END:VEVENT
BEGIN:VEVENT
DTSTART;TZID=Europe/Berlin:20260227T100000
DTEND;TZID=Europe/Berlin:20260227T113000
DTSTAMP:20260419T160930
CREATED:20241202T083436Z
LAST-MODIFIED:20250422T121056Z
UID:10004797-1772186400-1772191800@inklusion-warendorf.de
SUMMARY:Erzählbänke - Erzähl mir was!
DESCRIPTION:Die kalten Wintermonate verbringen die Erzählbänke jeden Freitag im FreiRaum!
URL:https://inklusion-warendorf.de/veranstaltung/erzaehlbaenke-erzaehl-mir-was/2026-02-27/
LOCATION:FreiRaum\, Münsterstraße 27\, Warendorf\, NRW\, 48231\, Deutschland
CATEGORIES:FreiRaum
ATTACH;FMTTYPE=image/jpeg:https://inklusion-warendorf.de/wp-content/uploads/2024/12/erzaehlbaenke-bild-scaled.jpg
END:VEVENT
END:VCALENDAR