BEGIN:VCALENDAR
VERSION:2.0
PRODID:-//Wir. Alle. Füreinander. - ECPv6.15.5//NONSGML v1.0//EN
CALSCALE:GREGORIAN
METHOD:PUBLISH
X-ORIGINAL-URL:https://inklusion-warendorf.de
X-WR-CALDESC:Veranstaltungen für Wir. Alle. Füreinander.
REFRESH-INTERVAL;VALUE=DURATION:PT1H
X-Robots-Tag:noindex
X-PUBLISHED-TTL:PT1H
BEGIN:VTIMEZONE
TZID:Europe/Berlin
BEGIN:DAYLIGHT
TZOFFSETFROM:+0100
TZOFFSETTO:+0200
TZNAME:CEST
DTSTART:20270328T010000
END:DAYLIGHT
BEGIN:STANDARD
TZOFFSETFROM:+0200
TZOFFSETTO:+0100
TZNAME:CET
DTSTART:20271031T010000
END:STANDARD
BEGIN:DAYLIGHT
TZOFFSETFROM:+0100
TZOFFSETTO:+0200
TZNAME:CEST
DTSTART:20280326T010000
END:DAYLIGHT
BEGIN:STANDARD
TZOFFSETFROM:+0200
TZOFFSETTO:+0100
TZNAME:CET
DTSTART:20281029T010000
END:STANDARD
END:VTIMEZONE
BEGIN:VEVENT
DTSTART;TZID=Europe/Berlin:20270720T150000
DTEND;TZID=Europe/Berlin:20270720T170000
DTSTAMP:20260421T160245
CREATED:20250826T110926Z
LAST-MODIFIED:20250826T111443Z
UID:10007171-1816095600-1816102800@inklusion-warendorf.de
SUMMARY:Inklusionsbeuftragter Udo Gohl
DESCRIPTION:Ziel ist es zu vernetzen\, Ansprechpartner für Einzelne und Gruppen\,  Vereine\,  Initiativen  und Funktionsträger zu sein. \nWarendorf braucht einen Inklusionsbeauftragten\, um für das Thema und für betroffene Menschen einen Ansprechpartner zu bieten. \nInklusion braucht Gesichter!
URL:https://inklusion-warendorf.de/veranstaltung/inklusionsbeuftragter-udo-gohl/2027-07-20/
LOCATION:FreiRaum\, Münsterstraße 27\, Warendorf\, NRW\, 48231\, Deutschland
CATEGORIES:Beratung
END:VEVENT
BEGIN:VEVENT
DTSTART;TZID=Europe/Berlin:20270803T150000
DTEND;TZID=Europe/Berlin:20270803T170000
DTSTAMP:20260421T160245
CREATED:20250826T110202Z
LAST-MODIFIED:20250826T110202Z
UID:10007112-1817305200-1817312400@inklusion-warendorf.de
SUMMARY:Inklusionsbeauftragter Udo Gohl
DESCRIPTION:Ziel ist es zu vernetzen\, Ansprechpartner für Einzelne und Gruppen\,  Vereine\,  Initiativen  und Funktionsträger zu sein. \nWarendorf braucht einen Inklusionsbeauftragten\, um für das Thema und für betroffene Menschen einen Ansprechpartner zu bieten. \nInklusion braucht Gesichter!
URL:https://inklusion-warendorf.de/veranstaltung/inklusionsbeauftragter-udo-gohl/2027-08-03/
LOCATION:FreiRaum\, Münsterstraße 27\, Warendorf\, NRW\, 48231\, Deutschland
CATEGORIES:Beratung
END:VEVENT
BEGIN:VEVENT
DTSTART;TZID=Europe/Berlin:20270817T150000
DTEND;TZID=Europe/Berlin:20270817T170000
DTSTAMP:20260421T160245
CREATED:20250826T110926Z
LAST-MODIFIED:20250826T111443Z
UID:10007172-1818514800-1818522000@inklusion-warendorf.de
SUMMARY:Inklusionsbeuftragter Udo Gohl
DESCRIPTION:Ziel ist es zu vernetzen\, Ansprechpartner für Einzelne und Gruppen\,  Vereine\,  Initiativen  und Funktionsträger zu sein. \nWarendorf braucht einen Inklusionsbeauftragten\, um für das Thema und für betroffene Menschen einen Ansprechpartner zu bieten. \nInklusion braucht Gesichter!
URL:https://inklusion-warendorf.de/veranstaltung/inklusionsbeuftragter-udo-gohl/2027-08-17/
LOCATION:FreiRaum\, Münsterstraße 27\, Warendorf\, NRW\, 48231\, Deutschland
CATEGORIES:Beratung
END:VEVENT
BEGIN:VEVENT
DTSTART;TZID=Europe/Berlin:20270907T150000
DTEND;TZID=Europe/Berlin:20270907T170000
DTSTAMP:20260421T160245
CREATED:20250826T110202Z
LAST-MODIFIED:20250826T110202Z
UID:10007113-1820329200-1820336400@inklusion-warendorf.de
SUMMARY:Inklusionsbeauftragter Udo Gohl
DESCRIPTION:Ziel ist es zu vernetzen\, Ansprechpartner für Einzelne und Gruppen\,  Vereine\,  Initiativen  und Funktionsträger zu sein. \nWarendorf braucht einen Inklusionsbeauftragten\, um für das Thema und für betroffene Menschen einen Ansprechpartner zu bieten. \nInklusion braucht Gesichter!
URL:https://inklusion-warendorf.de/veranstaltung/inklusionsbeauftragter-udo-gohl/2027-09-07/
LOCATION:FreiRaum\, Münsterstraße 27\, Warendorf\, NRW\, 48231\, Deutschland
CATEGORIES:Beratung
END:VEVENT
BEGIN:VEVENT
DTSTART;TZID=Europe/Berlin:20270921T150000
DTEND;TZID=Europe/Berlin:20270921T170000
DTSTAMP:20260421T160245
CREATED:20250826T110926Z
LAST-MODIFIED:20250826T111443Z
UID:10007173-1821538800-1821546000@inklusion-warendorf.de
SUMMARY:Inklusionsbeuftragter Udo Gohl
DESCRIPTION:Ziel ist es zu vernetzen\, Ansprechpartner für Einzelne und Gruppen\,  Vereine\,  Initiativen  und Funktionsträger zu sein. \nWarendorf braucht einen Inklusionsbeauftragten\, um für das Thema und für betroffene Menschen einen Ansprechpartner zu bieten. \nInklusion braucht Gesichter!
URL:https://inklusion-warendorf.de/veranstaltung/inklusionsbeuftragter-udo-gohl/2027-09-21/
LOCATION:FreiRaum\, Münsterstraße 27\, Warendorf\, NRW\, 48231\, Deutschland
CATEGORIES:Beratung
END:VEVENT
BEGIN:VEVENT
DTSTART;TZID=Europe/Berlin:20271005T150000
DTEND;TZID=Europe/Berlin:20271005T170000
DTSTAMP:20260421T160245
CREATED:20250826T110202Z
LAST-MODIFIED:20250826T110202Z
UID:10007114-1822748400-1822755600@inklusion-warendorf.de
SUMMARY:Inklusionsbeauftragter Udo Gohl
DESCRIPTION:Ziel ist es zu vernetzen\, Ansprechpartner für Einzelne und Gruppen\,  Vereine\,  Initiativen  und Funktionsträger zu sein. \nWarendorf braucht einen Inklusionsbeauftragten\, um für das Thema und für betroffene Menschen einen Ansprechpartner zu bieten. \nInklusion braucht Gesichter!
URL:https://inklusion-warendorf.de/veranstaltung/inklusionsbeauftragter-udo-gohl/2027-10-05/
LOCATION:FreiRaum\, Münsterstraße 27\, Warendorf\, NRW\, 48231\, Deutschland
CATEGORIES:Beratung
END:VEVENT
BEGIN:VEVENT
DTSTART;TZID=Europe/Berlin:20271019T150000
DTEND;TZID=Europe/Berlin:20271019T170000
DTSTAMP:20260421T160245
CREATED:20250826T110926Z
LAST-MODIFIED:20250826T111443Z
UID:10007174-1823958000-1823965200@inklusion-warendorf.de
SUMMARY:Inklusionsbeuftragter Udo Gohl
DESCRIPTION:Ziel ist es zu vernetzen\, Ansprechpartner für Einzelne und Gruppen\,  Vereine\,  Initiativen  und Funktionsträger zu sein. \nWarendorf braucht einen Inklusionsbeauftragten\, um für das Thema und für betroffene Menschen einen Ansprechpartner zu bieten. \nInklusion braucht Gesichter!
URL:https://inklusion-warendorf.de/veranstaltung/inklusionsbeuftragter-udo-gohl/2027-10-19/
LOCATION:FreiRaum\, Münsterstraße 27\, Warendorf\, NRW\, 48231\, Deutschland
CATEGORIES:Beratung
END:VEVENT
BEGIN:VEVENT
DTSTART;TZID=Europe/Berlin:20271102T150000
DTEND;TZID=Europe/Berlin:20271102T170000
DTSTAMP:20260421T160245
CREATED:20250826T110202Z
LAST-MODIFIED:20250826T110202Z
UID:10007115-1825167600-1825174800@inklusion-warendorf.de
SUMMARY:Inklusionsbeauftragter Udo Gohl
DESCRIPTION:Ziel ist es zu vernetzen\, Ansprechpartner für Einzelne und Gruppen\,  Vereine\,  Initiativen  und Funktionsträger zu sein. \nWarendorf braucht einen Inklusionsbeauftragten\, um für das Thema und für betroffene Menschen einen Ansprechpartner zu bieten. \nInklusion braucht Gesichter!
URL:https://inklusion-warendorf.de/veranstaltung/inklusionsbeauftragter-udo-gohl/2027-11-02/
LOCATION:FreiRaum\, Münsterstraße 27\, Warendorf\, NRW\, 48231\, Deutschland
CATEGORIES:Beratung
END:VEVENT
BEGIN:VEVENT
DTSTART;TZID=Europe/Berlin:20271116T150000
DTEND;TZID=Europe/Berlin:20271116T170000
DTSTAMP:20260421T160245
CREATED:20250826T110926Z
LAST-MODIFIED:20250826T111443Z
UID:10007175-1826377200-1826384400@inklusion-warendorf.de
SUMMARY:Inklusionsbeuftragter Udo Gohl
DESCRIPTION:Ziel ist es zu vernetzen\, Ansprechpartner für Einzelne und Gruppen\,  Vereine\,  Initiativen  und Funktionsträger zu sein. \nWarendorf braucht einen Inklusionsbeauftragten\, um für das Thema und für betroffene Menschen einen Ansprechpartner zu bieten. \nInklusion braucht Gesichter!
URL:https://inklusion-warendorf.de/veranstaltung/inklusionsbeuftragter-udo-gohl/2027-11-16/
LOCATION:FreiRaum\, Münsterstraße 27\, Warendorf\, NRW\, 48231\, Deutschland
CATEGORIES:Beratung
END:VEVENT
BEGIN:VEVENT
DTSTART;TZID=Europe/Berlin:20271207T150000
DTEND;TZID=Europe/Berlin:20271207T170000
DTSTAMP:20260421T160245
CREATED:20250826T110202Z
LAST-MODIFIED:20250826T110202Z
UID:10007116-1828191600-1828198800@inklusion-warendorf.de
SUMMARY:Inklusionsbeauftragter Udo Gohl
DESCRIPTION:Ziel ist es zu vernetzen\, Ansprechpartner für Einzelne und Gruppen\,  Vereine\,  Initiativen  und Funktionsträger zu sein. \nWarendorf braucht einen Inklusionsbeauftragten\, um für das Thema und für betroffene Menschen einen Ansprechpartner zu bieten. \nInklusion braucht Gesichter!
URL:https://inklusion-warendorf.de/veranstaltung/inklusionsbeauftragter-udo-gohl/2027-12-07/
LOCATION:FreiRaum\, Münsterstraße 27\, Warendorf\, NRW\, 48231\, Deutschland
CATEGORIES:Beratung
END:VEVENT
BEGIN:VEVENT
DTSTART;TZID=Europe/Berlin:20271221T150000
DTEND;TZID=Europe/Berlin:20271221T170000
DTSTAMP:20260421T160245
CREATED:20250826T110926Z
LAST-MODIFIED:20250826T111443Z
UID:10007176-1829401200-1829408400@inklusion-warendorf.de
SUMMARY:Inklusionsbeuftragter Udo Gohl
DESCRIPTION:Ziel ist es zu vernetzen\, Ansprechpartner für Einzelne und Gruppen\,  Vereine\,  Initiativen  und Funktionsträger zu sein. \nWarendorf braucht einen Inklusionsbeauftragten\, um für das Thema und für betroffene Menschen einen Ansprechpartner zu bieten. \nInklusion braucht Gesichter!
URL:https://inklusion-warendorf.de/veranstaltung/inklusionsbeuftragter-udo-gohl/2027-12-21/
LOCATION:FreiRaum\, Münsterstraße 27\, Warendorf\, NRW\, 48231\, Deutschland
CATEGORIES:Beratung
END:VEVENT
BEGIN:VEVENT
DTSTART;TZID=Europe/Berlin:20280104T150000
DTEND;TZID=Europe/Berlin:20280104T170000
DTSTAMP:20260421T160245
CREATED:20250826T110202Z
LAST-MODIFIED:20250826T110202Z
UID:10007117-1830610800-1830618000@inklusion-warendorf.de
SUMMARY:Inklusionsbeauftragter Udo Gohl
DESCRIPTION:Ziel ist es zu vernetzen\, Ansprechpartner für Einzelne und Gruppen\,  Vereine\,  Initiativen  und Funktionsträger zu sein. \nWarendorf braucht einen Inklusionsbeauftragten\, um für das Thema und für betroffene Menschen einen Ansprechpartner zu bieten. \nInklusion braucht Gesichter!
URL:https://inklusion-warendorf.de/veranstaltung/inklusionsbeauftragter-udo-gohl/2028-01-04/
LOCATION:FreiRaum\, Münsterstraße 27\, Warendorf\, NRW\, 48231\, Deutschland
CATEGORIES:Beratung
END:VEVENT
BEGIN:VEVENT
DTSTART;TZID=Europe/Berlin:20280118T150000
DTEND;TZID=Europe/Berlin:20280118T170000
DTSTAMP:20260421T160245
CREATED:20250826T110926Z
LAST-MODIFIED:20250826T111443Z
UID:10007177-1831820400-1831827600@inklusion-warendorf.de
SUMMARY:Inklusionsbeuftragter Udo Gohl
DESCRIPTION:Ziel ist es zu vernetzen\, Ansprechpartner für Einzelne und Gruppen\,  Vereine\,  Initiativen  und Funktionsträger zu sein. \nWarendorf braucht einen Inklusionsbeauftragten\, um für das Thema und für betroffene Menschen einen Ansprechpartner zu bieten. \nInklusion braucht Gesichter!
URL:https://inklusion-warendorf.de/veranstaltung/inklusionsbeuftragter-udo-gohl/2028-01-18/
LOCATION:FreiRaum\, Münsterstraße 27\, Warendorf\, NRW\, 48231\, Deutschland
CATEGORIES:Beratung
END:VEVENT
BEGIN:VEVENT
DTSTART;TZID=Europe/Berlin:20280201T150000
DTEND;TZID=Europe/Berlin:20280201T170000
DTSTAMP:20260421T160245
CREATED:20250826T110202Z
LAST-MODIFIED:20250826T110202Z
UID:10007118-1833030000-1833037200@inklusion-warendorf.de
SUMMARY:Inklusionsbeauftragter Udo Gohl
DESCRIPTION:Ziel ist es zu vernetzen\, Ansprechpartner für Einzelne und Gruppen\,  Vereine\,  Initiativen  und Funktionsträger zu sein. \nWarendorf braucht einen Inklusionsbeauftragten\, um für das Thema und für betroffene Menschen einen Ansprechpartner zu bieten. \nInklusion braucht Gesichter!
URL:https://inklusion-warendorf.de/veranstaltung/inklusionsbeauftragter-udo-gohl/2028-02-01/
LOCATION:FreiRaum\, Münsterstraße 27\, Warendorf\, NRW\, 48231\, Deutschland
CATEGORIES:Beratung
END:VEVENT
BEGIN:VEVENT
DTSTART;TZID=Europe/Berlin:20280215T150000
DTEND;TZID=Europe/Berlin:20280215T170000
DTSTAMP:20260421T160245
CREATED:20250826T110926Z
LAST-MODIFIED:20250826T111443Z
UID:10007178-1834239600-1834246800@inklusion-warendorf.de
SUMMARY:Inklusionsbeuftragter Udo Gohl
DESCRIPTION:Ziel ist es zu vernetzen\, Ansprechpartner für Einzelne und Gruppen\,  Vereine\,  Initiativen  und Funktionsträger zu sein. \nWarendorf braucht einen Inklusionsbeauftragten\, um für das Thema und für betroffene Menschen einen Ansprechpartner zu bieten. \nInklusion braucht Gesichter!
URL:https://inklusion-warendorf.de/veranstaltung/inklusionsbeuftragter-udo-gohl/2028-02-15/
LOCATION:FreiRaum\, Münsterstraße 27\, Warendorf\, NRW\, 48231\, Deutschland
CATEGORIES:Beratung
END:VEVENT
BEGIN:VEVENT
DTSTART;TZID=Europe/Berlin:20280307T150000
DTEND;TZID=Europe/Berlin:20280307T170000
DTSTAMP:20260421T160245
CREATED:20250826T110202Z
LAST-MODIFIED:20250826T110202Z
UID:10007119-1836054000-1836061200@inklusion-warendorf.de
SUMMARY:Inklusionsbeauftragter Udo Gohl
DESCRIPTION:Ziel ist es zu vernetzen\, Ansprechpartner für Einzelne und Gruppen\,  Vereine\,  Initiativen  und Funktionsträger zu sein. \nWarendorf braucht einen Inklusionsbeauftragten\, um für das Thema und für betroffene Menschen einen Ansprechpartner zu bieten. \nInklusion braucht Gesichter!
URL:https://inklusion-warendorf.de/veranstaltung/inklusionsbeauftragter-udo-gohl/2028-03-07/
LOCATION:FreiRaum\, Münsterstraße 27\, Warendorf\, NRW\, 48231\, Deutschland
CATEGORIES:Beratung
END:VEVENT
BEGIN:VEVENT
DTSTART;TZID=Europe/Berlin:20280321T150000
DTEND;TZID=Europe/Berlin:20280321T170000
DTSTAMP:20260421T160245
CREATED:20250826T110926Z
LAST-MODIFIED:20250826T111443Z
UID:10007179-1837263600-1837270800@inklusion-warendorf.de
SUMMARY:Inklusionsbeuftragter Udo Gohl
DESCRIPTION:Ziel ist es zu vernetzen\, Ansprechpartner für Einzelne und Gruppen\,  Vereine\,  Initiativen  und Funktionsträger zu sein. \nWarendorf braucht einen Inklusionsbeauftragten\, um für das Thema und für betroffene Menschen einen Ansprechpartner zu bieten. \nInklusion braucht Gesichter!
URL:https://inklusion-warendorf.de/veranstaltung/inklusionsbeuftragter-udo-gohl/2028-03-21/
LOCATION:FreiRaum\, Münsterstraße 27\, Warendorf\, NRW\, 48231\, Deutschland
CATEGORIES:Beratung
END:VEVENT
BEGIN:VEVENT
DTSTART;TZID=Europe/Berlin:20280404T150000
DTEND;TZID=Europe/Berlin:20280404T170000
DTSTAMP:20260421T160245
CREATED:20250826T110202Z
LAST-MODIFIED:20250826T110202Z
UID:10007120-1838473200-1838480400@inklusion-warendorf.de
SUMMARY:Inklusionsbeauftragter Udo Gohl
DESCRIPTION:Ziel ist es zu vernetzen\, Ansprechpartner für Einzelne und Gruppen\,  Vereine\,  Initiativen  und Funktionsträger zu sein. \nWarendorf braucht einen Inklusionsbeauftragten\, um für das Thema und für betroffene Menschen einen Ansprechpartner zu bieten. \nInklusion braucht Gesichter!
URL:https://inklusion-warendorf.de/veranstaltung/inklusionsbeauftragter-udo-gohl/2028-04-04/
LOCATION:FreiRaum\, Münsterstraße 27\, Warendorf\, NRW\, 48231\, Deutschland
CATEGORIES:Beratung
END:VEVENT
BEGIN:VEVENT
DTSTART;TZID=Europe/Berlin:20280418T150000
DTEND;TZID=Europe/Berlin:20280418T170000
DTSTAMP:20260421T160245
CREATED:20250826T110926Z
LAST-MODIFIED:20250826T111443Z
UID:10007180-1839682800-1839690000@inklusion-warendorf.de
SUMMARY:Inklusionsbeuftragter Udo Gohl
DESCRIPTION:Ziel ist es zu vernetzen\, Ansprechpartner für Einzelne und Gruppen\,  Vereine\,  Initiativen  und Funktionsträger zu sein. \nWarendorf braucht einen Inklusionsbeauftragten\, um für das Thema und für betroffene Menschen einen Ansprechpartner zu bieten. \nInklusion braucht Gesichter!
URL:https://inklusion-warendorf.de/veranstaltung/inklusionsbeuftragter-udo-gohl/2028-04-18/
LOCATION:FreiRaum\, Münsterstraße 27\, Warendorf\, NRW\, 48231\, Deutschland
CATEGORIES:Beratung
END:VEVENT
BEGIN:VEVENT
DTSTART;TZID=Europe/Berlin:20280502T150000
DTEND;TZID=Europe/Berlin:20280502T170000
DTSTAMP:20260421T160245
CREATED:20250826T110202Z
LAST-MODIFIED:20250826T110202Z
UID:10007121-1840892400-1840899600@inklusion-warendorf.de
SUMMARY:Inklusionsbeauftragter Udo Gohl
DESCRIPTION:Ziel ist es zu vernetzen\, Ansprechpartner für Einzelne und Gruppen\,  Vereine\,  Initiativen  und Funktionsträger zu sein. \nWarendorf braucht einen Inklusionsbeauftragten\, um für das Thema und für betroffene Menschen einen Ansprechpartner zu bieten. \nInklusion braucht Gesichter!
URL:https://inklusion-warendorf.de/veranstaltung/inklusionsbeauftragter-udo-gohl/2028-05-02/
LOCATION:FreiRaum\, Münsterstraße 27\, Warendorf\, NRW\, 48231\, Deutschland
CATEGORIES:Beratung
END:VEVENT
BEGIN:VEVENT
DTSTART;TZID=Europe/Berlin:20280516T150000
DTEND;TZID=Europe/Berlin:20280516T170000
DTSTAMP:20260421T160245
CREATED:20250826T110926Z
LAST-MODIFIED:20250826T111443Z
UID:10007181-1842102000-1842109200@inklusion-warendorf.de
SUMMARY:Inklusionsbeuftragter Udo Gohl
DESCRIPTION:Ziel ist es zu vernetzen\, Ansprechpartner für Einzelne und Gruppen\,  Vereine\,  Initiativen  und Funktionsträger zu sein. \nWarendorf braucht einen Inklusionsbeauftragten\, um für das Thema und für betroffene Menschen einen Ansprechpartner zu bieten. \nInklusion braucht Gesichter!
URL:https://inklusion-warendorf.de/veranstaltung/inklusionsbeuftragter-udo-gohl/2028-05-16/
LOCATION:FreiRaum\, Münsterstraße 27\, Warendorf\, NRW\, 48231\, Deutschland
CATEGORIES:Beratung
END:VEVENT
BEGIN:VEVENT
DTSTART;TZID=Europe/Berlin:20280606T150000
DTEND;TZID=Europe/Berlin:20280606T170000
DTSTAMP:20260421T160245
CREATED:20250826T110202Z
LAST-MODIFIED:20250826T110202Z
UID:10007122-1843916400-1843923600@inklusion-warendorf.de
SUMMARY:Inklusionsbeauftragter Udo Gohl
DESCRIPTION:Ziel ist es zu vernetzen\, Ansprechpartner für Einzelne und Gruppen\,  Vereine\,  Initiativen  und Funktionsträger zu sein. \nWarendorf braucht einen Inklusionsbeauftragten\, um für das Thema und für betroffene Menschen einen Ansprechpartner zu bieten. \nInklusion braucht Gesichter!
URL:https://inklusion-warendorf.de/veranstaltung/inklusionsbeauftragter-udo-gohl/2028-06-06/
LOCATION:FreiRaum\, Münsterstraße 27\, Warendorf\, NRW\, 48231\, Deutschland
CATEGORIES:Beratung
END:VEVENT
BEGIN:VEVENT
DTSTART;TZID=Europe/Berlin:20280620T150000
DTEND;TZID=Europe/Berlin:20280620T170000
DTSTAMP:20260421T160245
CREATED:20250826T110926Z
LAST-MODIFIED:20250826T111443Z
UID:10007182-1845126000-1845133200@inklusion-warendorf.de
SUMMARY:Inklusionsbeuftragter Udo Gohl
DESCRIPTION:Ziel ist es zu vernetzen\, Ansprechpartner für Einzelne und Gruppen\,  Vereine\,  Initiativen  und Funktionsträger zu sein. \nWarendorf braucht einen Inklusionsbeauftragten\, um für das Thema und für betroffene Menschen einen Ansprechpartner zu bieten. \nInklusion braucht Gesichter!
URL:https://inklusion-warendorf.de/veranstaltung/inklusionsbeuftragter-udo-gohl/2028-06-20/
LOCATION:FreiRaum\, Münsterstraße 27\, Warendorf\, NRW\, 48231\, Deutschland
CATEGORIES:Beratung
END:VEVENT
BEGIN:VEVENT
DTSTART;TZID=Europe/Berlin:20280704T150000
DTEND;TZID=Europe/Berlin:20280704T170000
DTSTAMP:20260421T160245
CREATED:20250826T110202Z
LAST-MODIFIED:20250826T110202Z
UID:10007123-1846335600-1846342800@inklusion-warendorf.de
SUMMARY:Inklusionsbeauftragter Udo Gohl
DESCRIPTION:Ziel ist es zu vernetzen\, Ansprechpartner für Einzelne und Gruppen\,  Vereine\,  Initiativen  und Funktionsträger zu sein. \nWarendorf braucht einen Inklusionsbeauftragten\, um für das Thema und für betroffene Menschen einen Ansprechpartner zu bieten. \nInklusion braucht Gesichter!
URL:https://inklusion-warendorf.de/veranstaltung/inklusionsbeauftragter-udo-gohl/2028-07-04/
LOCATION:FreiRaum\, Münsterstraße 27\, Warendorf\, NRW\, 48231\, Deutschland
CATEGORIES:Beratung
END:VEVENT
BEGIN:VEVENT
DTSTART;TZID=Europe/Berlin:20280718T150000
DTEND;TZID=Europe/Berlin:20280718T170000
DTSTAMP:20260421T160245
CREATED:20250826T110926Z
LAST-MODIFIED:20250826T111443Z
UID:10007183-1847545200-1847552400@inklusion-warendorf.de
SUMMARY:Inklusionsbeuftragter Udo Gohl
DESCRIPTION:Ziel ist es zu vernetzen\, Ansprechpartner für Einzelne und Gruppen\,  Vereine\,  Initiativen  und Funktionsträger zu sein. \nWarendorf braucht einen Inklusionsbeauftragten\, um für das Thema und für betroffene Menschen einen Ansprechpartner zu bieten. \nInklusion braucht Gesichter!
URL:https://inklusion-warendorf.de/veranstaltung/inklusionsbeuftragter-udo-gohl/2028-07-18/
LOCATION:FreiRaum\, Münsterstraße 27\, Warendorf\, NRW\, 48231\, Deutschland
CATEGORIES:Beratung
END:VEVENT
BEGIN:VEVENT
DTSTART;TZID=Europe/Berlin:20280801T150000
DTEND;TZID=Europe/Berlin:20280801T170000
DTSTAMP:20260421T160245
CREATED:20250826T110202Z
LAST-MODIFIED:20250826T110202Z
UID:10007124-1848754800-1848762000@inklusion-warendorf.de
SUMMARY:Inklusionsbeauftragter Udo Gohl
DESCRIPTION:Ziel ist es zu vernetzen\, Ansprechpartner für Einzelne und Gruppen\,  Vereine\,  Initiativen  und Funktionsträger zu sein. \nWarendorf braucht einen Inklusionsbeauftragten\, um für das Thema und für betroffene Menschen einen Ansprechpartner zu bieten. \nInklusion braucht Gesichter!
URL:https://inklusion-warendorf.de/veranstaltung/inklusionsbeauftragter-udo-gohl/2028-08-01/
LOCATION:FreiRaum\, Münsterstraße 27\, Warendorf\, NRW\, 48231\, Deutschland
CATEGORIES:Beratung
END:VEVENT
BEGIN:VEVENT
DTSTART;TZID=Europe/Berlin:20280815T150000
DTEND;TZID=Europe/Berlin:20280815T170000
DTSTAMP:20260421T160245
CREATED:20250826T110926Z
LAST-MODIFIED:20250826T111443Z
UID:10007184-1849964400-1849971600@inklusion-warendorf.de
SUMMARY:Inklusionsbeuftragter Udo Gohl
DESCRIPTION:Ziel ist es zu vernetzen\, Ansprechpartner für Einzelne und Gruppen\,  Vereine\,  Initiativen  und Funktionsträger zu sein. \nWarendorf braucht einen Inklusionsbeauftragten\, um für das Thema und für betroffene Menschen einen Ansprechpartner zu bieten. \nInklusion braucht Gesichter!
URL:https://inklusion-warendorf.de/veranstaltung/inklusionsbeuftragter-udo-gohl/2028-08-15/
LOCATION:FreiRaum\, Münsterstraße 27\, Warendorf\, NRW\, 48231\, Deutschland
CATEGORIES:Beratung
END:VEVENT
BEGIN:VEVENT
DTSTART;TZID=Europe/Berlin:20280905T150000
DTEND;TZID=Europe/Berlin:20280905T170000
DTSTAMP:20260421T160245
CREATED:20250826T110202Z
LAST-MODIFIED:20250826T110202Z
UID:10007125-1851778800-1851786000@inklusion-warendorf.de
SUMMARY:Inklusionsbeauftragter Udo Gohl
DESCRIPTION:Ziel ist es zu vernetzen\, Ansprechpartner für Einzelne und Gruppen\,  Vereine\,  Initiativen  und Funktionsträger zu sein. \nWarendorf braucht einen Inklusionsbeauftragten\, um für das Thema und für betroffene Menschen einen Ansprechpartner zu bieten. \nInklusion braucht Gesichter!
URL:https://inklusion-warendorf.de/veranstaltung/inklusionsbeauftragter-udo-gohl/2028-09-05/
LOCATION:FreiRaum\, Münsterstraße 27\, Warendorf\, NRW\, 48231\, Deutschland
CATEGORIES:Beratung
END:VEVENT
BEGIN:VEVENT
DTSTART;TZID=Europe/Berlin:20280919T150000
DTEND;TZID=Europe/Berlin:20280919T170000
DTSTAMP:20260421T160245
CREATED:20250826T110926Z
LAST-MODIFIED:20250826T111443Z
UID:10007185-1852988400-1852995600@inklusion-warendorf.de
SUMMARY:Inklusionsbeuftragter Udo Gohl
DESCRIPTION:Ziel ist es zu vernetzen\, Ansprechpartner für Einzelne und Gruppen\,  Vereine\,  Initiativen  und Funktionsträger zu sein. \nWarendorf braucht einen Inklusionsbeauftragten\, um für das Thema und für betroffene Menschen einen Ansprechpartner zu bieten. \nInklusion braucht Gesichter!
URL:https://inklusion-warendorf.de/veranstaltung/inklusionsbeuftragter-udo-gohl/2028-09-19/
LOCATION:FreiRaum\, Münsterstraße 27\, Warendorf\, NRW\, 48231\, Deutschland
CATEGORIES:Beratung
END:VEVENT
BEGIN:VEVENT
DTSTART;TZID=Europe/Berlin:20281003T150000
DTEND;TZID=Europe/Berlin:20281003T170000
DTSTAMP:20260421T160245
CREATED:20250826T110202Z
LAST-MODIFIED:20250826T110202Z
UID:10007126-1854198000-1854205200@inklusion-warendorf.de
SUMMARY:Inklusionsbeauftragter Udo Gohl
DESCRIPTION:Ziel ist es zu vernetzen\, Ansprechpartner für Einzelne und Gruppen\,  Vereine\,  Initiativen  und Funktionsträger zu sein. \nWarendorf braucht einen Inklusionsbeauftragten\, um für das Thema und für betroffene Menschen einen Ansprechpartner zu bieten. \nInklusion braucht Gesichter!
URL:https://inklusion-warendorf.de/veranstaltung/inklusionsbeauftragter-udo-gohl/2028-10-03/
LOCATION:FreiRaum\, Münsterstraße 27\, Warendorf\, NRW\, 48231\, Deutschland
CATEGORIES:Beratung
END:VEVENT
END:VCALENDAR