BEGIN:VCALENDAR
VERSION:2.0
PRODID:-//Wir. Alle. Füreinander. - ECPv6.15.5//NONSGML v1.0//EN
CALSCALE:GREGORIAN
METHOD:PUBLISH
X-WR-CALNAME:Wir. Alle. Füreinander.
X-ORIGINAL-URL:https://inklusion-warendorf.de
X-WR-CALDESC:Veranstaltungen für Wir. Alle. Füreinander.
REFRESH-INTERVAL;VALUE=DURATION:PT1H
X-Robots-Tag:noindex
X-PUBLISHED-TTL:PT1H
BEGIN:VTIMEZONE
TZID:Europe/Berlin
BEGIN:DAYLIGHT
TZOFFSETFROM:+0100
TZOFFSETTO:+0200
TZNAME:CEST
DTSTART:20280326T010000
END:DAYLIGHT
BEGIN:STANDARD
TZOFFSETFROM:+0200
TZOFFSETTO:+0100
TZNAME:CET
DTSTART:20281029T010000
END:STANDARD
BEGIN:DAYLIGHT
TZOFFSETFROM:+0100
TZOFFSETTO:+0200
TZNAME:CEST
DTSTART:20290325T010000
END:DAYLIGHT
BEGIN:STANDARD
TZOFFSETFROM:+0200
TZOFFSETTO:+0100
TZNAME:CET
DTSTART:20291028T010000
END:STANDARD
END:VTIMEZONE
BEGIN:VEVENT
DTSTART;TZID=Europe/Berlin:20280606T150000
DTEND;TZID=Europe/Berlin:20280606T170000
DTSTAMP:20260421T191130
CREATED:20250826T110202Z
LAST-MODIFIED:20250826T110202Z
UID:10007122-1843916400-1843923600@inklusion-warendorf.de
SUMMARY:Inklusionsbeauftragter Udo Gohl
DESCRIPTION:Ziel ist es zu vernetzen\, Ansprechpartner für Einzelne und Gruppen\,  Vereine\,  Initiativen  und Funktionsträger zu sein. \nWarendorf braucht einen Inklusionsbeauftragten\, um für das Thema und für betroffene Menschen einen Ansprechpartner zu bieten. \nInklusion braucht Gesichter!
URL:https://inklusion-warendorf.de/veranstaltung/inklusionsbeauftragter-udo-gohl/2028-06-06/
LOCATION:FreiRaum\, Münsterstraße 27\, Warendorf\, NRW\, 48231\, Deutschland
CATEGORIES:Beratung
END:VEVENT
BEGIN:VEVENT
DTSTART;TZID=Europe/Berlin:20280620T150000
DTEND;TZID=Europe/Berlin:20280620T170000
DTSTAMP:20260421T191130
CREATED:20250826T110926Z
LAST-MODIFIED:20250826T111443Z
UID:10007182-1845126000-1845133200@inklusion-warendorf.de
SUMMARY:Inklusionsbeuftragter Udo Gohl
DESCRIPTION:Ziel ist es zu vernetzen\, Ansprechpartner für Einzelne und Gruppen\,  Vereine\,  Initiativen  und Funktionsträger zu sein. \nWarendorf braucht einen Inklusionsbeauftragten\, um für das Thema und für betroffene Menschen einen Ansprechpartner zu bieten. \nInklusion braucht Gesichter!
URL:https://inklusion-warendorf.de/veranstaltung/inklusionsbeuftragter-udo-gohl/2028-06-20/
LOCATION:FreiRaum\, Münsterstraße 27\, Warendorf\, NRW\, 48231\, Deutschland
CATEGORIES:Beratung
END:VEVENT
BEGIN:VEVENT
DTSTART;TZID=Europe/Berlin:20280704T150000
DTEND;TZID=Europe/Berlin:20280704T170000
DTSTAMP:20260421T191130
CREATED:20250826T110202Z
LAST-MODIFIED:20250826T110202Z
UID:10007123-1846335600-1846342800@inklusion-warendorf.de
SUMMARY:Inklusionsbeauftragter Udo Gohl
DESCRIPTION:Ziel ist es zu vernetzen\, Ansprechpartner für Einzelne und Gruppen\,  Vereine\,  Initiativen  und Funktionsträger zu sein. \nWarendorf braucht einen Inklusionsbeauftragten\, um für das Thema und für betroffene Menschen einen Ansprechpartner zu bieten. \nInklusion braucht Gesichter!
URL:https://inklusion-warendorf.de/veranstaltung/inklusionsbeauftragter-udo-gohl/2028-07-04/
LOCATION:FreiRaum\, Münsterstraße 27\, Warendorf\, NRW\, 48231\, Deutschland
CATEGORIES:Beratung
END:VEVENT
BEGIN:VEVENT
DTSTART;TZID=Europe/Berlin:20280718T150000
DTEND;TZID=Europe/Berlin:20280718T170000
DTSTAMP:20260421T191130
CREATED:20250826T110926Z
LAST-MODIFIED:20250826T111443Z
UID:10007183-1847545200-1847552400@inklusion-warendorf.de
SUMMARY:Inklusionsbeuftragter Udo Gohl
DESCRIPTION:Ziel ist es zu vernetzen\, Ansprechpartner für Einzelne und Gruppen\,  Vereine\,  Initiativen  und Funktionsträger zu sein. \nWarendorf braucht einen Inklusionsbeauftragten\, um für das Thema und für betroffene Menschen einen Ansprechpartner zu bieten. \nInklusion braucht Gesichter!
URL:https://inklusion-warendorf.de/veranstaltung/inklusionsbeuftragter-udo-gohl/2028-07-18/
LOCATION:FreiRaum\, Münsterstraße 27\, Warendorf\, NRW\, 48231\, Deutschland
CATEGORIES:Beratung
END:VEVENT
BEGIN:VEVENT
DTSTART;TZID=Europe/Berlin:20280801T150000
DTEND;TZID=Europe/Berlin:20280801T170000
DTSTAMP:20260421T191130
CREATED:20250826T110202Z
LAST-MODIFIED:20250826T110202Z
UID:10007124-1848754800-1848762000@inklusion-warendorf.de
SUMMARY:Inklusionsbeauftragter Udo Gohl
DESCRIPTION:Ziel ist es zu vernetzen\, Ansprechpartner für Einzelne und Gruppen\,  Vereine\,  Initiativen  und Funktionsträger zu sein. \nWarendorf braucht einen Inklusionsbeauftragten\, um für das Thema und für betroffene Menschen einen Ansprechpartner zu bieten. \nInklusion braucht Gesichter!
URL:https://inklusion-warendorf.de/veranstaltung/inklusionsbeauftragter-udo-gohl/2028-08-01/
LOCATION:FreiRaum\, Münsterstraße 27\, Warendorf\, NRW\, 48231\, Deutschland
CATEGORIES:Beratung
END:VEVENT
BEGIN:VEVENT
DTSTART;TZID=Europe/Berlin:20280815T150000
DTEND;TZID=Europe/Berlin:20280815T170000
DTSTAMP:20260421T191130
CREATED:20250826T110926Z
LAST-MODIFIED:20250826T111443Z
UID:10007184-1849964400-1849971600@inklusion-warendorf.de
SUMMARY:Inklusionsbeuftragter Udo Gohl
DESCRIPTION:Ziel ist es zu vernetzen\, Ansprechpartner für Einzelne und Gruppen\,  Vereine\,  Initiativen  und Funktionsträger zu sein. \nWarendorf braucht einen Inklusionsbeauftragten\, um für das Thema und für betroffene Menschen einen Ansprechpartner zu bieten. \nInklusion braucht Gesichter!
URL:https://inklusion-warendorf.de/veranstaltung/inklusionsbeuftragter-udo-gohl/2028-08-15/
LOCATION:FreiRaum\, Münsterstraße 27\, Warendorf\, NRW\, 48231\, Deutschland
CATEGORIES:Beratung
END:VEVENT
BEGIN:VEVENT
DTSTART;TZID=Europe/Berlin:20280905T150000
DTEND;TZID=Europe/Berlin:20280905T170000
DTSTAMP:20260421T191130
CREATED:20250826T110202Z
LAST-MODIFIED:20250826T110202Z
UID:10007125-1851778800-1851786000@inklusion-warendorf.de
SUMMARY:Inklusionsbeauftragter Udo Gohl
DESCRIPTION:Ziel ist es zu vernetzen\, Ansprechpartner für Einzelne und Gruppen\,  Vereine\,  Initiativen  und Funktionsträger zu sein. \nWarendorf braucht einen Inklusionsbeauftragten\, um für das Thema und für betroffene Menschen einen Ansprechpartner zu bieten. \nInklusion braucht Gesichter!
URL:https://inklusion-warendorf.de/veranstaltung/inklusionsbeauftragter-udo-gohl/2028-09-05/
LOCATION:FreiRaum\, Münsterstraße 27\, Warendorf\, NRW\, 48231\, Deutschland
CATEGORIES:Beratung
END:VEVENT
BEGIN:VEVENT
DTSTART;TZID=Europe/Berlin:20280919T150000
DTEND;TZID=Europe/Berlin:20280919T170000
DTSTAMP:20260421T191130
CREATED:20250826T110926Z
LAST-MODIFIED:20250826T111443Z
UID:10007185-1852988400-1852995600@inklusion-warendorf.de
SUMMARY:Inklusionsbeuftragter Udo Gohl
DESCRIPTION:Ziel ist es zu vernetzen\, Ansprechpartner für Einzelne und Gruppen\,  Vereine\,  Initiativen  und Funktionsträger zu sein. \nWarendorf braucht einen Inklusionsbeauftragten\, um für das Thema und für betroffene Menschen einen Ansprechpartner zu bieten. \nInklusion braucht Gesichter!
URL:https://inklusion-warendorf.de/veranstaltung/inklusionsbeuftragter-udo-gohl/2028-09-19/
LOCATION:FreiRaum\, Münsterstraße 27\, Warendorf\, NRW\, 48231\, Deutschland
CATEGORIES:Beratung
END:VEVENT
BEGIN:VEVENT
DTSTART;TZID=Europe/Berlin:20281003T150000
DTEND;TZID=Europe/Berlin:20281003T170000
DTSTAMP:20260421T191130
CREATED:20250826T110202Z
LAST-MODIFIED:20250826T110202Z
UID:10007126-1854198000-1854205200@inklusion-warendorf.de
SUMMARY:Inklusionsbeauftragter Udo Gohl
DESCRIPTION:Ziel ist es zu vernetzen\, Ansprechpartner für Einzelne und Gruppen\,  Vereine\,  Initiativen  und Funktionsträger zu sein. \nWarendorf braucht einen Inklusionsbeauftragten\, um für das Thema und für betroffene Menschen einen Ansprechpartner zu bieten. \nInklusion braucht Gesichter!
URL:https://inklusion-warendorf.de/veranstaltung/inklusionsbeauftragter-udo-gohl/2028-10-03/
LOCATION:FreiRaum\, Münsterstraße 27\, Warendorf\, NRW\, 48231\, Deutschland
CATEGORIES:Beratung
END:VEVENT
BEGIN:VEVENT
DTSTART;TZID=Europe/Berlin:20281017T150000
DTEND;TZID=Europe/Berlin:20281017T170000
DTSTAMP:20260421T191130
CREATED:20250826T110926Z
LAST-MODIFIED:20250826T111443Z
UID:10007186-1855407600-1855414800@inklusion-warendorf.de
SUMMARY:Inklusionsbeuftragter Udo Gohl
DESCRIPTION:Ziel ist es zu vernetzen\, Ansprechpartner für Einzelne und Gruppen\,  Vereine\,  Initiativen  und Funktionsträger zu sein. \nWarendorf braucht einen Inklusionsbeauftragten\, um für das Thema und für betroffene Menschen einen Ansprechpartner zu bieten. \nInklusion braucht Gesichter!
URL:https://inklusion-warendorf.de/veranstaltung/inklusionsbeuftragter-udo-gohl/2028-10-17/
LOCATION:FreiRaum\, Münsterstraße 27\, Warendorf\, NRW\, 48231\, Deutschland
CATEGORIES:Beratung
END:VEVENT
BEGIN:VEVENT
DTSTART;TZID=Europe/Berlin:20281107T150000
DTEND;TZID=Europe/Berlin:20281107T170000
DTSTAMP:20260421T191130
CREATED:20250826T110202Z
LAST-MODIFIED:20250826T110202Z
UID:10007127-1857222000-1857229200@inklusion-warendorf.de
SUMMARY:Inklusionsbeauftragter Udo Gohl
DESCRIPTION:Ziel ist es zu vernetzen\, Ansprechpartner für Einzelne und Gruppen\,  Vereine\,  Initiativen  und Funktionsträger zu sein. \nWarendorf braucht einen Inklusionsbeauftragten\, um für das Thema und für betroffene Menschen einen Ansprechpartner zu bieten. \nInklusion braucht Gesichter!
URL:https://inklusion-warendorf.de/veranstaltung/inklusionsbeauftragter-udo-gohl/2028-11-07/
LOCATION:FreiRaum\, Münsterstraße 27\, Warendorf\, NRW\, 48231\, Deutschland
CATEGORIES:Beratung
END:VEVENT
BEGIN:VEVENT
DTSTART;TZID=Europe/Berlin:20281121T150000
DTEND;TZID=Europe/Berlin:20281121T170000
DTSTAMP:20260421T191130
CREATED:20250826T110926Z
LAST-MODIFIED:20250826T111443Z
UID:10007187-1858431600-1858438800@inklusion-warendorf.de
SUMMARY:Inklusionsbeuftragter Udo Gohl
DESCRIPTION:Ziel ist es zu vernetzen\, Ansprechpartner für Einzelne und Gruppen\,  Vereine\,  Initiativen  und Funktionsträger zu sein. \nWarendorf braucht einen Inklusionsbeauftragten\, um für das Thema und für betroffene Menschen einen Ansprechpartner zu bieten. \nInklusion braucht Gesichter!
URL:https://inklusion-warendorf.de/veranstaltung/inklusionsbeuftragter-udo-gohl/2028-11-21/
LOCATION:FreiRaum\, Münsterstraße 27\, Warendorf\, NRW\, 48231\, Deutschland
CATEGORIES:Beratung
END:VEVENT
BEGIN:VEVENT
DTSTART;TZID=Europe/Berlin:20281205T150000
DTEND;TZID=Europe/Berlin:20281205T170000
DTSTAMP:20260421T191130
CREATED:20250826T110202Z
LAST-MODIFIED:20250826T110202Z
UID:10007128-1859641200-1859648400@inklusion-warendorf.de
SUMMARY:Inklusionsbeauftragter Udo Gohl
DESCRIPTION:Ziel ist es zu vernetzen\, Ansprechpartner für Einzelne und Gruppen\,  Vereine\,  Initiativen  und Funktionsträger zu sein. \nWarendorf braucht einen Inklusionsbeauftragten\, um für das Thema und für betroffene Menschen einen Ansprechpartner zu bieten. \nInklusion braucht Gesichter!
URL:https://inklusion-warendorf.de/veranstaltung/inklusionsbeauftragter-udo-gohl/2028-12-05/
LOCATION:FreiRaum\, Münsterstraße 27\, Warendorf\, NRW\, 48231\, Deutschland
CATEGORIES:Beratung
END:VEVENT
BEGIN:VEVENT
DTSTART;TZID=Europe/Berlin:20281219T150000
DTEND;TZID=Europe/Berlin:20281219T170000
DTSTAMP:20260421T191130
CREATED:20250826T110926Z
LAST-MODIFIED:20250826T111443Z
UID:10007188-1860850800-1860858000@inklusion-warendorf.de
SUMMARY:Inklusionsbeuftragter Udo Gohl
DESCRIPTION:Ziel ist es zu vernetzen\, Ansprechpartner für Einzelne und Gruppen\,  Vereine\,  Initiativen  und Funktionsträger zu sein. \nWarendorf braucht einen Inklusionsbeauftragten\, um für das Thema und für betroffene Menschen einen Ansprechpartner zu bieten. \nInklusion braucht Gesichter!
URL:https://inklusion-warendorf.de/veranstaltung/inklusionsbeuftragter-udo-gohl/2028-12-19/
LOCATION:FreiRaum\, Münsterstraße 27\, Warendorf\, NRW\, 48231\, Deutschland
CATEGORIES:Beratung
END:VEVENT
BEGIN:VEVENT
DTSTART;TZID=Europe/Berlin:20290102T150000
DTEND;TZID=Europe/Berlin:20290102T170000
DTSTAMP:20260421T191130
CREATED:20250826T110202Z
LAST-MODIFIED:20250826T110202Z
UID:10007129-1862060400-1862067600@inklusion-warendorf.de
SUMMARY:Inklusionsbeauftragter Udo Gohl
DESCRIPTION:Ziel ist es zu vernetzen\, Ansprechpartner für Einzelne und Gruppen\,  Vereine\,  Initiativen  und Funktionsträger zu sein. \nWarendorf braucht einen Inklusionsbeauftragten\, um für das Thema und für betroffene Menschen einen Ansprechpartner zu bieten. \nInklusion braucht Gesichter!
URL:https://inklusion-warendorf.de/veranstaltung/inklusionsbeauftragter-udo-gohl/2029-01-02/
LOCATION:FreiRaum\, Münsterstraße 27\, Warendorf\, NRW\, 48231\, Deutschland
CATEGORIES:Beratung
END:VEVENT
BEGIN:VEVENT
DTSTART;TZID=Europe/Berlin:20290116T150000
DTEND;TZID=Europe/Berlin:20290116T170000
DTSTAMP:20260421T191130
CREATED:20250826T110926Z
LAST-MODIFIED:20250826T111443Z
UID:10007189-1863270000-1863277200@inklusion-warendorf.de
SUMMARY:Inklusionsbeuftragter Udo Gohl
DESCRIPTION:Ziel ist es zu vernetzen\, Ansprechpartner für Einzelne und Gruppen\,  Vereine\,  Initiativen  und Funktionsträger zu sein. \nWarendorf braucht einen Inklusionsbeauftragten\, um für das Thema und für betroffene Menschen einen Ansprechpartner zu bieten. \nInklusion braucht Gesichter!
URL:https://inklusion-warendorf.de/veranstaltung/inklusionsbeuftragter-udo-gohl/2029-01-16/
LOCATION:FreiRaum\, Münsterstraße 27\, Warendorf\, NRW\, 48231\, Deutschland
CATEGORIES:Beratung
END:VEVENT
BEGIN:VEVENT
DTSTART;TZID=Europe/Berlin:20290206T150000
DTEND;TZID=Europe/Berlin:20290206T170000
DTSTAMP:20260421T191130
CREATED:20250826T110202Z
LAST-MODIFIED:20250826T110202Z
UID:10007130-1865084400-1865091600@inklusion-warendorf.de
SUMMARY:Inklusionsbeauftragter Udo Gohl
DESCRIPTION:Ziel ist es zu vernetzen\, Ansprechpartner für Einzelne und Gruppen\,  Vereine\,  Initiativen  und Funktionsträger zu sein. \nWarendorf braucht einen Inklusionsbeauftragten\, um für das Thema und für betroffene Menschen einen Ansprechpartner zu bieten. \nInklusion braucht Gesichter!
URL:https://inklusion-warendorf.de/veranstaltung/inklusionsbeauftragter-udo-gohl/2029-02-06/
LOCATION:FreiRaum\, Münsterstraße 27\, Warendorf\, NRW\, 48231\, Deutschland
CATEGORIES:Beratung
END:VEVENT
BEGIN:VEVENT
DTSTART;TZID=Europe/Berlin:20290220T150000
DTEND;TZID=Europe/Berlin:20290220T170000
DTSTAMP:20260421T191130
CREATED:20250826T110926Z
LAST-MODIFIED:20250826T111443Z
UID:10007190-1866294000-1866301200@inklusion-warendorf.de
SUMMARY:Inklusionsbeuftragter Udo Gohl
DESCRIPTION:Ziel ist es zu vernetzen\, Ansprechpartner für Einzelne und Gruppen\,  Vereine\,  Initiativen  und Funktionsträger zu sein. \nWarendorf braucht einen Inklusionsbeauftragten\, um für das Thema und für betroffene Menschen einen Ansprechpartner zu bieten. \nInklusion braucht Gesichter!
URL:https://inklusion-warendorf.de/veranstaltung/inklusionsbeuftragter-udo-gohl/2029-02-20/
LOCATION:FreiRaum\, Münsterstraße 27\, Warendorf\, NRW\, 48231\, Deutschland
CATEGORIES:Beratung
END:VEVENT
BEGIN:VEVENT
DTSTART;TZID=Europe/Berlin:20290306T150000
DTEND;TZID=Europe/Berlin:20290306T170000
DTSTAMP:20260421T191130
CREATED:20250826T110202Z
LAST-MODIFIED:20250826T110202Z
UID:10007131-1867503600-1867510800@inklusion-warendorf.de
SUMMARY:Inklusionsbeauftragter Udo Gohl
DESCRIPTION:Ziel ist es zu vernetzen\, Ansprechpartner für Einzelne und Gruppen\,  Vereine\,  Initiativen  und Funktionsträger zu sein. \nWarendorf braucht einen Inklusionsbeauftragten\, um für das Thema und für betroffene Menschen einen Ansprechpartner zu bieten. \nInklusion braucht Gesichter!
URL:https://inklusion-warendorf.de/veranstaltung/inklusionsbeauftragter-udo-gohl/2029-03-06/
LOCATION:FreiRaum\, Münsterstraße 27\, Warendorf\, NRW\, 48231\, Deutschland
CATEGORIES:Beratung
END:VEVENT
BEGIN:VEVENT
DTSTART;TZID=Europe/Berlin:20290320T150000
DTEND;TZID=Europe/Berlin:20290320T170000
DTSTAMP:20260421T191130
CREATED:20250826T110926Z
LAST-MODIFIED:20250826T111443Z
UID:10007191-1868713200-1868720400@inklusion-warendorf.de
SUMMARY:Inklusionsbeuftragter Udo Gohl
DESCRIPTION:Ziel ist es zu vernetzen\, Ansprechpartner für Einzelne und Gruppen\,  Vereine\,  Initiativen  und Funktionsträger zu sein. \nWarendorf braucht einen Inklusionsbeauftragten\, um für das Thema und für betroffene Menschen einen Ansprechpartner zu bieten. \nInklusion braucht Gesichter!
URL:https://inklusion-warendorf.de/veranstaltung/inklusionsbeuftragter-udo-gohl/2029-03-20/
LOCATION:FreiRaum\, Münsterstraße 27\, Warendorf\, NRW\, 48231\, Deutschland
CATEGORIES:Beratung
END:VEVENT
BEGIN:VEVENT
DTSTART;TZID=Europe/Berlin:20290403T150000
DTEND;TZID=Europe/Berlin:20290403T170000
DTSTAMP:20260421T191130
CREATED:20250826T110202Z
LAST-MODIFIED:20250826T110202Z
UID:10007132-1869922800-1869930000@inklusion-warendorf.de
SUMMARY:Inklusionsbeauftragter Udo Gohl
DESCRIPTION:Ziel ist es zu vernetzen\, Ansprechpartner für Einzelne und Gruppen\,  Vereine\,  Initiativen  und Funktionsträger zu sein. \nWarendorf braucht einen Inklusionsbeauftragten\, um für das Thema und für betroffene Menschen einen Ansprechpartner zu bieten. \nInklusion braucht Gesichter!
URL:https://inklusion-warendorf.de/veranstaltung/inklusionsbeauftragter-udo-gohl/2029-04-03/
LOCATION:FreiRaum\, Münsterstraße 27\, Warendorf\, NRW\, 48231\, Deutschland
CATEGORIES:Beratung
END:VEVENT
BEGIN:VEVENT
DTSTART;TZID=Europe/Berlin:20290417T150000
DTEND;TZID=Europe/Berlin:20290417T170000
DTSTAMP:20260421T191130
CREATED:20250826T110926Z
LAST-MODIFIED:20250826T111443Z
UID:10007192-1871132400-1871139600@inklusion-warendorf.de
SUMMARY:Inklusionsbeuftragter Udo Gohl
DESCRIPTION:Ziel ist es zu vernetzen\, Ansprechpartner für Einzelne und Gruppen\,  Vereine\,  Initiativen  und Funktionsträger zu sein. \nWarendorf braucht einen Inklusionsbeauftragten\, um für das Thema und für betroffene Menschen einen Ansprechpartner zu bieten. \nInklusion braucht Gesichter!
URL:https://inklusion-warendorf.de/veranstaltung/inklusionsbeuftragter-udo-gohl/2029-04-17/
LOCATION:FreiRaum\, Münsterstraße 27\, Warendorf\, NRW\, 48231\, Deutschland
CATEGORIES:Beratung
END:VEVENT
BEGIN:VEVENT
DTSTART;TZID=Europe/Berlin:20290501T150000
DTEND;TZID=Europe/Berlin:20290501T170000
DTSTAMP:20260421T191130
CREATED:20250826T110202Z
LAST-MODIFIED:20250826T110202Z
UID:10007133-1872342000-1872349200@inklusion-warendorf.de
SUMMARY:Inklusionsbeauftragter Udo Gohl
DESCRIPTION:Ziel ist es zu vernetzen\, Ansprechpartner für Einzelne und Gruppen\,  Vereine\,  Initiativen  und Funktionsträger zu sein. \nWarendorf braucht einen Inklusionsbeauftragten\, um für das Thema und für betroffene Menschen einen Ansprechpartner zu bieten. \nInklusion braucht Gesichter!
URL:https://inklusion-warendorf.de/veranstaltung/inklusionsbeauftragter-udo-gohl/2029-05-01/
LOCATION:FreiRaum\, Münsterstraße 27\, Warendorf\, NRW\, 48231\, Deutschland
CATEGORIES:Beratung
END:VEVENT
BEGIN:VEVENT
DTSTART;TZID=Europe/Berlin:20290515T150000
DTEND;TZID=Europe/Berlin:20290515T170000
DTSTAMP:20260421T191130
CREATED:20250826T110926Z
LAST-MODIFIED:20250826T111443Z
UID:10007193-1873551600-1873558800@inklusion-warendorf.de
SUMMARY:Inklusionsbeuftragter Udo Gohl
DESCRIPTION:Ziel ist es zu vernetzen\, Ansprechpartner für Einzelne und Gruppen\,  Vereine\,  Initiativen  und Funktionsträger zu sein. \nWarendorf braucht einen Inklusionsbeauftragten\, um für das Thema und für betroffene Menschen einen Ansprechpartner zu bieten. \nInklusion braucht Gesichter!
URL:https://inklusion-warendorf.de/veranstaltung/inklusionsbeuftragter-udo-gohl/2029-05-15/
LOCATION:FreiRaum\, Münsterstraße 27\, Warendorf\, NRW\, 48231\, Deutschland
CATEGORIES:Beratung
END:VEVENT
BEGIN:VEVENT
DTSTART;TZID=Europe/Berlin:20290605T150000
DTEND;TZID=Europe/Berlin:20290605T170000
DTSTAMP:20260421T191131
CREATED:20250826T110202Z
LAST-MODIFIED:20250826T110202Z
UID:10007134-1875366000-1875373200@inklusion-warendorf.de
SUMMARY:Inklusionsbeauftragter Udo Gohl
DESCRIPTION:Ziel ist es zu vernetzen\, Ansprechpartner für Einzelne und Gruppen\,  Vereine\,  Initiativen  und Funktionsträger zu sein. \nWarendorf braucht einen Inklusionsbeauftragten\, um für das Thema und für betroffene Menschen einen Ansprechpartner zu bieten. \nInklusion braucht Gesichter!
URL:https://inklusion-warendorf.de/veranstaltung/inklusionsbeauftragter-udo-gohl/2029-06-05/
LOCATION:FreiRaum\, Münsterstraße 27\, Warendorf\, NRW\, 48231\, Deutschland
CATEGORIES:Beratung
END:VEVENT
BEGIN:VEVENT
DTSTART;TZID=Europe/Berlin:20290619T150000
DTEND;TZID=Europe/Berlin:20290619T170000
DTSTAMP:20260421T191131
CREATED:20250826T110926Z
LAST-MODIFIED:20250826T111443Z
UID:10007194-1876575600-1876582800@inklusion-warendorf.de
SUMMARY:Inklusionsbeuftragter Udo Gohl
DESCRIPTION:Ziel ist es zu vernetzen\, Ansprechpartner für Einzelne und Gruppen\,  Vereine\,  Initiativen  und Funktionsträger zu sein. \nWarendorf braucht einen Inklusionsbeauftragten\, um für das Thema und für betroffene Menschen einen Ansprechpartner zu bieten. \nInklusion braucht Gesichter!
URL:https://inklusion-warendorf.de/veranstaltung/inklusionsbeuftragter-udo-gohl/2029-06-19/
LOCATION:FreiRaum\, Münsterstraße 27\, Warendorf\, NRW\, 48231\, Deutschland
CATEGORIES:Beratung
END:VEVENT
BEGIN:VEVENT
DTSTART;TZID=Europe/Berlin:20290703T150000
DTEND;TZID=Europe/Berlin:20290703T170000
DTSTAMP:20260421T191131
CREATED:20250826T110202Z
LAST-MODIFIED:20250826T110202Z
UID:10007135-1877785200-1877792400@inklusion-warendorf.de
SUMMARY:Inklusionsbeauftragter Udo Gohl
DESCRIPTION:Ziel ist es zu vernetzen\, Ansprechpartner für Einzelne und Gruppen\,  Vereine\,  Initiativen  und Funktionsträger zu sein. \nWarendorf braucht einen Inklusionsbeauftragten\, um für das Thema und für betroffene Menschen einen Ansprechpartner zu bieten. \nInklusion braucht Gesichter!
URL:https://inklusion-warendorf.de/veranstaltung/inklusionsbeauftragter-udo-gohl/2029-07-03/
LOCATION:FreiRaum\, Münsterstraße 27\, Warendorf\, NRW\, 48231\, Deutschland
CATEGORIES:Beratung
END:VEVENT
BEGIN:VEVENT
DTSTART;TZID=Europe/Berlin:20290717T150000
DTEND;TZID=Europe/Berlin:20290717T170000
DTSTAMP:20260421T191131
CREATED:20250826T110926Z
LAST-MODIFIED:20250826T111443Z
UID:10007195-1878994800-1879002000@inklusion-warendorf.de
SUMMARY:Inklusionsbeuftragter Udo Gohl
DESCRIPTION:Ziel ist es zu vernetzen\, Ansprechpartner für Einzelne und Gruppen\,  Vereine\,  Initiativen  und Funktionsträger zu sein. \nWarendorf braucht einen Inklusionsbeauftragten\, um für das Thema und für betroffene Menschen einen Ansprechpartner zu bieten. \nInklusion braucht Gesichter!
URL:https://inklusion-warendorf.de/veranstaltung/inklusionsbeuftragter-udo-gohl/2029-07-17/
LOCATION:FreiRaum\, Münsterstraße 27\, Warendorf\, NRW\, 48231\, Deutschland
CATEGORIES:Beratung
END:VEVENT
BEGIN:VEVENT
DTSTART;TZID=Europe/Berlin:20290807T150000
DTEND;TZID=Europe/Berlin:20290807T170000
DTSTAMP:20260421T191131
CREATED:20250826T110202Z
LAST-MODIFIED:20250826T110202Z
UID:10007136-1880809200-1880816400@inklusion-warendorf.de
SUMMARY:Inklusionsbeauftragter Udo Gohl
DESCRIPTION:Ziel ist es zu vernetzen\, Ansprechpartner für Einzelne und Gruppen\,  Vereine\,  Initiativen  und Funktionsträger zu sein. \nWarendorf braucht einen Inklusionsbeauftragten\, um für das Thema und für betroffene Menschen einen Ansprechpartner zu bieten. \nInklusion braucht Gesichter!
URL:https://inklusion-warendorf.de/veranstaltung/inklusionsbeauftragter-udo-gohl/2029-08-07/
LOCATION:FreiRaum\, Münsterstraße 27\, Warendorf\, NRW\, 48231\, Deutschland
CATEGORIES:Beratung
END:VEVENT
BEGIN:VEVENT
DTSTART;TZID=Europe/Berlin:20290821T150000
DTEND;TZID=Europe/Berlin:20290821T170000
DTSTAMP:20260421T191131
CREATED:20250826T110926Z
LAST-MODIFIED:20250826T111443Z
UID:10007196-1882018800-1882026000@inklusion-warendorf.de
SUMMARY:Inklusionsbeuftragter Udo Gohl
DESCRIPTION:Ziel ist es zu vernetzen\, Ansprechpartner für Einzelne und Gruppen\,  Vereine\,  Initiativen  und Funktionsträger zu sein. \nWarendorf braucht einen Inklusionsbeauftragten\, um für das Thema und für betroffene Menschen einen Ansprechpartner zu bieten. \nInklusion braucht Gesichter!
URL:https://inklusion-warendorf.de/veranstaltung/inklusionsbeuftragter-udo-gohl/2029-08-21/
LOCATION:FreiRaum\, Münsterstraße 27\, Warendorf\, NRW\, 48231\, Deutschland
CATEGORIES:Beratung
END:VEVENT
END:VCALENDAR