BEGIN:VCALENDAR
VERSION:2.0
PRODID:-//Wir. Alle. Füreinander. - ECPv6.15.5//NONSGML v1.0//EN
CALSCALE:GREGORIAN
METHOD:PUBLISH
X-WR-CALNAME:Wir. Alle. Füreinander.
X-ORIGINAL-URL:https://inklusion-warendorf.de
X-WR-CALDESC:Veranstaltungen für Wir. Alle. Füreinander.
REFRESH-INTERVAL;VALUE=DURATION:PT1H
X-Robots-Tag:noindex
X-PUBLISHED-TTL:PT1H
BEGIN:VTIMEZONE
TZID:Europe/Berlin
BEGIN:DAYLIGHT
TZOFFSETFROM:+0100
TZOFFSETTO:+0200
TZNAME:CEST
DTSTART:20250330T010000
END:DAYLIGHT
BEGIN:STANDARD
TZOFFSETFROM:+0200
TZOFFSETTO:+0100
TZNAME:CET
DTSTART:20251026T010000
END:STANDARD
END:VTIMEZONE
BEGIN:VEVENT
DTSTART;TZID=Europe/Berlin:20250307T100000
DTEND;TZID=Europe/Berlin:20250307T120000
DTSTAMP:20260420T040310
CREATED:20241029T090905Z
LAST-MODIFIED:20241029T090905Z
UID:10003828-1741341600-1741348800@inklusion-warendorf.de
SUMMARY:Pflegeselbsthilfe Christiane Appel
DESCRIPTION:Am Freitag 08.11. startet das Kontaktbüro Pflegeselbsthilfe der Alzheimer Gesellschaft im Kreis Warendorf e.V. mit einem neuen Beratungsangebot im FreiRaum. \nDas Kontaktbüro Pflegeselbsthilfe gibt Informationen zu allen Fragen rund um das Thema Pflegeselbsthilfe wie beispielsweise \n– Angebote von Pflegeselbsthilfegruppen \n– Beratung zum Thema Pflegeselbsthilfe \n– Vermittlung von Interessierten in Pflegeselbsthilfegruppen \n– Beantragung\, Annahme und Weiterleitung von Fördermitteln an Pflegeselbsthilfegruppen \nAn folgenden Terminen findet die Beratung statt: \nFreitag 08.11. \nFreitag 06.12. \nFreitag 10.01. \nFreitag 07.02. \nFreitag 07.03. \nJeweils von 10-12 Uhr
URL:https://inklusion-warendorf.de/veranstaltung/pflegeselbsthilfe-christiane-appel/2025-03-07/
LOCATION:Beratungsbüro\, Münsterstraße 27\, Warendorf\, Deutschland
CATEGORIES:Beratung
ATTACH;FMTTYPE=image/png:https://inklusion-warendorf.de/wp-content/uploads/2024/10/support-2355701_960_720.png
END:VEVENT
END:VCALENDAR