BEGIN:VCALENDAR
VERSION:2.0
PRODID:-//Wir. Alle. Füreinander. - ECPv6.15.5//NONSGML v1.0//EN
CALSCALE:GREGORIAN
METHOD:PUBLISH
X-WR-CALNAME:Wir. Alle. Füreinander.
X-ORIGINAL-URL:https://inklusion-warendorf.de
X-WR-CALDESC:Veranstaltungen für Wir. Alle. Füreinander.
REFRESH-INTERVAL;VALUE=DURATION:PT1H
X-Robots-Tag:noindex
X-PUBLISHED-TTL:PT1H
BEGIN:VTIMEZONE
TZID:Europe/Berlin
BEGIN:DAYLIGHT
TZOFFSETFROM:+0100
TZOFFSETTO:+0200
TZNAME:CEST
DTSTART:20300331T010000
END:DAYLIGHT
BEGIN:STANDARD
TZOFFSETFROM:+0200
TZOFFSETTO:+0100
TZNAME:CET
DTSTART:20301027T010000
END:STANDARD
END:VTIMEZONE
BEGIN:VEVENT
DTSTART;TZID=Europe/Berlin:20300305T083000
DTEND;TZID=Europe/Berlin:20300305T123000
DTSTAMP:20260423T232444
CREATED:20240920T165528Z
LAST-MODIFIED:20250807T134342Z
UID:10006038-1898929800-1898944200@inklusion-warendorf.de
SUMMARY:Seniorenbeauftragte Nicole Herte
DESCRIPTION:Sprechstunde des Seniorenbüros der Stadt Warendorf \nDas Seniorenbüro ist eine zentrale Anlaufstelle für alle Fragen rund um das Thema Älterwerden innerhalb der Stadt Warendorf. Ab dem 13. August 2024 ist die Seniorenbeauftragte Nicole Herte jeden Dienstag von 8:30 bis 12:30 Uhr im FreiRaum zu sprechen. Der Zugang ist barrierefrei und ohne vorherige Anmeldung möglich. Gemeinsam lassen sich Wege finden\, wie das Älterwerden so aktiv und angenehm wie möglich gestaltet werden kann. Aber auch Warendorferinnen und Warendorfer\, die sich für ältere Menschen einbringen möchten\, kommen gern mit Ihrer Idee vorbei. \nMögliche Themen: \n\nInformationen zu Versorgungs-\, Unterstützungs- und Betreuungsangeboten\nFreizeitangebote finden\nVermittlung ins Ehrenamt\nHilfe bei der Umsetzung eigener Ideen\nDigitale Teilhabe u.v.m.
URL:https://inklusion-warendorf.de/veranstaltung/seniorenbeauftragte-nicole-herte-3/2030-03-05/
LOCATION:Beratungsbüro\, Münsterstraße 27\, Warendorf\, Deutschland
CATEGORIES:Beratung
ATTACH;FMTTYPE=image/jpeg:https://inklusion-warendorf.de/wp-content/uploads/2024/04/191027_marktplatz-waf-1.jpg
END:VEVENT
BEGIN:VEVENT
DTSTART;TZID=Europe/Berlin:20300312T083000
DTEND;TZID=Europe/Berlin:20300312T123000
DTSTAMP:20260423T232444
CREATED:20240920T165528Z
LAST-MODIFIED:20250807T134342Z
UID:10006039-1899534600-1899549000@inklusion-warendorf.de
SUMMARY:Seniorenbeauftragte Nicole Herte
DESCRIPTION:Sprechstunde des Seniorenbüros der Stadt Warendorf \nDas Seniorenbüro ist eine zentrale Anlaufstelle für alle Fragen rund um das Thema Älterwerden innerhalb der Stadt Warendorf. Ab dem 13. August 2024 ist die Seniorenbeauftragte Nicole Herte jeden Dienstag von 8:30 bis 12:30 Uhr im FreiRaum zu sprechen. Der Zugang ist barrierefrei und ohne vorherige Anmeldung möglich. Gemeinsam lassen sich Wege finden\, wie das Älterwerden so aktiv und angenehm wie möglich gestaltet werden kann. Aber auch Warendorferinnen und Warendorfer\, die sich für ältere Menschen einbringen möchten\, kommen gern mit Ihrer Idee vorbei. \nMögliche Themen: \n\nInformationen zu Versorgungs-\, Unterstützungs- und Betreuungsangeboten\nFreizeitangebote finden\nVermittlung ins Ehrenamt\nHilfe bei der Umsetzung eigener Ideen\nDigitale Teilhabe u.v.m.
URL:https://inklusion-warendorf.de/veranstaltung/seniorenbeauftragte-nicole-herte-3/2030-03-12/
LOCATION:Beratungsbüro\, Münsterstraße 27\, Warendorf\, Deutschland
CATEGORIES:Beratung
ATTACH;FMTTYPE=image/jpeg:https://inklusion-warendorf.de/wp-content/uploads/2024/04/191027_marktplatz-waf-1.jpg
END:VEVENT
BEGIN:VEVENT
DTSTART;TZID=Europe/Berlin:20300319T083000
DTEND;TZID=Europe/Berlin:20300319T123000
DTSTAMP:20260423T232444
CREATED:20240920T165528Z
LAST-MODIFIED:20250807T134342Z
UID:10006040-1900139400-1900153800@inklusion-warendorf.de
SUMMARY:Seniorenbeauftragte Nicole Herte
DESCRIPTION:Sprechstunde des Seniorenbüros der Stadt Warendorf \nDas Seniorenbüro ist eine zentrale Anlaufstelle für alle Fragen rund um das Thema Älterwerden innerhalb der Stadt Warendorf. Ab dem 13. August 2024 ist die Seniorenbeauftragte Nicole Herte jeden Dienstag von 8:30 bis 12:30 Uhr im FreiRaum zu sprechen. Der Zugang ist barrierefrei und ohne vorherige Anmeldung möglich. Gemeinsam lassen sich Wege finden\, wie das Älterwerden so aktiv und angenehm wie möglich gestaltet werden kann. Aber auch Warendorferinnen und Warendorfer\, die sich für ältere Menschen einbringen möchten\, kommen gern mit Ihrer Idee vorbei. \nMögliche Themen: \n\nInformationen zu Versorgungs-\, Unterstützungs- und Betreuungsangeboten\nFreizeitangebote finden\nVermittlung ins Ehrenamt\nHilfe bei der Umsetzung eigener Ideen\nDigitale Teilhabe u.v.m.
URL:https://inklusion-warendorf.de/veranstaltung/seniorenbeauftragte-nicole-herte-3/2030-03-19/
LOCATION:Beratungsbüro\, Münsterstraße 27\, Warendorf\, Deutschland
CATEGORIES:Beratung
ATTACH;FMTTYPE=image/jpeg:https://inklusion-warendorf.de/wp-content/uploads/2024/04/191027_marktplatz-waf-1.jpg
END:VEVENT
BEGIN:VEVENT
DTSTART;TZID=Europe/Berlin:20300326T083000
DTEND;TZID=Europe/Berlin:20300326T123000
DTSTAMP:20260423T232444
CREATED:20240920T165528Z
LAST-MODIFIED:20250807T134342Z
UID:10006041-1900744200-1900758600@inklusion-warendorf.de
SUMMARY:Seniorenbeauftragte Nicole Herte
DESCRIPTION:Sprechstunde des Seniorenbüros der Stadt Warendorf \nDas Seniorenbüro ist eine zentrale Anlaufstelle für alle Fragen rund um das Thema Älterwerden innerhalb der Stadt Warendorf. Ab dem 13. August 2024 ist die Seniorenbeauftragte Nicole Herte jeden Dienstag von 8:30 bis 12:30 Uhr im FreiRaum zu sprechen. Der Zugang ist barrierefrei und ohne vorherige Anmeldung möglich. Gemeinsam lassen sich Wege finden\, wie das Älterwerden so aktiv und angenehm wie möglich gestaltet werden kann. Aber auch Warendorferinnen und Warendorfer\, die sich für ältere Menschen einbringen möchten\, kommen gern mit Ihrer Idee vorbei. \nMögliche Themen: \n\nInformationen zu Versorgungs-\, Unterstützungs- und Betreuungsangeboten\nFreizeitangebote finden\nVermittlung ins Ehrenamt\nHilfe bei der Umsetzung eigener Ideen\nDigitale Teilhabe u.v.m.
URL:https://inklusion-warendorf.de/veranstaltung/seniorenbeauftragte-nicole-herte-3/2030-03-26/
LOCATION:Beratungsbüro\, Münsterstraße 27\, Warendorf\, Deutschland
CATEGORIES:Beratung
ATTACH;FMTTYPE=image/jpeg:https://inklusion-warendorf.de/wp-content/uploads/2024/04/191027_marktplatz-waf-1.jpg
END:VEVENT
END:VCALENDAR