BEGIN:VCALENDAR
VERSION:2.0
PRODID:-//Wir. Alle. Füreinander. - ECPv6.15.5//NONSGML v1.0//EN
CALSCALE:GREGORIAN
METHOD:PUBLISH
X-ORIGINAL-URL:https://inklusion-warendorf.de
X-WR-CALDESC:Veranstaltungen für Wir. Alle. Füreinander.
REFRESH-INTERVAL;VALUE=DURATION:PT1H
X-Robots-Tag:noindex
X-PUBLISHED-TTL:PT1H
BEGIN:VTIMEZONE
TZID:Europe/Berlin
BEGIN:DAYLIGHT
TZOFFSETFROM:+0100
TZOFFSETTO:+0200
TZNAME:CEST
DTSTART:20280326T010000
END:DAYLIGHT
BEGIN:STANDARD
TZOFFSETFROM:+0200
TZOFFSETTO:+0100
TZNAME:CET
DTSTART:20281029T010000
END:STANDARD
END:VTIMEZONE
BEGIN:VEVENT
DTSTART;TZID=Europe/Berlin:20281106T160000
DTEND;TZID=Europe/Berlin:20281106T180000
DTSTAMP:20260422T202138
CREATED:20241030T132249Z
LAST-MODIFIED:20250701T100800Z
UID:10006304-1857139200-1857146400@inklusion-warendorf.de
SUMMARY:Spielraum: wöchentlicher Spieletreff im FreiRaum
DESCRIPTION:Der SpielRaum im FreiRaum\nDu bist gerne in Gesellschaft und möchtest deine Zeit damit verbringen\, in gemütlicher Runde Spiele zu spielen? \nDann komm´ montagnachmittags zu uns in den FreiRaum! \nMit einem bunten Spieleangebot wollen wir gemeinsame Momente schaffen – und das jeden Montag von 15:30 Uhr bis 17:30 Uhr. \nEine Anmeldung ist nicht erforderlich. \nDas Angebot ist kostenlos. \nWir freuen uns über jeden ab ca. 8 Jahre\, der vorbeikommt und gemeinsam mit uns – Marc und Charlotte – die Spielesammlung im FreiRaum genau unter die Lupe nimmt!
URL:https://inklusion-warendorf.de/veranstaltung/spielraum-spieletreff-im-freiraum/2028-11-06/
LOCATION:FreiRaum\, Münsterstraße 27\, Warendorf\, NRW\, 48231\, Deutschland
CATEGORIES:FreiRaum
ATTACH;FMTTYPE=image/png:https://inklusion-warendorf.de/wp-content/uploads/2024/10/spielraum.png
END:VEVENT
BEGIN:VEVENT
DTSTART;TZID=Europe/Berlin:20281113T160000
DTEND;TZID=Europe/Berlin:20281113T180000
DTSTAMP:20260422T202138
CREATED:20241030T132249Z
LAST-MODIFIED:20250701T100800Z
UID:10006305-1857744000-1857751200@inklusion-warendorf.de
SUMMARY:Spielraum: wöchentlicher Spieletreff im FreiRaum
DESCRIPTION:Der SpielRaum im FreiRaum\nDu bist gerne in Gesellschaft und möchtest deine Zeit damit verbringen\, in gemütlicher Runde Spiele zu spielen? \nDann komm´ montagnachmittags zu uns in den FreiRaum! \nMit einem bunten Spieleangebot wollen wir gemeinsame Momente schaffen – und das jeden Montag von 15:30 Uhr bis 17:30 Uhr. \nEine Anmeldung ist nicht erforderlich. \nDas Angebot ist kostenlos. \nWir freuen uns über jeden ab ca. 8 Jahre\, der vorbeikommt und gemeinsam mit uns – Marc und Charlotte – die Spielesammlung im FreiRaum genau unter die Lupe nimmt!
URL:https://inklusion-warendorf.de/veranstaltung/spielraum-spieletreff-im-freiraum/2028-11-13/
LOCATION:FreiRaum\, Münsterstraße 27\, Warendorf\, NRW\, 48231\, Deutschland
CATEGORIES:FreiRaum
ATTACH;FMTTYPE=image/png:https://inklusion-warendorf.de/wp-content/uploads/2024/10/spielraum.png
END:VEVENT
BEGIN:VEVENT
DTSTART;TZID=Europe/Berlin:20281120T160000
DTEND;TZID=Europe/Berlin:20281120T180000
DTSTAMP:20260422T202138
CREATED:20241030T132249Z
LAST-MODIFIED:20250701T100800Z
UID:10006306-1858348800-1858356000@inklusion-warendorf.de
SUMMARY:Spielraum: wöchentlicher Spieletreff im FreiRaum
DESCRIPTION:Der SpielRaum im FreiRaum\nDu bist gerne in Gesellschaft und möchtest deine Zeit damit verbringen\, in gemütlicher Runde Spiele zu spielen? \nDann komm´ montagnachmittags zu uns in den FreiRaum! \nMit einem bunten Spieleangebot wollen wir gemeinsame Momente schaffen – und das jeden Montag von 15:30 Uhr bis 17:30 Uhr. \nEine Anmeldung ist nicht erforderlich. \nDas Angebot ist kostenlos. \nWir freuen uns über jeden ab ca. 8 Jahre\, der vorbeikommt und gemeinsam mit uns – Marc und Charlotte – die Spielesammlung im FreiRaum genau unter die Lupe nimmt!
URL:https://inklusion-warendorf.de/veranstaltung/spielraum-spieletreff-im-freiraum/2028-11-20/
LOCATION:FreiRaum\, Münsterstraße 27\, Warendorf\, NRW\, 48231\, Deutschland
CATEGORIES:FreiRaum
ATTACH;FMTTYPE=image/png:https://inklusion-warendorf.de/wp-content/uploads/2024/10/spielraum.png
END:VEVENT
BEGIN:VEVENT
DTSTART;TZID=Europe/Berlin:20281127T160000
DTEND;TZID=Europe/Berlin:20281127T180000
DTSTAMP:20260422T202138
CREATED:20241030T132249Z
LAST-MODIFIED:20250701T100800Z
UID:10006307-1858953600-1858960800@inklusion-warendorf.de
SUMMARY:Spielraum: wöchentlicher Spieletreff im FreiRaum
DESCRIPTION:Der SpielRaum im FreiRaum\nDu bist gerne in Gesellschaft und möchtest deine Zeit damit verbringen\, in gemütlicher Runde Spiele zu spielen? \nDann komm´ montagnachmittags zu uns in den FreiRaum! \nMit einem bunten Spieleangebot wollen wir gemeinsame Momente schaffen – und das jeden Montag von 15:30 Uhr bis 17:30 Uhr. \nEine Anmeldung ist nicht erforderlich. \nDas Angebot ist kostenlos. \nWir freuen uns über jeden ab ca. 8 Jahre\, der vorbeikommt und gemeinsam mit uns – Marc und Charlotte – die Spielesammlung im FreiRaum genau unter die Lupe nimmt!
URL:https://inklusion-warendorf.de/veranstaltung/spielraum-spieletreff-im-freiraum/2028-11-27/
LOCATION:FreiRaum\, Münsterstraße 27\, Warendorf\, NRW\, 48231\, Deutschland
CATEGORIES:FreiRaum
ATTACH;FMTTYPE=image/png:https://inklusion-warendorf.de/wp-content/uploads/2024/10/spielraum.png
END:VEVENT
END:VCALENDAR