BEGIN:VCALENDAR
VERSION:2.0
PRODID:-//Wir. Alle. Füreinander. - ECPv6.15.5//NONSGML v1.0//EN
CALSCALE:GREGORIAN
METHOD:PUBLISH
X-ORIGINAL-URL:https://inklusion-warendorf.de
X-WR-CALDESC:Veranstaltungen für Wir. Alle. Füreinander.
REFRESH-INTERVAL;VALUE=DURATION:PT1H
X-Robots-Tag:noindex
X-PUBLISHED-TTL:PT1H
BEGIN:VTIMEZONE
TZID:Europe/Berlin
BEGIN:DAYLIGHT
TZOFFSETFROM:+0100
TZOFFSETTO:+0200
TZNAME:CEST
DTSTART:20290325T010000
END:DAYLIGHT
BEGIN:STANDARD
TZOFFSETFROM:+0200
TZOFFSETTO:+0100
TZNAME:CET
DTSTART:20291028T010000
END:STANDARD
END:VTIMEZONE
BEGIN:VEVENT
DTSTART;TZID=Europe/Berlin:20290604T160000
DTEND;TZID=Europe/Berlin:20290604T180000
DTSTAMP:20260423T075400
CREATED:20241030T132249Z
LAST-MODIFIED:20250701T100800Z
UID:10006334-1875283200-1875290400@inklusion-warendorf.de
SUMMARY:Spielraum: wöchentlicher Spieletreff im FreiRaum
DESCRIPTION:Der SpielRaum im FreiRaum\nDu bist gerne in Gesellschaft und möchtest deine Zeit damit verbringen\, in gemütlicher Runde Spiele zu spielen? \nDann komm´ montagnachmittags zu uns in den FreiRaum! \nMit einem bunten Spieleangebot wollen wir gemeinsame Momente schaffen – und das jeden Montag von 15:30 Uhr bis 17:30 Uhr. \nEine Anmeldung ist nicht erforderlich. \nDas Angebot ist kostenlos. \nWir freuen uns über jeden ab ca. 8 Jahre\, der vorbeikommt und gemeinsam mit uns – Marc und Charlotte – die Spielesammlung im FreiRaum genau unter die Lupe nimmt!
URL:https://inklusion-warendorf.de/veranstaltung/spielraum-spieletreff-im-freiraum/2029-06-04/
LOCATION:FreiRaum\, Münsterstraße 27\, Warendorf\, NRW\, 48231\, Deutschland
CATEGORIES:FreiRaum
ATTACH;FMTTYPE=image/png:https://inklusion-warendorf.de/wp-content/uploads/2024/10/spielraum.png
END:VEVENT
BEGIN:VEVENT
DTSTART;TZID=Europe/Berlin:20290611T160000
DTEND;TZID=Europe/Berlin:20290611T180000
DTSTAMP:20260423T075400
CREATED:20241030T132249Z
LAST-MODIFIED:20250701T100800Z
UID:10006335-1875888000-1875895200@inklusion-warendorf.de
SUMMARY:Spielraum: wöchentlicher Spieletreff im FreiRaum
DESCRIPTION:Der SpielRaum im FreiRaum\nDu bist gerne in Gesellschaft und möchtest deine Zeit damit verbringen\, in gemütlicher Runde Spiele zu spielen? \nDann komm´ montagnachmittags zu uns in den FreiRaum! \nMit einem bunten Spieleangebot wollen wir gemeinsame Momente schaffen – und das jeden Montag von 15:30 Uhr bis 17:30 Uhr. \nEine Anmeldung ist nicht erforderlich. \nDas Angebot ist kostenlos. \nWir freuen uns über jeden ab ca. 8 Jahre\, der vorbeikommt und gemeinsam mit uns – Marc und Charlotte – die Spielesammlung im FreiRaum genau unter die Lupe nimmt!
URL:https://inklusion-warendorf.de/veranstaltung/spielraum-spieletreff-im-freiraum/2029-06-11/
LOCATION:FreiRaum\, Münsterstraße 27\, Warendorf\, NRW\, 48231\, Deutschland
CATEGORIES:FreiRaum
ATTACH;FMTTYPE=image/png:https://inklusion-warendorf.de/wp-content/uploads/2024/10/spielraum.png
END:VEVENT
BEGIN:VEVENT
DTSTART;TZID=Europe/Berlin:20290618T160000
DTEND;TZID=Europe/Berlin:20290618T180000
DTSTAMP:20260423T075400
CREATED:20241030T132249Z
LAST-MODIFIED:20250701T100800Z
UID:10006336-1876492800-1876500000@inklusion-warendorf.de
SUMMARY:Spielraum: wöchentlicher Spieletreff im FreiRaum
DESCRIPTION:Der SpielRaum im FreiRaum\nDu bist gerne in Gesellschaft und möchtest deine Zeit damit verbringen\, in gemütlicher Runde Spiele zu spielen? \nDann komm´ montagnachmittags zu uns in den FreiRaum! \nMit einem bunten Spieleangebot wollen wir gemeinsame Momente schaffen – und das jeden Montag von 15:30 Uhr bis 17:30 Uhr. \nEine Anmeldung ist nicht erforderlich. \nDas Angebot ist kostenlos. \nWir freuen uns über jeden ab ca. 8 Jahre\, der vorbeikommt und gemeinsam mit uns – Marc und Charlotte – die Spielesammlung im FreiRaum genau unter die Lupe nimmt!
URL:https://inklusion-warendorf.de/veranstaltung/spielraum-spieletreff-im-freiraum/2029-06-18/
LOCATION:FreiRaum\, Münsterstraße 27\, Warendorf\, NRW\, 48231\, Deutschland
CATEGORIES:FreiRaum
ATTACH;FMTTYPE=image/png:https://inklusion-warendorf.de/wp-content/uploads/2024/10/spielraum.png
END:VEVENT
BEGIN:VEVENT
DTSTART;TZID=Europe/Berlin:20290625T160000
DTEND;TZID=Europe/Berlin:20290625T180000
DTSTAMP:20260423T075400
CREATED:20241030T132249Z
LAST-MODIFIED:20250701T100800Z
UID:10006337-1877097600-1877104800@inklusion-warendorf.de
SUMMARY:Spielraum: wöchentlicher Spieletreff im FreiRaum
DESCRIPTION:Der SpielRaum im FreiRaum\nDu bist gerne in Gesellschaft und möchtest deine Zeit damit verbringen\, in gemütlicher Runde Spiele zu spielen? \nDann komm´ montagnachmittags zu uns in den FreiRaum! \nMit einem bunten Spieleangebot wollen wir gemeinsame Momente schaffen – und das jeden Montag von 15:30 Uhr bis 17:30 Uhr. \nEine Anmeldung ist nicht erforderlich. \nDas Angebot ist kostenlos. \nWir freuen uns über jeden ab ca. 8 Jahre\, der vorbeikommt und gemeinsam mit uns – Marc und Charlotte – die Spielesammlung im FreiRaum genau unter die Lupe nimmt!
URL:https://inklusion-warendorf.de/veranstaltung/spielraum-spieletreff-im-freiraum/2029-06-25/
LOCATION:FreiRaum\, Münsterstraße 27\, Warendorf\, NRW\, 48231\, Deutschland
CATEGORIES:FreiRaum
ATTACH;FMTTYPE=image/png:https://inklusion-warendorf.de/wp-content/uploads/2024/10/spielraum.png
END:VEVENT
END:VCALENDAR