BEGIN:VCALENDAR
VERSION:2.0
PRODID:-//Wir. Alle. Füreinander. - ECPv6.15.5//NONSGML v1.0//EN
CALSCALE:GREGORIAN
METHOD:PUBLISH
X-ORIGINAL-URL:https://inklusion-warendorf.de
X-WR-CALDESC:Veranstaltungen für Wir. Alle. Füreinander.
REFRESH-INTERVAL;VALUE=DURATION:PT1H
X-Robots-Tag:noindex
X-PUBLISHED-TTL:PT1H
BEGIN:VTIMEZONE
TZID:Europe/Berlin
BEGIN:DAYLIGHT
TZOFFSETFROM:+0100
TZOFFSETTO:+0200
TZNAME:CEST
DTSTART:20290325T010000
END:DAYLIGHT
BEGIN:STANDARD
TZOFFSETFROM:+0200
TZOFFSETTO:+0100
TZNAME:CET
DTSTART:20291028T010000
END:STANDARD
END:VTIMEZONE
BEGIN:VEVENT
DTSTART;TZID=Europe/Berlin:20290702T160000
DTEND;TZID=Europe/Berlin:20290702T180000
DTSTAMP:20260423T093549
CREATED:20241030T132249Z
LAST-MODIFIED:20250701T100800Z
UID:10006338-1877702400-1877709600@inklusion-warendorf.de
SUMMARY:Spielraum: wöchentlicher Spieletreff im FreiRaum
DESCRIPTION:Der SpielRaum im FreiRaum\nDu bist gerne in Gesellschaft und möchtest deine Zeit damit verbringen\, in gemütlicher Runde Spiele zu spielen? \nDann komm´ montagnachmittags zu uns in den FreiRaum! \nMit einem bunten Spieleangebot wollen wir gemeinsame Momente schaffen – und das jeden Montag von 15:30 Uhr bis 17:30 Uhr. \nEine Anmeldung ist nicht erforderlich. \nDas Angebot ist kostenlos. \nWir freuen uns über jeden ab ca. 8 Jahre\, der vorbeikommt und gemeinsam mit uns – Marc und Charlotte – die Spielesammlung im FreiRaum genau unter die Lupe nimmt!
URL:https://inklusion-warendorf.de/veranstaltung/spielraum-spieletreff-im-freiraum/2029-07-02/
LOCATION:FreiRaum\, Münsterstraße 27\, Warendorf\, NRW\, 48231\, Deutschland
CATEGORIES:FreiRaum
ATTACH;FMTTYPE=image/png:https://inklusion-warendorf.de/wp-content/uploads/2024/10/spielraum.png
END:VEVENT
BEGIN:VEVENT
DTSTART;TZID=Europe/Berlin:20290709T160000
DTEND;TZID=Europe/Berlin:20290709T180000
DTSTAMP:20260423T093549
CREATED:20241030T132249Z
LAST-MODIFIED:20250701T100800Z
UID:10006339-1878307200-1878314400@inklusion-warendorf.de
SUMMARY:Spielraum: wöchentlicher Spieletreff im FreiRaum
DESCRIPTION:Der SpielRaum im FreiRaum\nDu bist gerne in Gesellschaft und möchtest deine Zeit damit verbringen\, in gemütlicher Runde Spiele zu spielen? \nDann komm´ montagnachmittags zu uns in den FreiRaum! \nMit einem bunten Spieleangebot wollen wir gemeinsame Momente schaffen – und das jeden Montag von 15:30 Uhr bis 17:30 Uhr. \nEine Anmeldung ist nicht erforderlich. \nDas Angebot ist kostenlos. \nWir freuen uns über jeden ab ca. 8 Jahre\, der vorbeikommt und gemeinsam mit uns – Marc und Charlotte – die Spielesammlung im FreiRaum genau unter die Lupe nimmt!
URL:https://inklusion-warendorf.de/veranstaltung/spielraum-spieletreff-im-freiraum/2029-07-09/
LOCATION:FreiRaum\, Münsterstraße 27\, Warendorf\, NRW\, 48231\, Deutschland
CATEGORIES:FreiRaum
ATTACH;FMTTYPE=image/png:https://inklusion-warendorf.de/wp-content/uploads/2024/10/spielraum.png
END:VEVENT
BEGIN:VEVENT
DTSTART;TZID=Europe/Berlin:20290716T160000
DTEND;TZID=Europe/Berlin:20290716T180000
DTSTAMP:20260423T093549
CREATED:20241030T132249Z
LAST-MODIFIED:20250701T100800Z
UID:10006340-1878912000-1878919200@inklusion-warendorf.de
SUMMARY:Spielraum: wöchentlicher Spieletreff im FreiRaum
DESCRIPTION:Der SpielRaum im FreiRaum\nDu bist gerne in Gesellschaft und möchtest deine Zeit damit verbringen\, in gemütlicher Runde Spiele zu spielen? \nDann komm´ montagnachmittags zu uns in den FreiRaum! \nMit einem bunten Spieleangebot wollen wir gemeinsame Momente schaffen – und das jeden Montag von 15:30 Uhr bis 17:30 Uhr. \nEine Anmeldung ist nicht erforderlich. \nDas Angebot ist kostenlos. \nWir freuen uns über jeden ab ca. 8 Jahre\, der vorbeikommt und gemeinsam mit uns – Marc und Charlotte – die Spielesammlung im FreiRaum genau unter die Lupe nimmt!
URL:https://inklusion-warendorf.de/veranstaltung/spielraum-spieletreff-im-freiraum/2029-07-16/
LOCATION:FreiRaum\, Münsterstraße 27\, Warendorf\, NRW\, 48231\, Deutschland
CATEGORIES:FreiRaum
ATTACH;FMTTYPE=image/png:https://inklusion-warendorf.de/wp-content/uploads/2024/10/spielraum.png
END:VEVENT
BEGIN:VEVENT
DTSTART;TZID=Europe/Berlin:20290723T160000
DTEND;TZID=Europe/Berlin:20290723T180000
DTSTAMP:20260423T093549
CREATED:20241030T132249Z
LAST-MODIFIED:20250701T100800Z
UID:10006341-1879516800-1879524000@inklusion-warendorf.de
SUMMARY:Spielraum: wöchentlicher Spieletreff im FreiRaum
DESCRIPTION:Der SpielRaum im FreiRaum\nDu bist gerne in Gesellschaft und möchtest deine Zeit damit verbringen\, in gemütlicher Runde Spiele zu spielen? \nDann komm´ montagnachmittags zu uns in den FreiRaum! \nMit einem bunten Spieleangebot wollen wir gemeinsame Momente schaffen – und das jeden Montag von 15:30 Uhr bis 17:30 Uhr. \nEine Anmeldung ist nicht erforderlich. \nDas Angebot ist kostenlos. \nWir freuen uns über jeden ab ca. 8 Jahre\, der vorbeikommt und gemeinsam mit uns – Marc und Charlotte – die Spielesammlung im FreiRaum genau unter die Lupe nimmt!
URL:https://inklusion-warendorf.de/veranstaltung/spielraum-spieletreff-im-freiraum/2029-07-23/
LOCATION:FreiRaum\, Münsterstraße 27\, Warendorf\, NRW\, 48231\, Deutschland
CATEGORIES:FreiRaum
ATTACH;FMTTYPE=image/png:https://inklusion-warendorf.de/wp-content/uploads/2024/10/spielraum.png
END:VEVENT
BEGIN:VEVENT
DTSTART;TZID=Europe/Berlin:20290730T160000
DTEND;TZID=Europe/Berlin:20290730T180000
DTSTAMP:20260423T093549
CREATED:20241030T132249Z
LAST-MODIFIED:20250701T100800Z
UID:10006342-1880121600-1880128800@inklusion-warendorf.de
SUMMARY:Spielraum: wöchentlicher Spieletreff im FreiRaum
DESCRIPTION:Der SpielRaum im FreiRaum\nDu bist gerne in Gesellschaft und möchtest deine Zeit damit verbringen\, in gemütlicher Runde Spiele zu spielen? \nDann komm´ montagnachmittags zu uns in den FreiRaum! \nMit einem bunten Spieleangebot wollen wir gemeinsame Momente schaffen – und das jeden Montag von 15:30 Uhr bis 17:30 Uhr. \nEine Anmeldung ist nicht erforderlich. \nDas Angebot ist kostenlos. \nWir freuen uns über jeden ab ca. 8 Jahre\, der vorbeikommt und gemeinsam mit uns – Marc und Charlotte – die Spielesammlung im FreiRaum genau unter die Lupe nimmt!
URL:https://inklusion-warendorf.de/veranstaltung/spielraum-spieletreff-im-freiraum/2029-07-30/
LOCATION:FreiRaum\, Münsterstraße 27\, Warendorf\, NRW\, 48231\, Deutschland
CATEGORIES:FreiRaum
ATTACH;FMTTYPE=image/png:https://inklusion-warendorf.de/wp-content/uploads/2024/10/spielraum.png
END:VEVENT
END:VCALENDAR