BEGIN:VCALENDAR
VERSION:2.0
PRODID:-//Wir. Alle. Füreinander. - ECPv6.15.5//NONSGML v1.0//EN
CALSCALE:GREGORIAN
METHOD:PUBLISH
X-ORIGINAL-URL:https://inklusion-warendorf.de
X-WR-CALDESC:Veranstaltungen für Wir. Alle. Füreinander.
REFRESH-INTERVAL;VALUE=DURATION:PT1H
X-Robots-Tag:noindex
X-PUBLISHED-TTL:PT1H
BEGIN:VTIMEZONE
TZID:Europe/Berlin
BEGIN:DAYLIGHT
TZOFFSETFROM:+0100
TZOFFSETTO:+0200
TZNAME:CEST
DTSTART:20300331T010000
END:DAYLIGHT
BEGIN:STANDARD
TZOFFSETFROM:+0200
TZOFFSETTO:+0100
TZNAME:CET
DTSTART:20301027T010000
END:STANDARD
END:VTIMEZONE
BEGIN:VEVENT
DTSTART;TZID=Europe/Berlin:20300408T160000
DTEND;TZID=Europe/Berlin:20300408T180000
DTSTAMP:20260420T012732
CREATED:20241030T132249Z
LAST-MODIFIED:20250701T100800Z
UID:10006378-1901894400-1901901600@inklusion-warendorf.de
SUMMARY:Spielraum: wöchentlicher Spieletreff im FreiRaum
DESCRIPTION:Der SpielRaum im FreiRaum\nDu bist gerne in Gesellschaft und möchtest deine Zeit damit verbringen\, in gemütlicher Runde Spiele zu spielen? \nDann komm´ montagnachmittags zu uns in den FreiRaum! \nMit einem bunten Spieleangebot wollen wir gemeinsame Momente schaffen – und das jeden Montag von 15:30 Uhr bis 17:30 Uhr. \nEine Anmeldung ist nicht erforderlich. \nDas Angebot ist kostenlos. \nWir freuen uns über jeden ab ca. 8 Jahre\, der vorbeikommt und gemeinsam mit uns – Marc und Charlotte – die Spielesammlung im FreiRaum genau unter die Lupe nimmt!
URL:https://inklusion-warendorf.de/veranstaltung/spielraum-spieletreff-im-freiraum/2030-04-08/
LOCATION:FreiRaum\, Münsterstraße 27\, Warendorf\, NRW\, 48231\, Deutschland
CATEGORIES:FreiRaum
ATTACH;FMTTYPE=image/png:https://inklusion-warendorf.de/wp-content/uploads/2024/10/spielraum.png
END:VEVENT
BEGIN:VEVENT
DTSTART;TZID=Europe/Berlin:20300415T160000
DTEND;TZID=Europe/Berlin:20300415T180000
DTSTAMP:20260420T012732
CREATED:20241030T132249Z
LAST-MODIFIED:20250701T100800Z
UID:10006379-1902499200-1902506400@inklusion-warendorf.de
SUMMARY:Spielraum: wöchentlicher Spieletreff im FreiRaum
DESCRIPTION:Der SpielRaum im FreiRaum\nDu bist gerne in Gesellschaft und möchtest deine Zeit damit verbringen\, in gemütlicher Runde Spiele zu spielen? \nDann komm´ montagnachmittags zu uns in den FreiRaum! \nMit einem bunten Spieleangebot wollen wir gemeinsame Momente schaffen – und das jeden Montag von 15:30 Uhr bis 17:30 Uhr. \nEine Anmeldung ist nicht erforderlich. \nDas Angebot ist kostenlos. \nWir freuen uns über jeden ab ca. 8 Jahre\, der vorbeikommt und gemeinsam mit uns – Marc und Charlotte – die Spielesammlung im FreiRaum genau unter die Lupe nimmt!
URL:https://inklusion-warendorf.de/veranstaltung/spielraum-spieletreff-im-freiraum/2030-04-15/
LOCATION:FreiRaum\, Münsterstraße 27\, Warendorf\, NRW\, 48231\, Deutschland
CATEGORIES:FreiRaum
ATTACH;FMTTYPE=image/png:https://inklusion-warendorf.de/wp-content/uploads/2024/10/spielraum.png
END:VEVENT
BEGIN:VEVENT
DTSTART;TZID=Europe/Berlin:20300422T160000
DTEND;TZID=Europe/Berlin:20300422T180000
DTSTAMP:20260420T012732
CREATED:20241030T132249Z
LAST-MODIFIED:20250701T100800Z
UID:10006380-1903104000-1903111200@inklusion-warendorf.de
SUMMARY:Spielraum: wöchentlicher Spieletreff im FreiRaum
DESCRIPTION:Der SpielRaum im FreiRaum\nDu bist gerne in Gesellschaft und möchtest deine Zeit damit verbringen\, in gemütlicher Runde Spiele zu spielen? \nDann komm´ montagnachmittags zu uns in den FreiRaum! \nMit einem bunten Spieleangebot wollen wir gemeinsame Momente schaffen – und das jeden Montag von 15:30 Uhr bis 17:30 Uhr. \nEine Anmeldung ist nicht erforderlich. \nDas Angebot ist kostenlos. \nWir freuen uns über jeden ab ca. 8 Jahre\, der vorbeikommt und gemeinsam mit uns – Marc und Charlotte – die Spielesammlung im FreiRaum genau unter die Lupe nimmt!
URL:https://inklusion-warendorf.de/veranstaltung/spielraum-spieletreff-im-freiraum/2030-04-22/
LOCATION:FreiRaum\, Münsterstraße 27\, Warendorf\, NRW\, 48231\, Deutschland
CATEGORIES:FreiRaum
ATTACH;FMTTYPE=image/png:https://inklusion-warendorf.de/wp-content/uploads/2024/10/spielraum.png
END:VEVENT
BEGIN:VEVENT
DTSTART;TZID=Europe/Berlin:20300429T160000
DTEND;TZID=Europe/Berlin:20300429T180000
DTSTAMP:20260420T012732
CREATED:20241030T132249Z
LAST-MODIFIED:20250701T100800Z
UID:10006381-1903708800-1903716000@inklusion-warendorf.de
SUMMARY:Spielraum: wöchentlicher Spieletreff im FreiRaum
DESCRIPTION:Der SpielRaum im FreiRaum\nDu bist gerne in Gesellschaft und möchtest deine Zeit damit verbringen\, in gemütlicher Runde Spiele zu spielen? \nDann komm´ montagnachmittags zu uns in den FreiRaum! \nMit einem bunten Spieleangebot wollen wir gemeinsame Momente schaffen – und das jeden Montag von 15:30 Uhr bis 17:30 Uhr. \nEine Anmeldung ist nicht erforderlich. \nDas Angebot ist kostenlos. \nWir freuen uns über jeden ab ca. 8 Jahre\, der vorbeikommt und gemeinsam mit uns – Marc und Charlotte – die Spielesammlung im FreiRaum genau unter die Lupe nimmt!
URL:https://inklusion-warendorf.de/veranstaltung/spielraum-spieletreff-im-freiraum/2030-04-29/
LOCATION:FreiRaum\, Münsterstraße 27\, Warendorf\, NRW\, 48231\, Deutschland
CATEGORIES:FreiRaum
ATTACH;FMTTYPE=image/png:https://inklusion-warendorf.de/wp-content/uploads/2024/10/spielraum.png
END:VEVENT
BEGIN:VEVENT
DTSTART;TZID=Europe/Berlin:20300506T160000
DTEND;TZID=Europe/Berlin:20300506T180000
DTSTAMP:20260420T012732
CREATED:20241030T132249Z
LAST-MODIFIED:20250701T100800Z
UID:10006382-1904313600-1904320800@inklusion-warendorf.de
SUMMARY:Spielraum: wöchentlicher Spieletreff im FreiRaum
DESCRIPTION:Der SpielRaum im FreiRaum\nDu bist gerne in Gesellschaft und möchtest deine Zeit damit verbringen\, in gemütlicher Runde Spiele zu spielen? \nDann komm´ montagnachmittags zu uns in den FreiRaum! \nMit einem bunten Spieleangebot wollen wir gemeinsame Momente schaffen – und das jeden Montag von 15:30 Uhr bis 17:30 Uhr. \nEine Anmeldung ist nicht erforderlich. \nDas Angebot ist kostenlos. \nWir freuen uns über jeden ab ca. 8 Jahre\, der vorbeikommt und gemeinsam mit uns – Marc und Charlotte – die Spielesammlung im FreiRaum genau unter die Lupe nimmt!
URL:https://inklusion-warendorf.de/veranstaltung/spielraum-spieletreff-im-freiraum/2030-05-06/
LOCATION:FreiRaum\, Münsterstraße 27\, Warendorf\, NRW\, 48231\, Deutschland
CATEGORIES:FreiRaum
ATTACH;FMTTYPE=image/png:https://inklusion-warendorf.de/wp-content/uploads/2024/10/spielraum.png
END:VEVENT
BEGIN:VEVENT
DTSTART;TZID=Europe/Berlin:20300513T160000
DTEND;TZID=Europe/Berlin:20300513T180000
DTSTAMP:20260420T012732
CREATED:20241030T132249Z
LAST-MODIFIED:20250701T100800Z
UID:10006383-1904918400-1904925600@inklusion-warendorf.de
SUMMARY:Spielraum: wöchentlicher Spieletreff im FreiRaum
DESCRIPTION:Der SpielRaum im FreiRaum\nDu bist gerne in Gesellschaft und möchtest deine Zeit damit verbringen\, in gemütlicher Runde Spiele zu spielen? \nDann komm´ montagnachmittags zu uns in den FreiRaum! \nMit einem bunten Spieleangebot wollen wir gemeinsame Momente schaffen – und das jeden Montag von 15:30 Uhr bis 17:30 Uhr. \nEine Anmeldung ist nicht erforderlich. \nDas Angebot ist kostenlos. \nWir freuen uns über jeden ab ca. 8 Jahre\, der vorbeikommt und gemeinsam mit uns – Marc und Charlotte – die Spielesammlung im FreiRaum genau unter die Lupe nimmt!
URL:https://inklusion-warendorf.de/veranstaltung/spielraum-spieletreff-im-freiraum/2030-05-13/
LOCATION:FreiRaum\, Münsterstraße 27\, Warendorf\, NRW\, 48231\, Deutschland
CATEGORIES:FreiRaum
ATTACH;FMTTYPE=image/png:https://inklusion-warendorf.de/wp-content/uploads/2024/10/spielraum.png
END:VEVENT
BEGIN:VEVENT
DTSTART;TZID=Europe/Berlin:20300520T160000
DTEND;TZID=Europe/Berlin:20300520T180000
DTSTAMP:20260420T012732
CREATED:20241030T132249Z
LAST-MODIFIED:20250701T100800Z
UID:10006384-1905523200-1905530400@inklusion-warendorf.de
SUMMARY:Spielraum: wöchentlicher Spieletreff im FreiRaum
DESCRIPTION:Der SpielRaum im FreiRaum\nDu bist gerne in Gesellschaft und möchtest deine Zeit damit verbringen\, in gemütlicher Runde Spiele zu spielen? \nDann komm´ montagnachmittags zu uns in den FreiRaum! \nMit einem bunten Spieleangebot wollen wir gemeinsame Momente schaffen – und das jeden Montag von 15:30 Uhr bis 17:30 Uhr. \nEine Anmeldung ist nicht erforderlich. \nDas Angebot ist kostenlos. \nWir freuen uns über jeden ab ca. 8 Jahre\, der vorbeikommt und gemeinsam mit uns – Marc und Charlotte – die Spielesammlung im FreiRaum genau unter die Lupe nimmt!
URL:https://inklusion-warendorf.de/veranstaltung/spielraum-spieletreff-im-freiraum/2030-05-20/
LOCATION:FreiRaum\, Münsterstraße 27\, Warendorf\, NRW\, 48231\, Deutschland
CATEGORIES:FreiRaum
ATTACH;FMTTYPE=image/png:https://inklusion-warendorf.de/wp-content/uploads/2024/10/spielraum.png
END:VEVENT
BEGIN:VEVENT
DTSTART;TZID=Europe/Berlin:20300527T160000
DTEND;TZID=Europe/Berlin:20300527T180000
DTSTAMP:20260420T012732
CREATED:20241030T132249Z
LAST-MODIFIED:20250701T100800Z
UID:10006385-1906128000-1906135200@inklusion-warendorf.de
SUMMARY:Spielraum: wöchentlicher Spieletreff im FreiRaum
DESCRIPTION:Der SpielRaum im FreiRaum\nDu bist gerne in Gesellschaft und möchtest deine Zeit damit verbringen\, in gemütlicher Runde Spiele zu spielen? \nDann komm´ montagnachmittags zu uns in den FreiRaum! \nMit einem bunten Spieleangebot wollen wir gemeinsame Momente schaffen – und das jeden Montag von 15:30 Uhr bis 17:30 Uhr. \nEine Anmeldung ist nicht erforderlich. \nDas Angebot ist kostenlos. \nWir freuen uns über jeden ab ca. 8 Jahre\, der vorbeikommt und gemeinsam mit uns – Marc und Charlotte – die Spielesammlung im FreiRaum genau unter die Lupe nimmt!
URL:https://inklusion-warendorf.de/veranstaltung/spielraum-spieletreff-im-freiraum/2030-05-27/
LOCATION:FreiRaum\, Münsterstraße 27\, Warendorf\, NRW\, 48231\, Deutschland
CATEGORIES:FreiRaum
ATTACH;FMTTYPE=image/png:https://inklusion-warendorf.de/wp-content/uploads/2024/10/spielraum.png
END:VEVENT
BEGIN:VEVENT
DTSTART;TZID=Europe/Berlin:20300603T160000
DTEND;TZID=Europe/Berlin:20300603T180000
DTSTAMP:20260420T012732
CREATED:20241030T132249Z
LAST-MODIFIED:20250701T100800Z
UID:10006386-1906732800-1906740000@inklusion-warendorf.de
SUMMARY:Spielraum: wöchentlicher Spieletreff im FreiRaum
DESCRIPTION:Der SpielRaum im FreiRaum\nDu bist gerne in Gesellschaft und möchtest deine Zeit damit verbringen\, in gemütlicher Runde Spiele zu spielen? \nDann komm´ montagnachmittags zu uns in den FreiRaum! \nMit einem bunten Spieleangebot wollen wir gemeinsame Momente schaffen – und das jeden Montag von 15:30 Uhr bis 17:30 Uhr. \nEine Anmeldung ist nicht erforderlich. \nDas Angebot ist kostenlos. \nWir freuen uns über jeden ab ca. 8 Jahre\, der vorbeikommt und gemeinsam mit uns – Marc und Charlotte – die Spielesammlung im FreiRaum genau unter die Lupe nimmt!
URL:https://inklusion-warendorf.de/veranstaltung/spielraum-spieletreff-im-freiraum/2030-06-03/
LOCATION:FreiRaum\, Münsterstraße 27\, Warendorf\, NRW\, 48231\, Deutschland
CATEGORIES:FreiRaum
ATTACH;FMTTYPE=image/png:https://inklusion-warendorf.de/wp-content/uploads/2024/10/spielraum.png
END:VEVENT
BEGIN:VEVENT
DTSTART;TZID=Europe/Berlin:20300610T160000
DTEND;TZID=Europe/Berlin:20300610T180000
DTSTAMP:20260420T012732
CREATED:20241030T132249Z
LAST-MODIFIED:20250701T100800Z
UID:10006387-1907337600-1907344800@inklusion-warendorf.de
SUMMARY:Spielraum: wöchentlicher Spieletreff im FreiRaum
DESCRIPTION:Der SpielRaum im FreiRaum\nDu bist gerne in Gesellschaft und möchtest deine Zeit damit verbringen\, in gemütlicher Runde Spiele zu spielen? \nDann komm´ montagnachmittags zu uns in den FreiRaum! \nMit einem bunten Spieleangebot wollen wir gemeinsame Momente schaffen – und das jeden Montag von 15:30 Uhr bis 17:30 Uhr. \nEine Anmeldung ist nicht erforderlich. \nDas Angebot ist kostenlos. \nWir freuen uns über jeden ab ca. 8 Jahre\, der vorbeikommt und gemeinsam mit uns – Marc und Charlotte – die Spielesammlung im FreiRaum genau unter die Lupe nimmt!
URL:https://inklusion-warendorf.de/veranstaltung/spielraum-spieletreff-im-freiraum/2030-06-10/
LOCATION:FreiRaum\, Münsterstraße 27\, Warendorf\, NRW\, 48231\, Deutschland
CATEGORIES:FreiRaum
ATTACH;FMTTYPE=image/png:https://inklusion-warendorf.de/wp-content/uploads/2024/10/spielraum.png
END:VEVENT
BEGIN:VEVENT
DTSTART;TZID=Europe/Berlin:20300617T160000
DTEND;TZID=Europe/Berlin:20300617T180000
DTSTAMP:20260420T012732
CREATED:20241030T132249Z
LAST-MODIFIED:20250701T100800Z
UID:10006388-1907942400-1907949600@inklusion-warendorf.de
SUMMARY:Spielraum: wöchentlicher Spieletreff im FreiRaum
DESCRIPTION:Der SpielRaum im FreiRaum\nDu bist gerne in Gesellschaft und möchtest deine Zeit damit verbringen\, in gemütlicher Runde Spiele zu spielen? \nDann komm´ montagnachmittags zu uns in den FreiRaum! \nMit einem bunten Spieleangebot wollen wir gemeinsame Momente schaffen – und das jeden Montag von 15:30 Uhr bis 17:30 Uhr. \nEine Anmeldung ist nicht erforderlich. \nDas Angebot ist kostenlos. \nWir freuen uns über jeden ab ca. 8 Jahre\, der vorbeikommt und gemeinsam mit uns – Marc und Charlotte – die Spielesammlung im FreiRaum genau unter die Lupe nimmt!
URL:https://inklusion-warendorf.de/veranstaltung/spielraum-spieletreff-im-freiraum/2030-06-17/
LOCATION:FreiRaum\, Münsterstraße 27\, Warendorf\, NRW\, 48231\, Deutschland
CATEGORIES:FreiRaum
ATTACH;FMTTYPE=image/png:https://inklusion-warendorf.de/wp-content/uploads/2024/10/spielraum.png
END:VEVENT
BEGIN:VEVENT
DTSTART;TZID=Europe/Berlin:20300624T160000
DTEND;TZID=Europe/Berlin:20300624T180000
DTSTAMP:20260420T012733
CREATED:20241030T132249Z
LAST-MODIFIED:20250701T100800Z
UID:10006389-1908547200-1908554400@inklusion-warendorf.de
SUMMARY:Spielraum: wöchentlicher Spieletreff im FreiRaum
DESCRIPTION:Der SpielRaum im FreiRaum\nDu bist gerne in Gesellschaft und möchtest deine Zeit damit verbringen\, in gemütlicher Runde Spiele zu spielen? \nDann komm´ montagnachmittags zu uns in den FreiRaum! \nMit einem bunten Spieleangebot wollen wir gemeinsame Momente schaffen – und das jeden Montag von 15:30 Uhr bis 17:30 Uhr. \nEine Anmeldung ist nicht erforderlich. \nDas Angebot ist kostenlos. \nWir freuen uns über jeden ab ca. 8 Jahre\, der vorbeikommt und gemeinsam mit uns – Marc und Charlotte – die Spielesammlung im FreiRaum genau unter die Lupe nimmt!
URL:https://inklusion-warendorf.de/veranstaltung/spielraum-spieletreff-im-freiraum/2030-06-24/
LOCATION:FreiRaum\, Münsterstraße 27\, Warendorf\, NRW\, 48231\, Deutschland
CATEGORIES:FreiRaum
ATTACH;FMTTYPE=image/png:https://inklusion-warendorf.de/wp-content/uploads/2024/10/spielraum.png
END:VEVENT
BEGIN:VEVENT
DTSTART;TZID=Europe/Berlin:20300701T160000
DTEND;TZID=Europe/Berlin:20300701T180000
DTSTAMP:20260420T012733
CREATED:20241030T132249Z
LAST-MODIFIED:20250701T100800Z
UID:10006390-1909152000-1909159200@inklusion-warendorf.de
SUMMARY:Spielraum: wöchentlicher Spieletreff im FreiRaum
DESCRIPTION:Der SpielRaum im FreiRaum\nDu bist gerne in Gesellschaft und möchtest deine Zeit damit verbringen\, in gemütlicher Runde Spiele zu spielen? \nDann komm´ montagnachmittags zu uns in den FreiRaum! \nMit einem bunten Spieleangebot wollen wir gemeinsame Momente schaffen – und das jeden Montag von 15:30 Uhr bis 17:30 Uhr. \nEine Anmeldung ist nicht erforderlich. \nDas Angebot ist kostenlos. \nWir freuen uns über jeden ab ca. 8 Jahre\, der vorbeikommt und gemeinsam mit uns – Marc und Charlotte – die Spielesammlung im FreiRaum genau unter die Lupe nimmt!
URL:https://inklusion-warendorf.de/veranstaltung/spielraum-spieletreff-im-freiraum/2030-07-01/
LOCATION:FreiRaum\, Münsterstraße 27\, Warendorf\, NRW\, 48231\, Deutschland
CATEGORIES:FreiRaum
ATTACH;FMTTYPE=image/png:https://inklusion-warendorf.de/wp-content/uploads/2024/10/spielraum.png
END:VEVENT
END:VCALENDAR