BEGIN:VCALENDAR
VERSION:2.0
PRODID:-//Wir. Alle. Füreinander. - ECPv6.15.5//NONSGML v1.0//EN
CALSCALE:GREGORIAN
METHOD:PUBLISH
X-WR-CALNAME:Wir. Alle. Füreinander.
X-ORIGINAL-URL:https://inklusion-warendorf.de
X-WR-CALDESC:Veranstaltungen für Wir. Alle. Füreinander.
REFRESH-INTERVAL;VALUE=DURATION:PT1H
X-Robots-Tag:noindex
X-PUBLISHED-TTL:PT1H
BEGIN:VTIMEZONE
TZID:Europe/Berlin
BEGIN:DAYLIGHT
TZOFFSETFROM:+0100
TZOFFSETTO:+0200
TZNAME:CEST
DTSTART:20280326T010000
END:DAYLIGHT
BEGIN:STANDARD
TZOFFSETFROM:+0200
TZOFFSETTO:+0100
TZNAME:CET
DTSTART:20281029T010000
END:STANDARD
END:VTIMEZONE
BEGIN:VEVENT
DTSTART;TZID=Europe/Berlin:20280104T093000
DTEND;TZID=Europe/Berlin:20280104T113000
DTSTAMP:20260420T022120
CREATED:20240920T174406Z
LAST-MODIFIED:20250430T073401Z
UID:10002544-1830591000-1830598200@inklusion-warendorf.de
SUMMARY:Das Tellen-Café
DESCRIPTION:Dienstags ist die Heinrich-Tellen-Schule im FreiRaum zu Besuch und versorgt alle Gäste mit einer leckeren Kleinigkeit. \nSchaut gerne vorbei!
URL:https://inklusion-warendorf.de/veranstaltung/das-tellen-cafe/2028-01-04/
LOCATION:FreiRaum\, Münsterstraße 27\, Warendorf\, NRW\, 48231\, Deutschland
CATEGORIES:FreiRaum
ATTACH;FMTTYPE=image/jpeg:https://inklusion-warendorf.de/wp-content/uploads/2024/09/candy.jpg
END:VEVENT
BEGIN:VEVENT
DTSTART;TZID=Europe/Berlin:20280111T093000
DTEND;TZID=Europe/Berlin:20280111T113000
DTSTAMP:20260420T022120
CREATED:20240920T174406Z
LAST-MODIFIED:20250430T073401Z
UID:10002545-1831195800-1831203000@inklusion-warendorf.de
SUMMARY:Das Tellen-Café
DESCRIPTION:Dienstags ist die Heinrich-Tellen-Schule im FreiRaum zu Besuch und versorgt alle Gäste mit einer leckeren Kleinigkeit. \nSchaut gerne vorbei!
URL:https://inklusion-warendorf.de/veranstaltung/das-tellen-cafe/2028-01-11/
LOCATION:FreiRaum\, Münsterstraße 27\, Warendorf\, NRW\, 48231\, Deutschland
CATEGORIES:FreiRaum
ATTACH;FMTTYPE=image/jpeg:https://inklusion-warendorf.de/wp-content/uploads/2024/09/candy.jpg
END:VEVENT
BEGIN:VEVENT
DTSTART;TZID=Europe/Berlin:20280118T093000
DTEND;TZID=Europe/Berlin:20280118T113000
DTSTAMP:20260420T022120
CREATED:20240920T174406Z
LAST-MODIFIED:20250430T073401Z
UID:10002546-1831800600-1831807800@inklusion-warendorf.de
SUMMARY:Das Tellen-Café
DESCRIPTION:Dienstags ist die Heinrich-Tellen-Schule im FreiRaum zu Besuch und versorgt alle Gäste mit einer leckeren Kleinigkeit. \nSchaut gerne vorbei!
URL:https://inklusion-warendorf.de/veranstaltung/das-tellen-cafe/2028-01-18/
LOCATION:FreiRaum\, Münsterstraße 27\, Warendorf\, NRW\, 48231\, Deutschland
CATEGORIES:FreiRaum
ATTACH;FMTTYPE=image/jpeg:https://inklusion-warendorf.de/wp-content/uploads/2024/09/candy.jpg
END:VEVENT
BEGIN:VEVENT
DTSTART;TZID=Europe/Berlin:20280125T093000
DTEND;TZID=Europe/Berlin:20280125T113000
DTSTAMP:20260420T022120
CREATED:20240920T174406Z
LAST-MODIFIED:20250430T073401Z
UID:10002547-1832405400-1832412600@inklusion-warendorf.de
SUMMARY:Das Tellen-Café
DESCRIPTION:Dienstags ist die Heinrich-Tellen-Schule im FreiRaum zu Besuch und versorgt alle Gäste mit einer leckeren Kleinigkeit. \nSchaut gerne vorbei!
URL:https://inklusion-warendorf.de/veranstaltung/das-tellen-cafe/2028-01-25/
LOCATION:FreiRaum\, Münsterstraße 27\, Warendorf\, NRW\, 48231\, Deutschland
CATEGORIES:FreiRaum
ATTACH;FMTTYPE=image/jpeg:https://inklusion-warendorf.de/wp-content/uploads/2024/09/candy.jpg
END:VEVENT
END:VCALENDAR