BEGIN:VCALENDAR
VERSION:2.0
PRODID:-//Wir. Alle. Füreinander. - ECPv6.15.5//NONSGML v1.0//EN
CALSCALE:GREGORIAN
METHOD:PUBLISH
X-ORIGINAL-URL:https://inklusion-warendorf.de
X-WR-CALDESC:Veranstaltungen für Wir. Alle. Füreinander.
REFRESH-INTERVAL;VALUE=DURATION:PT1H
X-Robots-Tag:noindex
X-PUBLISHED-TTL:PT1H
BEGIN:VTIMEZONE
TZID:Europe/Berlin
BEGIN:DAYLIGHT
TZOFFSETFROM:+0100
TZOFFSETTO:+0200
TZNAME:CEST
DTSTART:20280326T010000
END:DAYLIGHT
BEGIN:STANDARD
TZOFFSETFROM:+0200
TZOFFSETTO:+0100
TZNAME:CET
DTSTART:20281029T010000
END:STANDARD
END:VTIMEZONE
BEGIN:VEVENT
DTSTART;TZID=Europe/Berlin:20280801T093000
DTEND;TZID=Europe/Berlin:20280801T113000
DTSTAMP:20260422T140630
CREATED:20240920T174406Z
LAST-MODIFIED:20250430T073401Z
UID:10002574-1848735000-1848742200@inklusion-warendorf.de
SUMMARY:Das Tellen-Café
DESCRIPTION:Dienstags ist die Heinrich-Tellen-Schule im FreiRaum zu Besuch und versorgt alle Gäste mit einer leckeren Kleinigkeit. \nSchaut gerne vorbei!
URL:https://inklusion-warendorf.de/veranstaltung/das-tellen-cafe/2028-08-01/
LOCATION:FreiRaum\, Münsterstraße 27\, Warendorf\, NRW\, 48231\, Deutschland
CATEGORIES:FreiRaum
ATTACH;FMTTYPE=image/jpeg:https://inklusion-warendorf.de/wp-content/uploads/2024/09/candy.jpg
END:VEVENT
BEGIN:VEVENT
DTSTART;TZID=Europe/Berlin:20280808T093000
DTEND;TZID=Europe/Berlin:20280808T113000
DTSTAMP:20260422T140630
CREATED:20240920T174406Z
LAST-MODIFIED:20250430T073401Z
UID:10002575-1849339800-1849347000@inklusion-warendorf.de
SUMMARY:Das Tellen-Café
DESCRIPTION:Dienstags ist die Heinrich-Tellen-Schule im FreiRaum zu Besuch und versorgt alle Gäste mit einer leckeren Kleinigkeit. \nSchaut gerne vorbei!
URL:https://inklusion-warendorf.de/veranstaltung/das-tellen-cafe/2028-08-08/
LOCATION:FreiRaum\, Münsterstraße 27\, Warendorf\, NRW\, 48231\, Deutschland
CATEGORIES:FreiRaum
ATTACH;FMTTYPE=image/jpeg:https://inklusion-warendorf.de/wp-content/uploads/2024/09/candy.jpg
END:VEVENT
BEGIN:VEVENT
DTSTART;TZID=Europe/Berlin:20280815T093000
DTEND;TZID=Europe/Berlin:20280815T113000
DTSTAMP:20260422T140630
CREATED:20240920T174406Z
LAST-MODIFIED:20250430T073401Z
UID:10002576-1849944600-1849951800@inklusion-warendorf.de
SUMMARY:Das Tellen-Café
DESCRIPTION:Dienstags ist die Heinrich-Tellen-Schule im FreiRaum zu Besuch und versorgt alle Gäste mit einer leckeren Kleinigkeit. \nSchaut gerne vorbei!
URL:https://inklusion-warendorf.de/veranstaltung/das-tellen-cafe/2028-08-15/
LOCATION:FreiRaum\, Münsterstraße 27\, Warendorf\, NRW\, 48231\, Deutschland
CATEGORIES:FreiRaum
ATTACH;FMTTYPE=image/jpeg:https://inklusion-warendorf.de/wp-content/uploads/2024/09/candy.jpg
END:VEVENT
BEGIN:VEVENT
DTSTART;TZID=Europe/Berlin:20280822T093000
DTEND;TZID=Europe/Berlin:20280822T113000
DTSTAMP:20260422T140630
CREATED:20240920T174406Z
LAST-MODIFIED:20250430T073401Z
UID:10002577-1850549400-1850556600@inklusion-warendorf.de
SUMMARY:Das Tellen-Café
DESCRIPTION:Dienstags ist die Heinrich-Tellen-Schule im FreiRaum zu Besuch und versorgt alle Gäste mit einer leckeren Kleinigkeit. \nSchaut gerne vorbei!
URL:https://inklusion-warendorf.de/veranstaltung/das-tellen-cafe/2028-08-22/
LOCATION:FreiRaum\, Münsterstraße 27\, Warendorf\, NRW\, 48231\, Deutschland
CATEGORIES:FreiRaum
ATTACH;FMTTYPE=image/jpeg:https://inklusion-warendorf.de/wp-content/uploads/2024/09/candy.jpg
END:VEVENT
BEGIN:VEVENT
DTSTART;TZID=Europe/Berlin:20280829T093000
DTEND;TZID=Europe/Berlin:20280829T113000
DTSTAMP:20260422T140630
CREATED:20240920T174406Z
LAST-MODIFIED:20250430T073401Z
UID:10002578-1851154200-1851161400@inklusion-warendorf.de
SUMMARY:Das Tellen-Café
DESCRIPTION:Dienstags ist die Heinrich-Tellen-Schule im FreiRaum zu Besuch und versorgt alle Gäste mit einer leckeren Kleinigkeit. \nSchaut gerne vorbei!
URL:https://inklusion-warendorf.de/veranstaltung/das-tellen-cafe/2028-08-29/
LOCATION:FreiRaum\, Münsterstraße 27\, Warendorf\, NRW\, 48231\, Deutschland
CATEGORIES:FreiRaum
ATTACH;FMTTYPE=image/jpeg:https://inklusion-warendorf.de/wp-content/uploads/2024/09/candy.jpg
END:VEVENT
END:VCALENDAR