BEGIN:VCALENDAR
VERSION:2.0
PRODID:-//Wir. Alle. Füreinander. - ECPv6.15.5//NONSGML v1.0//EN
CALSCALE:GREGORIAN
METHOD:PUBLISH
X-WR-CALNAME:Wir. Alle. Füreinander.
X-ORIGINAL-URL:https://inklusion-warendorf.de
X-WR-CALDESC:Veranstaltungen für Wir. Alle. Füreinander.
REFRESH-INTERVAL;VALUE=DURATION:PT1H
X-Robots-Tag:noindex
X-PUBLISHED-TTL:PT1H
BEGIN:VTIMEZONE
TZID:Europe/Berlin
BEGIN:DAYLIGHT
TZOFFSETFROM:+0100
TZOFFSETTO:+0200
TZNAME:CEST
DTSTART:20290325T010000
END:DAYLIGHT
BEGIN:STANDARD
TZOFFSETFROM:+0200
TZOFFSETTO:+0100
TZNAME:CET
DTSTART:20291028T010000
END:STANDARD
END:VTIMEZONE
BEGIN:VEVENT
DTSTART;TZID=Europe/Berlin:20290206T093000
DTEND;TZID=Europe/Berlin:20290206T113000
DTSTAMP:20260422T233918
CREATED:20240920T174406Z
LAST-MODIFIED:20250430T073401Z
UID:10002601-1865064600-1865071800@inklusion-warendorf.de
SUMMARY:Das Tellen-Café
DESCRIPTION:Dienstags ist die Heinrich-Tellen-Schule im FreiRaum zu Besuch und versorgt alle Gäste mit einer leckeren Kleinigkeit. \nSchaut gerne vorbei!
URL:https://inklusion-warendorf.de/veranstaltung/das-tellen-cafe/2029-02-06/
LOCATION:FreiRaum\, Münsterstraße 27\, Warendorf\, NRW\, 48231\, Deutschland
CATEGORIES:FreiRaum
ATTACH;FMTTYPE=image/jpeg:https://inklusion-warendorf.de/wp-content/uploads/2024/09/candy.jpg
END:VEVENT
BEGIN:VEVENT
DTSTART;TZID=Europe/Berlin:20290213T093000
DTEND;TZID=Europe/Berlin:20290213T113000
DTSTAMP:20260422T233918
CREATED:20240920T174406Z
LAST-MODIFIED:20250430T073401Z
UID:10002602-1865669400-1865676600@inklusion-warendorf.de
SUMMARY:Das Tellen-Café
DESCRIPTION:Dienstags ist die Heinrich-Tellen-Schule im FreiRaum zu Besuch und versorgt alle Gäste mit einer leckeren Kleinigkeit. \nSchaut gerne vorbei!
URL:https://inklusion-warendorf.de/veranstaltung/das-tellen-cafe/2029-02-13/
LOCATION:FreiRaum\, Münsterstraße 27\, Warendorf\, NRW\, 48231\, Deutschland
CATEGORIES:FreiRaum
ATTACH;FMTTYPE=image/jpeg:https://inklusion-warendorf.de/wp-content/uploads/2024/09/candy.jpg
END:VEVENT
BEGIN:VEVENT
DTSTART;TZID=Europe/Berlin:20290220T093000
DTEND;TZID=Europe/Berlin:20290220T113000
DTSTAMP:20260422T233918
CREATED:20240920T174406Z
LAST-MODIFIED:20250430T073401Z
UID:10002603-1866274200-1866281400@inklusion-warendorf.de
SUMMARY:Das Tellen-Café
DESCRIPTION:Dienstags ist die Heinrich-Tellen-Schule im FreiRaum zu Besuch und versorgt alle Gäste mit einer leckeren Kleinigkeit. \nSchaut gerne vorbei!
URL:https://inklusion-warendorf.de/veranstaltung/das-tellen-cafe/2029-02-20/
LOCATION:FreiRaum\, Münsterstraße 27\, Warendorf\, NRW\, 48231\, Deutschland
CATEGORIES:FreiRaum
ATTACH;FMTTYPE=image/jpeg:https://inklusion-warendorf.de/wp-content/uploads/2024/09/candy.jpg
END:VEVENT
BEGIN:VEVENT
DTSTART;TZID=Europe/Berlin:20290227T093000
DTEND;TZID=Europe/Berlin:20290227T113000
DTSTAMP:20260422T233918
CREATED:20240920T174406Z
LAST-MODIFIED:20250430T073401Z
UID:10002604-1866879000-1866886200@inklusion-warendorf.de
SUMMARY:Das Tellen-Café
DESCRIPTION:Dienstags ist die Heinrich-Tellen-Schule im FreiRaum zu Besuch und versorgt alle Gäste mit einer leckeren Kleinigkeit. \nSchaut gerne vorbei!
URL:https://inklusion-warendorf.de/veranstaltung/das-tellen-cafe/2029-02-27/
LOCATION:FreiRaum\, Münsterstraße 27\, Warendorf\, NRW\, 48231\, Deutschland
CATEGORIES:FreiRaum
ATTACH;FMTTYPE=image/jpeg:https://inklusion-warendorf.de/wp-content/uploads/2024/09/candy.jpg
END:VEVENT
END:VCALENDAR