BEGIN:VCALENDAR
VERSION:2.0
PRODID:-//Wir. Alle. Füreinander. - ECPv6.15.5//NONSGML v1.0//EN
CALSCALE:GREGORIAN
METHOD:PUBLISH
X-ORIGINAL-URL:https://inklusion-warendorf.de
X-WR-CALDESC:Veranstaltungen für Wir. Alle. Füreinander.
REFRESH-INTERVAL;VALUE=DURATION:PT1H
X-Robots-Tag:noindex
X-PUBLISHED-TTL:PT1H
BEGIN:VTIMEZONE
TZID:Europe/Berlin
BEGIN:DAYLIGHT
TZOFFSETFROM:+0100
TZOFFSETTO:+0200
TZNAME:CEST
DTSTART:20290325T010000
END:DAYLIGHT
BEGIN:STANDARD
TZOFFSETFROM:+0200
TZOFFSETTO:+0100
TZNAME:CET
DTSTART:20291028T010000
END:STANDARD
END:VTIMEZONE
BEGIN:VEVENT
DTSTART;TZID=Europe/Berlin:20290904T093000
DTEND;TZID=Europe/Berlin:20290904T113000
DTSTAMP:20260423T114008
CREATED:20240920T174406Z
LAST-MODIFIED:20250430T073401Z
UID:10002631-1883208600-1883215800@inklusion-warendorf.de
SUMMARY:Das Tellen-Café
DESCRIPTION:Dienstags ist die Heinrich-Tellen-Schule im FreiRaum zu Besuch und versorgt alle Gäste mit einer leckeren Kleinigkeit. \nSchaut gerne vorbei!
URL:https://inklusion-warendorf.de/veranstaltung/das-tellen-cafe/2029-09-04/
LOCATION:FreiRaum\, Münsterstraße 27\, Warendorf\, NRW\, 48231\, Deutschland
CATEGORIES:FreiRaum
ATTACH;FMTTYPE=image/jpeg:https://inklusion-warendorf.de/wp-content/uploads/2024/09/candy.jpg
END:VEVENT
BEGIN:VEVENT
DTSTART;TZID=Europe/Berlin:20290911T093000
DTEND;TZID=Europe/Berlin:20290911T113000
DTSTAMP:20260423T114008
CREATED:20240920T174406Z
LAST-MODIFIED:20250430T073401Z
UID:10002632-1883813400-1883820600@inklusion-warendorf.de
SUMMARY:Das Tellen-Café
DESCRIPTION:Dienstags ist die Heinrich-Tellen-Schule im FreiRaum zu Besuch und versorgt alle Gäste mit einer leckeren Kleinigkeit. \nSchaut gerne vorbei!
URL:https://inklusion-warendorf.de/veranstaltung/das-tellen-cafe/2029-09-11/
LOCATION:FreiRaum\, Münsterstraße 27\, Warendorf\, NRW\, 48231\, Deutschland
CATEGORIES:FreiRaum
ATTACH;FMTTYPE=image/jpeg:https://inklusion-warendorf.de/wp-content/uploads/2024/09/candy.jpg
END:VEVENT
BEGIN:VEVENT
DTSTART;TZID=Europe/Berlin:20290918T093000
DTEND;TZID=Europe/Berlin:20290918T113000
DTSTAMP:20260423T114008
CREATED:20240920T174406Z
LAST-MODIFIED:20250430T073401Z
UID:10002633-1884418200-1884425400@inklusion-warendorf.de
SUMMARY:Das Tellen-Café
DESCRIPTION:Dienstags ist die Heinrich-Tellen-Schule im FreiRaum zu Besuch und versorgt alle Gäste mit einer leckeren Kleinigkeit. \nSchaut gerne vorbei!
URL:https://inklusion-warendorf.de/veranstaltung/das-tellen-cafe/2029-09-18/
LOCATION:FreiRaum\, Münsterstraße 27\, Warendorf\, NRW\, 48231\, Deutschland
CATEGORIES:FreiRaum
ATTACH;FMTTYPE=image/jpeg:https://inklusion-warendorf.de/wp-content/uploads/2024/09/candy.jpg
END:VEVENT
BEGIN:VEVENT
DTSTART;TZID=Europe/Berlin:20290925T093000
DTEND;TZID=Europe/Berlin:20290925T113000
DTSTAMP:20260423T114008
CREATED:20240920T174406Z
LAST-MODIFIED:20250430T073401Z
UID:10004808-1885023000-1885030200@inklusion-warendorf.de
SUMMARY:Das Tellen-Café
DESCRIPTION:Dienstags ist die Heinrich-Tellen-Schule im FreiRaum zu Besuch und versorgt alle Gäste mit einer leckeren Kleinigkeit. \nSchaut gerne vorbei!
URL:https://inklusion-warendorf.de/veranstaltung/das-tellen-cafe/2029-09-25/
LOCATION:FreiRaum\, Münsterstraße 27\, Warendorf\, NRW\, 48231\, Deutschland
CATEGORIES:FreiRaum
ATTACH;FMTTYPE=image/jpeg:https://inklusion-warendorf.de/wp-content/uploads/2024/09/candy.jpg
END:VEVENT
END:VCALENDAR