BEGIN:VCALENDAR
VERSION:2.0
PRODID:-//Wir. Alle. Füreinander. - ECPv6.15.5//NONSGML v1.0//EN
CALSCALE:GREGORIAN
METHOD:PUBLISH
X-WR-CALNAME:Wir. Alle. Füreinander.
X-ORIGINAL-URL:https://inklusion-warendorf.de
X-WR-CALDESC:Veranstaltungen für Wir. Alle. Füreinander.
REFRESH-INTERVAL;VALUE=DURATION:PT1H
X-Robots-Tag:noindex
X-PUBLISHED-TTL:PT1H
BEGIN:VTIMEZONE
TZID:Europe/Berlin
BEGIN:DAYLIGHT
TZOFFSETFROM:+0100
TZOFFSETTO:+0200
TZNAME:CEST
DTSTART:20240331T010000
END:DAYLIGHT
BEGIN:STANDARD
TZOFFSETFROM:+0200
TZOFFSETTO:+0100
TZNAME:CET
DTSTART:20241027T010000
END:STANDARD
BEGIN:DAYLIGHT
TZOFFSETFROM:+0100
TZOFFSETTO:+0200
TZNAME:CEST
DTSTART:20250330T010000
END:DAYLIGHT
BEGIN:STANDARD
TZOFFSETFROM:+0200
TZOFFSETTO:+0100
TZNAME:CET
DTSTART:20251026T010000
END:STANDARD
END:VTIMEZONE
BEGIN:VEVENT
DTSTART;TZID=Europe/Berlin:20250108T160000
DTEND;TZID=Europe/Berlin:20250108T190000
DTSTAMP:20260424T221506
CREATED:20240624T220358Z
LAST-MODIFIED:20241218T133037Z
UID:10000151-1736352000-1736362800@inklusion-warendorf.de
SUMMARY:Café international
DESCRIPTION:Café international: Jeden Mittwoch Nachmittag im FreiRaum
URL:https://inklusion-warendorf.de/veranstaltung/cafe-international/2025-01-08/
LOCATION:FreiRaum\, Münsterstraße 27\, Warendorf\, NRW\, 48231\, Deutschland
CATEGORIES:FreiRaum
ATTACH;FMTTYPE=image/jpeg:https://inklusion-warendorf.de/wp-content/uploads/2024/04/cookies-1383280_1920.jpg
END:VEVENT
BEGIN:VEVENT
DTSTART;TZID=Europe/Berlin:20250106T160000
DTEND;TZID=Europe/Berlin:20250106T180000
DTSTAMP:20260424T221506
CREATED:20241030T132249Z
LAST-MODIFIED:20250701T100800Z
UID:10006106-1736179200-1736186400@inklusion-warendorf.de
SUMMARY:Spielraum: wöchentlicher Spieletreff im FreiRaum
DESCRIPTION:Der SpielRaum im FreiRaum\nDu bist gerne in Gesellschaft und möchtest deine Zeit damit verbringen\, in gemütlicher Runde Spiele zu spielen? \nDann komm´ montagnachmittags zu uns in den FreiRaum! \nMit einem bunten Spieleangebot wollen wir gemeinsame Momente schaffen – und das jeden Montag von 15:30 Uhr bis 17:30 Uhr. \nEine Anmeldung ist nicht erforderlich. \nDas Angebot ist kostenlos. \nWir freuen uns über jeden ab ca. 8 Jahre\, der vorbeikommt und gemeinsam mit uns – Marc und Charlotte – die Spielesammlung im FreiRaum genau unter die Lupe nimmt!
URL:https://inklusion-warendorf.de/veranstaltung/spielraum-spieletreff-im-freiraum/2025-01-06/
LOCATION:FreiRaum\, Münsterstraße 27\, Warendorf\, NRW\, 48231\, Deutschland
CATEGORIES:FreiRaum
ATTACH;FMTTYPE=image/png:https://inklusion-warendorf.de/wp-content/uploads/2024/10/spielraum.png
END:VEVENT
BEGIN:VEVENT
DTSTART;TZID=Europe/Berlin:20250103T100000
DTEND;TZID=Europe/Berlin:20250103T140000
DTSTAMP:20260424T221507
CREATED:20241218T133427Z
LAST-MODIFIED:20241218T133427Z
UID:10005172-1735898400-1735912800@inklusion-warendorf.de
SUMMARY:SkipBo-Turnier
DESCRIPTION:Wir starten am 03.01.2025 mit einem SkipBo-Turnier in das neue Jahr! \nDas Turnier wird von dem Ambulant betreutem Wohnen ausgerichtet. \nWir freuen uns auf euch!
URL:https://inklusion-warendorf.de/veranstaltung/skipbo-turnier/
LOCATION:FreiRaum\, Münsterstraße 27\, Warendorf\, NRW\, 48231\, Deutschland
CATEGORIES:FreiRaum
ATTACH;FMTTYPE=image/jpeg:https://inklusion-warendorf.de/wp-content/uploads/2024/12/cards-2937475_640.jpg
END:VEVENT
BEGIN:VEVENT
DTSTART;TZID=Europe/Berlin:20241229T143000
DTEND;TZID=Europe/Berlin:20241229T170000
DTSTAMP:20260424T221507
CREATED:20240625T093257Z
LAST-MODIFIED:20250214T090511Z
UID:10002289-1735482600-1735491600@inklusion-warendorf.de
SUMMARY:Klön-Café
DESCRIPTION:Jeden letzten Sonntag im Monat ist das Klön-Café eine gute Gelegenheit um Unterhaltung\, Begegnung und Gemeinschaft zu erfahren – besonders auch für alleinstehende Warendorferinnen und Warendorfer. Ab 14:30 Uhr gibt es Kaffee und Kuchen in geselliger Atmosphäre. \nEuch erwartet Kaffee und Kuchen\, ein jeweils wechselndes leichtes Rahmenprogramm und viele nette Menschen\, die den Sonntagnachmittag zu einem angenehmen und geselligen Erlebnis machen. Eine Anmeldung ist nicht erforderlich – wir freuen uns auf Euren Besuch!
URL:https://inklusion-warendorf.de/veranstaltung/kloen-cafe/2024-12-29/
LOCATION:FreiRaum\, Münsterstraße 27\, Warendorf\, NRW\, 48231\, Deutschland
CATEGORIES:FreiRaum
END:VEVENT
BEGIN:VEVENT
DTSTART;TZID=Europe/Berlin:20241226T083000
DTEND;TZID=Europe/Berlin:20241226T123000
DTSTAMP:20260424T221507
CREATED:20250706T123032Z
LAST-MODIFIED:20250706T123123Z
UID:10006777-1735201800-1735216200@inklusion-warendorf.de
SUMMARY:Offener Treff für Alle! mit Ljuba Neufeld
DESCRIPTION:Offener Treff für Alle!\nmit Ljuba Neufeld \nGegenseitige Hilfe und Selbsthilfe in russischer Sprache \n“Miteinander reden – gesund bleiben”. \nAlle sind herzlich eingeladen mitzumachen. \nWir machen Aufwärmübungen\, Gymnastik\, singen\, plaudern\, tauschen interessante Geschichten aus der Vergangenheit aus\, trinken Tee und Kaffee und essen Kuchen. \nгруппа взаимопомощи и поддержки на русском языке \n“ Друг с другом разговаривать-оставаться здоровыми“ \nне сидите дома\, всем кому скучно и не хватает общения-вам к нам! У нас будет интерессно\, мы делаем разминки\, гимнастики\, поём\, общаемься\, делимься интерессными историями из прошлого\, а можем и Kuchen испечь\, и вместе чай & Кофе попить….. наша первая встреча состоится-26.06.2025. приглашаем всех желающих \nС собой возьмите позитив и хорошее настроение!
URL:https://inklusion-warendorf.de/veranstaltung/offener-treff-fuer-alle-mit-ljuba-neufeld/2024-12-26/
LOCATION:FreiRaum\, Münsterstraße 27\, Warendorf\, NRW\, 48231\, Deutschland
CATEGORIES:FreiRaum
ATTACH;FMTTYPE=image/jpeg:https://inklusion-warendorf.de/wp-content/uploads/2025/07/coffee-shop-3699340_1280.jpg
END:VEVENT
BEGIN:VEVENT
DTSTART;TZID=Europe/Berlin:20241220T113000
DTEND;TZID=Europe/Berlin:20241220T133000
DTSTAMP:20260424T221507
CREATED:20240924T162505Z
LAST-MODIFIED:20250120T111642Z
UID:10002963-1734694200-1734701400@inklusion-warendorf.de
SUMMARY:Internationaler Lerntreff
DESCRIPTION:Internationaler Lerntreff – Deutsch lernen und sich austauschen! \nDas erwartet euch jeden Freitag im FreiRaum: \n-Lernmöglichkeit bei Sprachkursen und Prüfungsvorbereitung \n-Verbesserung der Deutschkenntnisse \n-Austausch mit anderen Teilnehmern und Motivation durch eine lernfreudige Gemeinschaft \n-ruhige Umgebung\, um eigenständig Deutsch zu lernen.
URL:https://inklusion-warendorf.de/veranstaltung/internationaler-lerntreff/2024-12-20/
LOCATION:FreiRaum\, Münsterstraße 27\, Warendorf\, NRW\, 48231\, Deutschland
CATEGORIES:FreiRaum
ATTACH;FMTTYPE=image/jpeg:https://inklusion-warendorf.de/wp-content/uploads/2024/04/people-2557396_1920.jpg
END:VEVENT
BEGIN:VEVENT
DTSTART;TZID=Europe/Berlin:20241220T100000
DTEND;TZID=Europe/Berlin:20241220T113000
DTSTAMP:20260424T221507
CREATED:20241202T083436Z
LAST-MODIFIED:20250422T121056Z
UID:10004735-1734688800-1734694200@inklusion-warendorf.de
SUMMARY:Erzählbänke - Erzähl mir was!
DESCRIPTION:Die kalten Wintermonate verbringen die Erzählbänke jeden Freitag im FreiRaum!
URL:https://inklusion-warendorf.de/veranstaltung/erzaehlbaenke-erzaehl-mir-was/2024-12-20/
LOCATION:FreiRaum\, Münsterstraße 27\, Warendorf\, NRW\, 48231\, Deutschland
CATEGORIES:FreiRaum
ATTACH;FMTTYPE=image/jpeg:https://inklusion-warendorf.de/wp-content/uploads/2024/12/erzaehlbaenke-bild-scaled.jpg
END:VEVENT
BEGIN:VEVENT
DTSTART;TZID=Europe/Berlin:20241219T200000
DTEND;TZID=Europe/Berlin:20241219T214500
DTSTAMP:20260424T221507
CREATED:20240625T075616Z
LAST-MODIFIED:20250422T121022Z
UID:10004911-1734638400-1734644700@inklusion-warendorf.de
SUMMARY:Chor Mischtöne
DESCRIPTION:Jeden Donnerstag Abend probt der Chor „Mischtöne“ im FreiRaum. Der gemischte Pop-Chor unter der Leitung von Thomas Kraß hat sich auf englische und deutsche Poplieder spezialisiert. Mit besonderen musikalischen Aktionen ist der Chor auch im FreiRaum immer wieder aktiv. Neue Chormitglieder sind willkommen\, komm´ bei Interesse gerne vorbei.
URL:https://inklusion-warendorf.de/veranstaltung/chor-mischtoene-probe/2024-12-19/
LOCATION:FreiRaum\, Münsterstraße 27\, Warendorf\, NRW\, 48231\, Deutschland
CATEGORIES:FreiRaum
ATTACH;FMTTYPE=image/jpeg:https://inklusion-warendorf.de/wp-content/uploads/2024/06/FreiRaum-_468-scaled.jpg
END:VEVENT
BEGIN:VEVENT
DTSTART;TZID=Europe/Berlin:20241218T160000
DTEND;TZID=Europe/Berlin:20241218T190000
DTSTAMP:20260424T221507
CREATED:20240624T220358Z
LAST-MODIFIED:20241218T133037Z
UID:10000148-1734537600-1734548400@inklusion-warendorf.de
SUMMARY:Café international
DESCRIPTION:Café international: Jeden Mittwoch Nachmittag im FreiRaum
URL:https://inklusion-warendorf.de/veranstaltung/cafe-international/2024-12-18/
LOCATION:FreiRaum\, Münsterstraße 27\, Warendorf\, NRW\, 48231\, Deutschland
CATEGORIES:FreiRaum
ATTACH;FMTTYPE=image/jpeg:https://inklusion-warendorf.de/wp-content/uploads/2024/04/cookies-1383280_1920.jpg
END:VEVENT
BEGIN:VEVENT
DTSTART;TZID=Europe/Berlin:20241217T093000
DTEND;TZID=Europe/Berlin:20241217T113000
DTSTAMP:20260424T221507
CREATED:20240920T174406Z
LAST-MODIFIED:20250430T073401Z
UID:10002388-1734427800-1734435000@inklusion-warendorf.de
SUMMARY:Das Tellen-Café
DESCRIPTION:Dienstags ist die Heinrich-Tellen-Schule im FreiRaum zu Besuch und versorgt alle Gäste mit einer leckeren Kleinigkeit. \nSchaut gerne vorbei!
URL:https://inklusion-warendorf.de/veranstaltung/das-tellen-cafe/2024-12-17/
LOCATION:FreiRaum\, Münsterstraße 27\, Warendorf\, NRW\, 48231\, Deutschland
CATEGORIES:FreiRaum
ATTACH;FMTTYPE=image/jpeg:https://inklusion-warendorf.de/wp-content/uploads/2024/09/candy.jpg
END:VEVENT
BEGIN:VEVENT
DTSTART;TZID=Europe/Berlin:20241216T160000
DTEND;TZID=Europe/Berlin:20241216T180000
DTSTAMP:20260424T221507
CREATED:20241030T132249Z
LAST-MODIFIED:20250701T100800Z
UID:10006105-1734364800-1734372000@inklusion-warendorf.de
SUMMARY:Spielraum: wöchentlicher Spieletreff im FreiRaum
DESCRIPTION:Der SpielRaum im FreiRaum\nDu bist gerne in Gesellschaft und möchtest deine Zeit damit verbringen\, in gemütlicher Runde Spiele zu spielen? \nDann komm´ montagnachmittags zu uns in den FreiRaum! \nMit einem bunten Spieleangebot wollen wir gemeinsame Momente schaffen – und das jeden Montag von 15:30 Uhr bis 17:30 Uhr. \nEine Anmeldung ist nicht erforderlich. \nDas Angebot ist kostenlos. \nWir freuen uns über jeden ab ca. 8 Jahre\, der vorbeikommt und gemeinsam mit uns – Marc und Charlotte – die Spielesammlung im FreiRaum genau unter die Lupe nimmt!
URL:https://inklusion-warendorf.de/veranstaltung/spielraum-spieletreff-im-freiraum/2024-12-16/
LOCATION:FreiRaum\, Münsterstraße 27\, Warendorf\, NRW\, 48231\, Deutschland
CATEGORIES:FreiRaum
ATTACH;FMTTYPE=image/png:https://inklusion-warendorf.de/wp-content/uploads/2024/10/spielraum.png
END:VEVENT
BEGIN:VEVENT
DTSTART;TZID=Europe/Berlin:20241213T113000
DTEND;TZID=Europe/Berlin:20241213T133000
DTSTAMP:20260424T221507
CREATED:20240924T162505Z
LAST-MODIFIED:20250120T111642Z
UID:10002962-1734089400-1734096600@inklusion-warendorf.de
SUMMARY:Internationaler Lerntreff
DESCRIPTION:Internationaler Lerntreff – Deutsch lernen und sich austauschen! \nDas erwartet euch jeden Freitag im FreiRaum: \n-Lernmöglichkeit bei Sprachkursen und Prüfungsvorbereitung \n-Verbesserung der Deutschkenntnisse \n-Austausch mit anderen Teilnehmern und Motivation durch eine lernfreudige Gemeinschaft \n-ruhige Umgebung\, um eigenständig Deutsch zu lernen.
URL:https://inklusion-warendorf.de/veranstaltung/internationaler-lerntreff/2024-12-13/
LOCATION:FreiRaum\, Münsterstraße 27\, Warendorf\, NRW\, 48231\, Deutschland
CATEGORIES:FreiRaum
ATTACH;FMTTYPE=image/jpeg:https://inklusion-warendorf.de/wp-content/uploads/2024/04/people-2557396_1920.jpg
END:VEVENT
BEGIN:VEVENT
DTSTART;TZID=Europe/Berlin:20241213T100000
DTEND;TZID=Europe/Berlin:20241213T113000
DTSTAMP:20260424T221507
CREATED:20241202T083436Z
LAST-MODIFIED:20250422T121056Z
UID:10004734-1734084000-1734089400@inklusion-warendorf.de
SUMMARY:Erzählbänke - Erzähl mir was!
DESCRIPTION:Die kalten Wintermonate verbringen die Erzählbänke jeden Freitag im FreiRaum!
URL:https://inklusion-warendorf.de/veranstaltung/erzaehlbaenke-erzaehl-mir-was/2024-12-13/
LOCATION:FreiRaum\, Münsterstraße 27\, Warendorf\, NRW\, 48231\, Deutschland
CATEGORIES:FreiRaum
ATTACH;FMTTYPE=image/jpeg:https://inklusion-warendorf.de/wp-content/uploads/2024/12/erzaehlbaenke-bild-scaled.jpg
END:VEVENT
BEGIN:VEVENT
DTSTART;TZID=Europe/Berlin:20241212T200000
DTEND;TZID=Europe/Berlin:20241212T214500
DTSTAMP:20260424T221507
CREATED:20240625T075616Z
LAST-MODIFIED:20250422T121022Z
UID:10004910-1734033600-1734039900@inklusion-warendorf.de
SUMMARY:Chor Mischtöne
DESCRIPTION:Jeden Donnerstag Abend probt der Chor „Mischtöne“ im FreiRaum. Der gemischte Pop-Chor unter der Leitung von Thomas Kraß hat sich auf englische und deutsche Poplieder spezialisiert. Mit besonderen musikalischen Aktionen ist der Chor auch im FreiRaum immer wieder aktiv. Neue Chormitglieder sind willkommen\, komm´ bei Interesse gerne vorbei.
URL:https://inklusion-warendorf.de/veranstaltung/chor-mischtoene-probe/2024-12-12/
LOCATION:FreiRaum\, Münsterstraße 27\, Warendorf\, NRW\, 48231\, Deutschland
CATEGORIES:FreiRaum
ATTACH;FMTTYPE=image/jpeg:https://inklusion-warendorf.de/wp-content/uploads/2024/06/FreiRaum-_468-scaled.jpg
END:VEVENT
BEGIN:VEVENT
DTSTART;TZID=Europe/Berlin:20241212T083000
DTEND;TZID=Europe/Berlin:20241212T123000
DTSTAMP:20260424T221507
CREATED:20250706T123032Z
LAST-MODIFIED:20250706T123123Z
UID:10006776-1733992200-1734006600@inklusion-warendorf.de
SUMMARY:Offener Treff für Alle! mit Ljuba Neufeld
DESCRIPTION:Offener Treff für Alle!\nmit Ljuba Neufeld \nGegenseitige Hilfe und Selbsthilfe in russischer Sprache \n“Miteinander reden – gesund bleiben”. \nAlle sind herzlich eingeladen mitzumachen. \nWir machen Aufwärmübungen\, Gymnastik\, singen\, plaudern\, tauschen interessante Geschichten aus der Vergangenheit aus\, trinken Tee und Kaffee und essen Kuchen. \nгруппа взаимопомощи и поддержки на русском языке \n“ Друг с другом разговаривать-оставаться здоровыми“ \nне сидите дома\, всем кому скучно и не хватает общения-вам к нам! У нас будет интерессно\, мы делаем разминки\, гимнастики\, поём\, общаемься\, делимься интерессными историями из прошлого\, а можем и Kuchen испечь\, и вместе чай & Кофе попить….. наша первая встреча состоится-26.06.2025. приглашаем всех желающих \nС собой возьмите позитив и хорошее настроение!
URL:https://inklusion-warendorf.de/veranstaltung/offener-treff-fuer-alle-mit-ljuba-neufeld/2024-12-12/
LOCATION:FreiRaum\, Münsterstraße 27\, Warendorf\, NRW\, 48231\, Deutschland
CATEGORIES:FreiRaum
ATTACH;FMTTYPE=image/jpeg:https://inklusion-warendorf.de/wp-content/uploads/2025/07/coffee-shop-3699340_1280.jpg
END:VEVENT
BEGIN:VEVENT
DTSTART;TZID=Europe/Berlin:20241211T160000
DTEND;TZID=Europe/Berlin:20241211T190000
DTSTAMP:20260424T221507
CREATED:20240624T220358Z
LAST-MODIFIED:20241218T133037Z
UID:10000147-1733932800-1733943600@inklusion-warendorf.de
SUMMARY:Café international
DESCRIPTION:Café international: Jeden Mittwoch Nachmittag im FreiRaum
URL:https://inklusion-warendorf.de/veranstaltung/cafe-international/2024-12-11/
LOCATION:FreiRaum\, Münsterstraße 27\, Warendorf\, NRW\, 48231\, Deutschland
CATEGORIES:FreiRaum
ATTACH;FMTTYPE=image/jpeg:https://inklusion-warendorf.de/wp-content/uploads/2024/04/cookies-1383280_1920.jpg
END:VEVENT
BEGIN:VEVENT
DTSTART;TZID=Europe/Berlin:20241210T093000
DTEND;TZID=Europe/Berlin:20241210T113000
DTSTAMP:20260424T221507
CREATED:20240920T174406Z
LAST-MODIFIED:20250430T073401Z
UID:10002387-1733823000-1733830200@inklusion-warendorf.de
SUMMARY:Das Tellen-Café
DESCRIPTION:Dienstags ist die Heinrich-Tellen-Schule im FreiRaum zu Besuch und versorgt alle Gäste mit einer leckeren Kleinigkeit. \nSchaut gerne vorbei!
URL:https://inklusion-warendorf.de/veranstaltung/das-tellen-cafe/2024-12-10/
LOCATION:FreiRaum\, Münsterstraße 27\, Warendorf\, NRW\, 48231\, Deutschland
CATEGORIES:FreiRaum
ATTACH;FMTTYPE=image/jpeg:https://inklusion-warendorf.de/wp-content/uploads/2024/09/candy.jpg
END:VEVENT
BEGIN:VEVENT
DTSTART;TZID=Europe/Berlin:20241209T160000
DTEND;TZID=Europe/Berlin:20241209T180000
DTSTAMP:20260424T221507
CREATED:20241030T132249Z
LAST-MODIFIED:20250701T100800Z
UID:10006104-1733760000-1733767200@inklusion-warendorf.de
SUMMARY:Spielraum: wöchentlicher Spieletreff im FreiRaum
DESCRIPTION:Der SpielRaum im FreiRaum\nDu bist gerne in Gesellschaft und möchtest deine Zeit damit verbringen\, in gemütlicher Runde Spiele zu spielen? \nDann komm´ montagnachmittags zu uns in den FreiRaum! \nMit einem bunten Spieleangebot wollen wir gemeinsame Momente schaffen – und das jeden Montag von 15:30 Uhr bis 17:30 Uhr. \nEine Anmeldung ist nicht erforderlich. \nDas Angebot ist kostenlos. \nWir freuen uns über jeden ab ca. 8 Jahre\, der vorbeikommt und gemeinsam mit uns – Marc und Charlotte – die Spielesammlung im FreiRaum genau unter die Lupe nimmt!
URL:https://inklusion-warendorf.de/veranstaltung/spielraum-spieletreff-im-freiraum/2024-12-09/
LOCATION:FreiRaum\, Münsterstraße 27\, Warendorf\, NRW\, 48231\, Deutschland
CATEGORIES:FreiRaum
ATTACH;FMTTYPE=image/png:https://inklusion-warendorf.de/wp-content/uploads/2024/10/spielraum.png
END:VEVENT
BEGIN:VEVENT
DTSTART;TZID=Europe/Berlin:20241206T150000
DTEND;TZID=Europe/Berlin:20241206T170000
DTSTAMP:20260424T221507
CREATED:20240607T083916Z
LAST-MODIFIED:20250411T180434Z
UID:10000068-1733497200-1733504400@inklusion-warendorf.de
SUMMARY:Spiel- und Geburtstagsnachmittag
DESCRIPTION:Herzlich Willkommen beim Spiel- und Geburtstagsnachmittag des Seniorenfreizeitkreises! \nAm ersten Freitag des Monats treffen wir uns zum Spielen\, Lachen und Klönen. Bei Kaffee und Kuchen verbringen wir einen gemütlichen Nachmittag in entspannter Atmosphäre. Wir freuen uns auf Dich\, komm´ gerne vorbei und setz´ Dich dazu.
URL:https://inklusion-warendorf.de/veranstaltung/spiel-und-geburtstagsnachmittag/2024-12-06/
LOCATION:FreiRaum\, Münsterstraße 27\, Warendorf\, NRW\, 48231\, Deutschland
CATEGORIES:FreiRaum
ATTACH;FMTTYPE=image/jpeg:https://inklusion-warendorf.de/wp-content/uploads/2024/04/play-stone-1237457_1920.jpg
END:VEVENT
BEGIN:VEVENT
DTSTART;TZID=Europe/Berlin:20241206T113000
DTEND;TZID=Europe/Berlin:20241206T133000
DTSTAMP:20260424T221507
CREATED:20240924T162505Z
LAST-MODIFIED:20250120T111642Z
UID:10002961-1733484600-1733491800@inklusion-warendorf.de
SUMMARY:Internationaler Lerntreff
DESCRIPTION:Internationaler Lerntreff – Deutsch lernen und sich austauschen! \nDas erwartet euch jeden Freitag im FreiRaum: \n-Lernmöglichkeit bei Sprachkursen und Prüfungsvorbereitung \n-Verbesserung der Deutschkenntnisse \n-Austausch mit anderen Teilnehmern und Motivation durch eine lernfreudige Gemeinschaft \n-ruhige Umgebung\, um eigenständig Deutsch zu lernen.
URL:https://inklusion-warendorf.de/veranstaltung/internationaler-lerntreff/2024-12-06/
LOCATION:FreiRaum\, Münsterstraße 27\, Warendorf\, NRW\, 48231\, Deutschland
CATEGORIES:FreiRaum
ATTACH;FMTTYPE=image/jpeg:https://inklusion-warendorf.de/wp-content/uploads/2024/04/people-2557396_1920.jpg
END:VEVENT
BEGIN:VEVENT
DTSTART;TZID=Europe/Berlin:20241206T100000
DTEND;TZID=Europe/Berlin:20241206T113000
DTSTAMP:20260424T221507
CREATED:20241202T083436Z
LAST-MODIFIED:20250422T121056Z
UID:10004733-1733479200-1733484600@inklusion-warendorf.de
SUMMARY:Erzählbänke - Erzähl mir was!
DESCRIPTION:Die kalten Wintermonate verbringen die Erzählbänke jeden Freitag im FreiRaum!
URL:https://inklusion-warendorf.de/veranstaltung/erzaehlbaenke-erzaehl-mir-was/2024-12-06/
LOCATION:FreiRaum\, Münsterstraße 27\, Warendorf\, NRW\, 48231\, Deutschland
CATEGORIES:FreiRaum
ATTACH;FMTTYPE=image/jpeg:https://inklusion-warendorf.de/wp-content/uploads/2024/12/erzaehlbaenke-bild-scaled.jpg
END:VEVENT
BEGIN:VEVENT
DTSTART;TZID=Europe/Berlin:20241205T200000
DTEND;TZID=Europe/Berlin:20241205T214500
DTSTAMP:20260424T221507
CREATED:20240625T075616Z
LAST-MODIFIED:20250422T121022Z
UID:10004909-1733428800-1733435100@inklusion-warendorf.de
SUMMARY:Chor Mischtöne
DESCRIPTION:Jeden Donnerstag Abend probt der Chor „Mischtöne“ im FreiRaum. Der gemischte Pop-Chor unter der Leitung von Thomas Kraß hat sich auf englische und deutsche Poplieder spezialisiert. Mit besonderen musikalischen Aktionen ist der Chor auch im FreiRaum immer wieder aktiv. Neue Chormitglieder sind willkommen\, komm´ bei Interesse gerne vorbei.
URL:https://inklusion-warendorf.de/veranstaltung/chor-mischtoene-probe/2024-12-05/
LOCATION:FreiRaum\, Münsterstraße 27\, Warendorf\, NRW\, 48231\, Deutschland
CATEGORIES:FreiRaum
ATTACH;FMTTYPE=image/jpeg:https://inklusion-warendorf.de/wp-content/uploads/2024/06/FreiRaum-_468-scaled.jpg
END:VEVENT
BEGIN:VEVENT
DTSTART;TZID=Europe/Berlin:20241204T160000
DTEND;TZID=Europe/Berlin:20241204T190000
DTSTAMP:20260424T221507
CREATED:20240624T220358Z
LAST-MODIFIED:20241218T133037Z
UID:10000146-1733328000-1733338800@inklusion-warendorf.de
SUMMARY:Café international
DESCRIPTION:Café international: Jeden Mittwoch Nachmittag im FreiRaum
URL:https://inklusion-warendorf.de/veranstaltung/cafe-international/2024-12-04/
LOCATION:FreiRaum\, Münsterstraße 27\, Warendorf\, NRW\, 48231\, Deutschland
CATEGORIES:FreiRaum
ATTACH;FMTTYPE=image/jpeg:https://inklusion-warendorf.de/wp-content/uploads/2024/04/cookies-1383280_1920.jpg
END:VEVENT
BEGIN:VEVENT
DTSTART;TZID=Europe/Berlin:20241203T093000
DTEND;TZID=Europe/Berlin:20241203T113000
DTSTAMP:20260424T221507
CREATED:20240920T174406Z
LAST-MODIFIED:20250430T073401Z
UID:10002386-1733218200-1733225400@inklusion-warendorf.de
SUMMARY:Das Tellen-Café
DESCRIPTION:Dienstags ist die Heinrich-Tellen-Schule im FreiRaum zu Besuch und versorgt alle Gäste mit einer leckeren Kleinigkeit. \nSchaut gerne vorbei!
URL:https://inklusion-warendorf.de/veranstaltung/das-tellen-cafe/2024-12-03/
LOCATION:FreiRaum\, Münsterstraße 27\, Warendorf\, NRW\, 48231\, Deutschland
CATEGORIES:FreiRaum
ATTACH;FMTTYPE=image/jpeg:https://inklusion-warendorf.de/wp-content/uploads/2024/09/candy.jpg
END:VEVENT
BEGIN:VEVENT
DTSTART;TZID=Europe/Berlin:20241202T160000
DTEND;TZID=Europe/Berlin:20241202T180000
DTSTAMP:20260424T221507
CREATED:20241030T132249Z
LAST-MODIFIED:20250701T100800Z
UID:10006103-1733155200-1733162400@inklusion-warendorf.de
SUMMARY:Spielraum: wöchentlicher Spieletreff im FreiRaum
DESCRIPTION:Der SpielRaum im FreiRaum\nDu bist gerne in Gesellschaft und möchtest deine Zeit damit verbringen\, in gemütlicher Runde Spiele zu spielen? \nDann komm´ montagnachmittags zu uns in den FreiRaum! \nMit einem bunten Spieleangebot wollen wir gemeinsame Momente schaffen – und das jeden Montag von 15:30 Uhr bis 17:30 Uhr. \nEine Anmeldung ist nicht erforderlich. \nDas Angebot ist kostenlos. \nWir freuen uns über jeden ab ca. 8 Jahre\, der vorbeikommt und gemeinsam mit uns – Marc und Charlotte – die Spielesammlung im FreiRaum genau unter die Lupe nimmt!
URL:https://inklusion-warendorf.de/veranstaltung/spielraum-spieletreff-im-freiraum/2024-12-02/
LOCATION:FreiRaum\, Münsterstraße 27\, Warendorf\, NRW\, 48231\, Deutschland
CATEGORIES:FreiRaum
ATTACH;FMTTYPE=image/png:https://inklusion-warendorf.de/wp-content/uploads/2024/10/spielraum.png
END:VEVENT
BEGIN:VEVENT
DTSTART;TZID=Europe/Berlin:20241129T113000
DTEND;TZID=Europe/Berlin:20241129T133000
DTSTAMP:20260424T221507
CREATED:20240924T162505Z
LAST-MODIFIED:20250120T111642Z
UID:10002960-1732879800-1732887000@inklusion-warendorf.de
SUMMARY:Internationaler Lerntreff
DESCRIPTION:Internationaler Lerntreff – Deutsch lernen und sich austauschen! \nDas erwartet euch jeden Freitag im FreiRaum: \n-Lernmöglichkeit bei Sprachkursen und Prüfungsvorbereitung \n-Verbesserung der Deutschkenntnisse \n-Austausch mit anderen Teilnehmern und Motivation durch eine lernfreudige Gemeinschaft \n-ruhige Umgebung\, um eigenständig Deutsch zu lernen.
URL:https://inklusion-warendorf.de/veranstaltung/internationaler-lerntreff/2024-11-29/
LOCATION:FreiRaum\, Münsterstraße 27\, Warendorf\, NRW\, 48231\, Deutschland
CATEGORIES:FreiRaum
ATTACH;FMTTYPE=image/jpeg:https://inklusion-warendorf.de/wp-content/uploads/2024/04/people-2557396_1920.jpg
END:VEVENT
BEGIN:VEVENT
DTSTART;TZID=Europe/Berlin:20241128T200000
DTEND;TZID=Europe/Berlin:20241128T214500
DTSTAMP:20260424T221507
CREATED:20240625T075616Z
LAST-MODIFIED:20250422T121022Z
UID:10004908-1732824000-1732830300@inklusion-warendorf.de
SUMMARY:Chor Mischtöne
DESCRIPTION:Jeden Donnerstag Abend probt der Chor „Mischtöne“ im FreiRaum. Der gemischte Pop-Chor unter der Leitung von Thomas Kraß hat sich auf englische und deutsche Poplieder spezialisiert. Mit besonderen musikalischen Aktionen ist der Chor auch im FreiRaum immer wieder aktiv. Neue Chormitglieder sind willkommen\, komm´ bei Interesse gerne vorbei.
URL:https://inklusion-warendorf.de/veranstaltung/chor-mischtoene-probe/2024-11-28/
LOCATION:FreiRaum\, Münsterstraße 27\, Warendorf\, NRW\, 48231\, Deutschland
CATEGORIES:FreiRaum
ATTACH;FMTTYPE=image/jpeg:https://inklusion-warendorf.de/wp-content/uploads/2024/06/FreiRaum-_468-scaled.jpg
END:VEVENT
BEGIN:VEVENT
DTSTART;TZID=Europe/Berlin:20241128T083000
DTEND;TZID=Europe/Berlin:20241128T123000
DTSTAMP:20260424T221507
CREATED:20250706T123032Z
LAST-MODIFIED:20250706T123123Z
UID:10006775-1732782600-1732797000@inklusion-warendorf.de
SUMMARY:Offener Treff für Alle! mit Ljuba Neufeld
DESCRIPTION:Offener Treff für Alle!\nmit Ljuba Neufeld \nGegenseitige Hilfe und Selbsthilfe in russischer Sprache \n“Miteinander reden – gesund bleiben”. \nAlle sind herzlich eingeladen mitzumachen. \nWir machen Aufwärmübungen\, Gymnastik\, singen\, plaudern\, tauschen interessante Geschichten aus der Vergangenheit aus\, trinken Tee und Kaffee und essen Kuchen. \nгруппа взаимопомощи и поддержки на русском языке \n“ Друг с другом разговаривать-оставаться здоровыми“ \nне сидите дома\, всем кому скучно и не хватает общения-вам к нам! У нас будет интерессно\, мы делаем разминки\, гимнастики\, поём\, общаемься\, делимься интерессными историями из прошлого\, а можем и Kuchen испечь\, и вместе чай & Кофе попить….. наша первая встреча состоится-26.06.2025. приглашаем всех желающих \nС собой возьмите позитив и хорошее настроение!
URL:https://inklusion-warendorf.de/veranstaltung/offener-treff-fuer-alle-mit-ljuba-neufeld/2024-11-28/
LOCATION:FreiRaum\, Münsterstraße 27\, Warendorf\, NRW\, 48231\, Deutschland
CATEGORIES:FreiRaum
ATTACH;FMTTYPE=image/jpeg:https://inklusion-warendorf.de/wp-content/uploads/2025/07/coffee-shop-3699340_1280.jpg
END:VEVENT
BEGIN:VEVENT
DTSTART;TZID=Europe/Berlin:20241127T160000
DTEND;TZID=Europe/Berlin:20241127T190000
DTSTAMP:20260424T221507
CREATED:20240624T220358Z
LAST-MODIFIED:20241218T133037Z
UID:10000145-1732723200-1732734000@inklusion-warendorf.de
SUMMARY:Café international
DESCRIPTION:Café international: Jeden Mittwoch Nachmittag im FreiRaum
URL:https://inklusion-warendorf.de/veranstaltung/cafe-international/2024-11-27/
LOCATION:FreiRaum\, Münsterstraße 27\, Warendorf\, NRW\, 48231\, Deutschland
CATEGORIES:FreiRaum
ATTACH;FMTTYPE=image/jpeg:https://inklusion-warendorf.de/wp-content/uploads/2024/04/cookies-1383280_1920.jpg
END:VEVENT
BEGIN:VEVENT
DTSTART;TZID=Europe/Berlin:20241126T093000
DTEND;TZID=Europe/Berlin:20241126T113000
DTSTAMP:20260424T221507
CREATED:20240920T174406Z
LAST-MODIFIED:20250430T073401Z
UID:10002385-1732613400-1732620600@inklusion-warendorf.de
SUMMARY:Das Tellen-Café
DESCRIPTION:Dienstags ist die Heinrich-Tellen-Schule im FreiRaum zu Besuch und versorgt alle Gäste mit einer leckeren Kleinigkeit. \nSchaut gerne vorbei!
URL:https://inklusion-warendorf.de/veranstaltung/das-tellen-cafe/2024-11-26/
LOCATION:FreiRaum\, Münsterstraße 27\, Warendorf\, NRW\, 48231\, Deutschland
CATEGORIES:FreiRaum
ATTACH;FMTTYPE=image/jpeg:https://inklusion-warendorf.de/wp-content/uploads/2024/09/candy.jpg
END:VEVENT
END:VCALENDAR