BEGIN:VCALENDAR
VERSION:2.0
PRODID:-//Wir. Alle. Füreinander. - ECPv6.15.5//NONSGML v1.0//EN
CALSCALE:GREGORIAN
METHOD:PUBLISH
X-WR-CALNAME:Wir. Alle. Füreinander.
X-ORIGINAL-URL:https://inklusion-warendorf.de
X-WR-CALDESC:Veranstaltungen für Wir. Alle. Füreinander.
REFRESH-INTERVAL;VALUE=DURATION:PT1H
X-Robots-Tag:noindex
X-PUBLISHED-TTL:PT1H
BEGIN:VTIMEZONE
TZID:Europe/Berlin
BEGIN:DAYLIGHT
TZOFFSETFROM:+0100
TZOFFSETTO:+0200
TZNAME:CEST
DTSTART:20240331T010000
END:DAYLIGHT
BEGIN:STANDARD
TZOFFSETFROM:+0200
TZOFFSETTO:+0100
TZNAME:CET
DTSTART:20241027T010000
END:STANDARD
END:VTIMEZONE
BEGIN:VEVENT
DTSTART;TZID=Europe/Berlin:20241031T083000
DTEND;TZID=Europe/Berlin:20241031T123000
DTSTAMP:20260425T060024
CREATED:20250706T123032Z
LAST-MODIFIED:20250706T123123Z
UID:10006773-1730363400-1730377800@inklusion-warendorf.de
SUMMARY:Offener Treff für Alle! mit Ljuba Neufeld
DESCRIPTION:Offener Treff für Alle!\nmit Ljuba Neufeld \nGegenseitige Hilfe und Selbsthilfe in russischer Sprache \n“Miteinander reden – gesund bleiben”. \nAlle sind herzlich eingeladen mitzumachen. \nWir machen Aufwärmübungen\, Gymnastik\, singen\, plaudern\, tauschen interessante Geschichten aus der Vergangenheit aus\, trinken Tee und Kaffee und essen Kuchen. \nгруппа взаимопомощи и поддержки на русском языке \n“ Друг с другом разговаривать-оставаться здоровыми“ \nне сидите дома\, всем кому скучно и не хватает общения-вам к нам! У нас будет интерессно\, мы делаем разминки\, гимнастики\, поём\, общаемься\, делимься интерессными историями из прошлого\, а можем и Kuchen испечь\, и вместе чай & Кофе попить….. наша первая встреча состоится-26.06.2025. приглашаем всех желающих \nС собой возьмите позитив и хорошее настроение!
URL:https://inklusion-warendorf.de/veranstaltung/offener-treff-fuer-alle-mit-ljuba-neufeld/2024-10-31/
LOCATION:FreiRaum\, Münsterstraße 27\, Warendorf\, NRW\, 48231\, Deutschland
CATEGORIES:FreiRaum
ATTACH;FMTTYPE=image/jpeg:https://inklusion-warendorf.de/wp-content/uploads/2025/07/coffee-shop-3699340_1280.jpg
END:VEVENT
BEGIN:VEVENT
DTSTART;TZID=Europe/Berlin:20241030T160000
DTEND;TZID=Europe/Berlin:20241030T190000
DTSTAMP:20260425T060024
CREATED:20240624T220358Z
LAST-MODIFIED:20241218T133037Z
UID:10000141-1730304000-1730314800@inklusion-warendorf.de
SUMMARY:Café international
DESCRIPTION:Café international: Jeden Mittwoch Nachmittag im FreiRaum
URL:https://inklusion-warendorf.de/veranstaltung/cafe-international/2024-10-30/
LOCATION:FreiRaum\, Münsterstraße 27\, Warendorf\, NRW\, 48231\, Deutschland
CATEGORIES:FreiRaum
ATTACH;FMTTYPE=image/jpeg:https://inklusion-warendorf.de/wp-content/uploads/2024/04/cookies-1383280_1920.jpg
END:VEVENT
BEGIN:VEVENT
DTSTART;TZID=Europe/Berlin:20241029T093000
DTEND;TZID=Europe/Berlin:20241029T113000
DTSTAMP:20260425T060024
CREATED:20240920T174406Z
LAST-MODIFIED:20250430T073401Z
UID:10002381-1730194200-1730201400@inklusion-warendorf.de
SUMMARY:Das Tellen-Café
DESCRIPTION:Dienstags ist die Heinrich-Tellen-Schule im FreiRaum zu Besuch und versorgt alle Gäste mit einer leckeren Kleinigkeit. \nSchaut gerne vorbei!
URL:https://inklusion-warendorf.de/veranstaltung/das-tellen-cafe/2024-10-29/
LOCATION:FreiRaum\, Münsterstraße 27\, Warendorf\, NRW\, 48231\, Deutschland
CATEGORIES:FreiRaum
ATTACH;FMTTYPE=image/jpeg:https://inklusion-warendorf.de/wp-content/uploads/2024/09/candy.jpg
END:VEVENT
BEGIN:VEVENT
DTSTART;TZID=Europe/Berlin:20241027T143000
DTEND;TZID=Europe/Berlin:20241027T170000
DTSTAMP:20260425T060024
CREATED:20240625T093257Z
LAST-MODIFIED:20250214T090511Z
UID:10002287-1730039400-1730048400@inklusion-warendorf.de
SUMMARY:Klön-Café
DESCRIPTION:Jeden letzten Sonntag im Monat ist das Klön-Café eine gute Gelegenheit um Unterhaltung\, Begegnung und Gemeinschaft zu erfahren – besonders auch für alleinstehende Warendorferinnen und Warendorfer. Ab 14:30 Uhr gibt es Kaffee und Kuchen in geselliger Atmosphäre. \nEuch erwartet Kaffee und Kuchen\, ein jeweils wechselndes leichtes Rahmenprogramm und viele nette Menschen\, die den Sonntagnachmittag zu einem angenehmen und geselligen Erlebnis machen. Eine Anmeldung ist nicht erforderlich – wir freuen uns auf Euren Besuch!
URL:https://inklusion-warendorf.de/veranstaltung/kloen-cafe/2024-10-27/
LOCATION:FreiRaum\, Münsterstraße 27\, Warendorf\, NRW\, 48231\, Deutschland
CATEGORIES:FreiRaum
END:VEVENT
BEGIN:VEVENT
DTSTART;TZID=Europe/Berlin:20241025T113000
DTEND;TZID=Europe/Berlin:20241025T133000
DTSTAMP:20260425T060024
CREATED:20240924T162505Z
LAST-MODIFIED:20250120T111642Z
UID:10002955-1729855800-1729863000@inklusion-warendorf.de
SUMMARY:Internationaler Lerntreff
DESCRIPTION:Internationaler Lerntreff – Deutsch lernen und sich austauschen! \nDas erwartet euch jeden Freitag im FreiRaum: \n-Lernmöglichkeit bei Sprachkursen und Prüfungsvorbereitung \n-Verbesserung der Deutschkenntnisse \n-Austausch mit anderen Teilnehmern und Motivation durch eine lernfreudige Gemeinschaft \n-ruhige Umgebung\, um eigenständig Deutsch zu lernen.
URL:https://inklusion-warendorf.de/veranstaltung/internationaler-lerntreff/2024-10-25/
LOCATION:FreiRaum\, Münsterstraße 27\, Warendorf\, NRW\, 48231\, Deutschland
CATEGORIES:FreiRaum
ATTACH;FMTTYPE=image/jpeg:https://inklusion-warendorf.de/wp-content/uploads/2024/04/people-2557396_1920.jpg
END:VEVENT
BEGIN:VEVENT
DTSTART;TZID=Europe/Berlin:20241024T200000
DTEND;TZID=Europe/Berlin:20241024T214500
DTSTAMP:20260425T060024
CREATED:20240625T075616Z
LAST-MODIFIED:20250422T121022Z
UID:10004903-1729800000-1729806300@inklusion-warendorf.de
SUMMARY:Chor Mischtöne
DESCRIPTION:Jeden Donnerstag Abend probt der Chor „Mischtöne“ im FreiRaum. Der gemischte Pop-Chor unter der Leitung von Thomas Kraß hat sich auf englische und deutsche Poplieder spezialisiert. Mit besonderen musikalischen Aktionen ist der Chor auch im FreiRaum immer wieder aktiv. Neue Chormitglieder sind willkommen\, komm´ bei Interesse gerne vorbei.
URL:https://inklusion-warendorf.de/veranstaltung/chor-mischtoene-probe/2024-10-24/
LOCATION:FreiRaum\, Münsterstraße 27\, Warendorf\, NRW\, 48231\, Deutschland
CATEGORIES:FreiRaum
ATTACH;FMTTYPE=image/jpeg:https://inklusion-warendorf.de/wp-content/uploads/2024/06/FreiRaum-_468-scaled.jpg
END:VEVENT
BEGIN:VEVENT
DTSTART;TZID=Europe/Berlin:20241023T160000
DTEND;TZID=Europe/Berlin:20241023T190000
DTSTAMP:20260425T060024
CREATED:20240624T220358Z
LAST-MODIFIED:20241218T133037Z
UID:10000140-1729699200-1729710000@inklusion-warendorf.de
SUMMARY:Café international
DESCRIPTION:Café international: Jeden Mittwoch Nachmittag im FreiRaum
URL:https://inklusion-warendorf.de/veranstaltung/cafe-international/2024-10-23/
LOCATION:FreiRaum\, Münsterstraße 27\, Warendorf\, NRW\, 48231\, Deutschland
CATEGORIES:FreiRaum
ATTACH;FMTTYPE=image/jpeg:https://inklusion-warendorf.de/wp-content/uploads/2024/04/cookies-1383280_1920.jpg
END:VEVENT
BEGIN:VEVENT
DTSTART;TZID=Europe/Berlin:20241018T113000
DTEND;TZID=Europe/Berlin:20241018T133000
DTSTAMP:20260425T060024
CREATED:20240924T162505Z
LAST-MODIFIED:20250120T111642Z
UID:10002954-1729251000-1729258200@inklusion-warendorf.de
SUMMARY:Internationaler Lerntreff
DESCRIPTION:Internationaler Lerntreff – Deutsch lernen und sich austauschen! \nDas erwartet euch jeden Freitag im FreiRaum: \n-Lernmöglichkeit bei Sprachkursen und Prüfungsvorbereitung \n-Verbesserung der Deutschkenntnisse \n-Austausch mit anderen Teilnehmern und Motivation durch eine lernfreudige Gemeinschaft \n-ruhige Umgebung\, um eigenständig Deutsch zu lernen.
URL:https://inklusion-warendorf.de/veranstaltung/internationaler-lerntreff/2024-10-18/
LOCATION:FreiRaum\, Münsterstraße 27\, Warendorf\, NRW\, 48231\, Deutschland
CATEGORIES:FreiRaum
ATTACH;FMTTYPE=image/jpeg:https://inklusion-warendorf.de/wp-content/uploads/2024/04/people-2557396_1920.jpg
END:VEVENT
BEGIN:VEVENT
DTSTART;TZID=Europe/Berlin:20241017T200000
DTEND;TZID=Europe/Berlin:20241017T214500
DTSTAMP:20260425T060024
CREATED:20240625T075616Z
LAST-MODIFIED:20250422T121022Z
UID:10004902-1729195200-1729201500@inklusion-warendorf.de
SUMMARY:Chor Mischtöne
DESCRIPTION:Jeden Donnerstag Abend probt der Chor „Mischtöne“ im FreiRaum. Der gemischte Pop-Chor unter der Leitung von Thomas Kraß hat sich auf englische und deutsche Poplieder spezialisiert. Mit besonderen musikalischen Aktionen ist der Chor auch im FreiRaum immer wieder aktiv. Neue Chormitglieder sind willkommen\, komm´ bei Interesse gerne vorbei.
URL:https://inklusion-warendorf.de/veranstaltung/chor-mischtoene-probe/2024-10-17/
LOCATION:FreiRaum\, Münsterstraße 27\, Warendorf\, NRW\, 48231\, Deutschland
CATEGORIES:FreiRaum
ATTACH;FMTTYPE=image/jpeg:https://inklusion-warendorf.de/wp-content/uploads/2024/06/FreiRaum-_468-scaled.jpg
END:VEVENT
BEGIN:VEVENT
DTSTART;TZID=Europe/Berlin:20241017T083000
DTEND;TZID=Europe/Berlin:20241017T123000
DTSTAMP:20260425T060024
CREATED:20250706T123032Z
LAST-MODIFIED:20250706T123123Z
UID:10006772-1729153800-1729168200@inklusion-warendorf.de
SUMMARY:Offener Treff für Alle! mit Ljuba Neufeld
DESCRIPTION:Offener Treff für Alle!\nmit Ljuba Neufeld \nGegenseitige Hilfe und Selbsthilfe in russischer Sprache \n“Miteinander reden – gesund bleiben”. \nAlle sind herzlich eingeladen mitzumachen. \nWir machen Aufwärmübungen\, Gymnastik\, singen\, plaudern\, tauschen interessante Geschichten aus der Vergangenheit aus\, trinken Tee und Kaffee und essen Kuchen. \nгруппа взаимопомощи и поддержки на русском языке \n“ Друг с другом разговаривать-оставаться здоровыми“ \nне сидите дома\, всем кому скучно и не хватает общения-вам к нам! У нас будет интерессно\, мы делаем разминки\, гимнастики\, поём\, общаемься\, делимься интерессными историями из прошлого\, а можем и Kuchen испечь\, и вместе чай & Кофе попить….. наша первая встреча состоится-26.06.2025. приглашаем всех желающих \nС собой возьмите позитив и хорошее настроение!
URL:https://inklusion-warendorf.de/veranstaltung/offener-treff-fuer-alle-mit-ljuba-neufeld/2024-10-17/
LOCATION:FreiRaum\, Münsterstraße 27\, Warendorf\, NRW\, 48231\, Deutschland
CATEGORIES:FreiRaum
ATTACH;FMTTYPE=image/jpeg:https://inklusion-warendorf.de/wp-content/uploads/2025/07/coffee-shop-3699340_1280.jpg
END:VEVENT
BEGIN:VEVENT
DTSTART;TZID=Europe/Berlin:20241016T160000
DTEND;TZID=Europe/Berlin:20241016T190000
DTSTAMP:20260425T060024
CREATED:20240624T220358Z
LAST-MODIFIED:20241218T133037Z
UID:10000139-1729094400-1729105200@inklusion-warendorf.de
SUMMARY:Café international
DESCRIPTION:Café international: Jeden Mittwoch Nachmittag im FreiRaum
URL:https://inklusion-warendorf.de/veranstaltung/cafe-international/2024-10-16/
LOCATION:FreiRaum\, Münsterstraße 27\, Warendorf\, NRW\, 48231\, Deutschland
CATEGORIES:FreiRaum
ATTACH;FMTTYPE=image/jpeg:https://inklusion-warendorf.de/wp-content/uploads/2024/04/cookies-1383280_1920.jpg
END:VEVENT
BEGIN:VEVENT
DTSTART;TZID=Europe/Berlin:20241011T113000
DTEND;TZID=Europe/Berlin:20241011T133000
DTSTAMP:20260425T060024
CREATED:20240924T162505Z
LAST-MODIFIED:20250120T111642Z
UID:10002953-1728646200-1728653400@inklusion-warendorf.de
SUMMARY:Internationaler Lerntreff
DESCRIPTION:Internationaler Lerntreff – Deutsch lernen und sich austauschen! \nDas erwartet euch jeden Freitag im FreiRaum: \n-Lernmöglichkeit bei Sprachkursen und Prüfungsvorbereitung \n-Verbesserung der Deutschkenntnisse \n-Austausch mit anderen Teilnehmern und Motivation durch eine lernfreudige Gemeinschaft \n-ruhige Umgebung\, um eigenständig Deutsch zu lernen.
URL:https://inklusion-warendorf.de/veranstaltung/internationaler-lerntreff/2024-10-11/
LOCATION:FreiRaum\, Münsterstraße 27\, Warendorf\, NRW\, 48231\, Deutschland
CATEGORIES:FreiRaum
ATTACH;FMTTYPE=image/jpeg:https://inklusion-warendorf.de/wp-content/uploads/2024/04/people-2557396_1920.jpg
END:VEVENT
BEGIN:VEVENT
DTSTART;TZID=Europe/Berlin:20241010T200000
DTEND;TZID=Europe/Berlin:20241010T214500
DTSTAMP:20260425T060024
CREATED:20240625T075616Z
LAST-MODIFIED:20250422T121022Z
UID:10004901-1728590400-1728596700@inklusion-warendorf.de
SUMMARY:Chor Mischtöne
DESCRIPTION:Jeden Donnerstag Abend probt der Chor „Mischtöne“ im FreiRaum. Der gemischte Pop-Chor unter der Leitung von Thomas Kraß hat sich auf englische und deutsche Poplieder spezialisiert. Mit besonderen musikalischen Aktionen ist der Chor auch im FreiRaum immer wieder aktiv. Neue Chormitglieder sind willkommen\, komm´ bei Interesse gerne vorbei.
URL:https://inklusion-warendorf.de/veranstaltung/chor-mischtoene-probe/2024-10-10/
LOCATION:FreiRaum\, Münsterstraße 27\, Warendorf\, NRW\, 48231\, Deutschland
CATEGORIES:FreiRaum
ATTACH;FMTTYPE=image/jpeg:https://inklusion-warendorf.de/wp-content/uploads/2024/06/FreiRaum-_468-scaled.jpg
END:VEVENT
BEGIN:VEVENT
DTSTART;TZID=Europe/Berlin:20241009T160000
DTEND;TZID=Europe/Berlin:20241009T190000
DTSTAMP:20260425T060024
CREATED:20240624T220358Z
LAST-MODIFIED:20241218T133037Z
UID:10000138-1728489600-1728500400@inklusion-warendorf.de
SUMMARY:Café international
DESCRIPTION:Café international: Jeden Mittwoch Nachmittag im FreiRaum
URL:https://inklusion-warendorf.de/veranstaltung/cafe-international/2024-10-09/
LOCATION:FreiRaum\, Münsterstraße 27\, Warendorf\, NRW\, 48231\, Deutschland
CATEGORIES:FreiRaum
ATTACH;FMTTYPE=image/jpeg:https://inklusion-warendorf.de/wp-content/uploads/2024/04/cookies-1383280_1920.jpg
END:VEVENT
BEGIN:VEVENT
DTSTART;TZID=Europe/Berlin:20241008T093000
DTEND;TZID=Europe/Berlin:20241008T113000
DTSTAMP:20260425T060024
CREATED:20240920T174406Z
LAST-MODIFIED:20250430T073401Z
UID:10002380-1728379800-1728387000@inklusion-warendorf.de
SUMMARY:Das Tellen-Café
DESCRIPTION:Dienstags ist die Heinrich-Tellen-Schule im FreiRaum zu Besuch und versorgt alle Gäste mit einer leckeren Kleinigkeit. \nSchaut gerne vorbei!
URL:https://inklusion-warendorf.de/veranstaltung/das-tellen-cafe/2024-10-08/
LOCATION:FreiRaum\, Münsterstraße 27\, Warendorf\, NRW\, 48231\, Deutschland
CATEGORIES:FreiRaum
ATTACH;FMTTYPE=image/jpeg:https://inklusion-warendorf.de/wp-content/uploads/2024/09/candy.jpg
END:VEVENT
BEGIN:VEVENT
DTSTART;TZID=Europe/Berlin:20241004T150000
DTEND;TZID=Europe/Berlin:20241004T170000
DTSTAMP:20260425T060024
CREATED:20240607T083916Z
LAST-MODIFIED:20250411T180434Z
UID:10000066-1728054000-1728061200@inklusion-warendorf.de
SUMMARY:Spiel- und Geburtstagsnachmittag
DESCRIPTION:Herzlich Willkommen beim Spiel- und Geburtstagsnachmittag des Seniorenfreizeitkreises! \nAm ersten Freitag des Monats treffen wir uns zum Spielen\, Lachen und Klönen. Bei Kaffee und Kuchen verbringen wir einen gemütlichen Nachmittag in entspannter Atmosphäre. Wir freuen uns auf Dich\, komm´ gerne vorbei und setz´ Dich dazu.
URL:https://inklusion-warendorf.de/veranstaltung/spiel-und-geburtstagsnachmittag/2024-10-04/
LOCATION:FreiRaum\, Münsterstraße 27\, Warendorf\, NRW\, 48231\, Deutschland
CATEGORIES:FreiRaum
ATTACH;FMTTYPE=image/jpeg:https://inklusion-warendorf.de/wp-content/uploads/2024/04/play-stone-1237457_1920.jpg
END:VEVENT
BEGIN:VEVENT
DTSTART;TZID=Europe/Berlin:20241004T113000
DTEND;TZID=Europe/Berlin:20241004T133000
DTSTAMP:20260425T060024
CREATED:20240924T162505Z
LAST-MODIFIED:20250120T111642Z
UID:10002952-1728041400-1728048600@inklusion-warendorf.de
SUMMARY:Internationaler Lerntreff
DESCRIPTION:Internationaler Lerntreff – Deutsch lernen und sich austauschen! \nDas erwartet euch jeden Freitag im FreiRaum: \n-Lernmöglichkeit bei Sprachkursen und Prüfungsvorbereitung \n-Verbesserung der Deutschkenntnisse \n-Austausch mit anderen Teilnehmern und Motivation durch eine lernfreudige Gemeinschaft \n-ruhige Umgebung\, um eigenständig Deutsch zu lernen.
URL:https://inklusion-warendorf.de/veranstaltung/internationaler-lerntreff/2024-10-04/
LOCATION:FreiRaum\, Münsterstraße 27\, Warendorf\, NRW\, 48231\, Deutschland
CATEGORIES:FreiRaum
ATTACH;FMTTYPE=image/jpeg:https://inklusion-warendorf.de/wp-content/uploads/2024/04/people-2557396_1920.jpg
END:VEVENT
BEGIN:VEVENT
DTSTART;TZID=Europe/Berlin:20241003T200000
DTEND;TZID=Europe/Berlin:20241003T214500
DTSTAMP:20260425T060024
CREATED:20240625T075616Z
LAST-MODIFIED:20250422T121022Z
UID:10004900-1727985600-1727991900@inklusion-warendorf.de
SUMMARY:Chor Mischtöne
DESCRIPTION:Jeden Donnerstag Abend probt der Chor „Mischtöne“ im FreiRaum. Der gemischte Pop-Chor unter der Leitung von Thomas Kraß hat sich auf englische und deutsche Poplieder spezialisiert. Mit besonderen musikalischen Aktionen ist der Chor auch im FreiRaum immer wieder aktiv. Neue Chormitglieder sind willkommen\, komm´ bei Interesse gerne vorbei.
URL:https://inklusion-warendorf.de/veranstaltung/chor-mischtoene-probe/2024-10-03/
LOCATION:FreiRaum\, Münsterstraße 27\, Warendorf\, NRW\, 48231\, Deutschland
CATEGORIES:FreiRaum
ATTACH;FMTTYPE=image/jpeg:https://inklusion-warendorf.de/wp-content/uploads/2024/06/FreiRaum-_468-scaled.jpg
END:VEVENT
BEGIN:VEVENT
DTSTART;TZID=Europe/Berlin:20241003T083000
DTEND;TZID=Europe/Berlin:20241003T123000
DTSTAMP:20260425T060024
CREATED:20250706T123032Z
LAST-MODIFIED:20250706T123123Z
UID:10006771-1727944200-1727958600@inklusion-warendorf.de
SUMMARY:Offener Treff für Alle! mit Ljuba Neufeld
DESCRIPTION:Offener Treff für Alle!\nmit Ljuba Neufeld \nGegenseitige Hilfe und Selbsthilfe in russischer Sprache \n“Miteinander reden – gesund bleiben”. \nAlle sind herzlich eingeladen mitzumachen. \nWir machen Aufwärmübungen\, Gymnastik\, singen\, plaudern\, tauschen interessante Geschichten aus der Vergangenheit aus\, trinken Tee und Kaffee und essen Kuchen. \nгруппа взаимопомощи и поддержки на русском языке \n“ Друг с другом разговаривать-оставаться здоровыми“ \nне сидите дома\, всем кому скучно и не хватает общения-вам к нам! У нас будет интерессно\, мы делаем разминки\, гимнастики\, поём\, общаемься\, делимься интерессными историями из прошлого\, а можем и Kuchen испечь\, и вместе чай & Кофе попить….. наша первая встреча состоится-26.06.2025. приглашаем всех желающих \nС собой возьмите позитив и хорошее настроение!
URL:https://inklusion-warendorf.de/veranstaltung/offener-treff-fuer-alle-mit-ljuba-neufeld/2024-10-03/
LOCATION:FreiRaum\, Münsterstraße 27\, Warendorf\, NRW\, 48231\, Deutschland
CATEGORIES:FreiRaum
ATTACH;FMTTYPE=image/jpeg:https://inklusion-warendorf.de/wp-content/uploads/2025/07/coffee-shop-3699340_1280.jpg
END:VEVENT
BEGIN:VEVENT
DTSTART;TZID=Europe/Berlin:20241002T160000
DTEND;TZID=Europe/Berlin:20241002T190000
DTSTAMP:20260425T060024
CREATED:20240624T220358Z
LAST-MODIFIED:20241218T133037Z
UID:10000137-1727884800-1727895600@inklusion-warendorf.de
SUMMARY:Café international
DESCRIPTION:Café international: Jeden Mittwoch Nachmittag im FreiRaum
URL:https://inklusion-warendorf.de/veranstaltung/cafe-international/2024-10-02/
LOCATION:FreiRaum\, Münsterstraße 27\, Warendorf\, NRW\, 48231\, Deutschland
CATEGORIES:FreiRaum
ATTACH;FMTTYPE=image/jpeg:https://inklusion-warendorf.de/wp-content/uploads/2024/04/cookies-1383280_1920.jpg
END:VEVENT
BEGIN:VEVENT
DTSTART;TZID=Europe/Berlin:20241001T093000
DTEND;TZID=Europe/Berlin:20241001T113000
DTSTAMP:20260425T060024
CREATED:20240920T174406Z
LAST-MODIFIED:20250430T073401Z
UID:10002379-1727775000-1727782200@inklusion-warendorf.de
SUMMARY:Das Tellen-Café
DESCRIPTION:Dienstags ist die Heinrich-Tellen-Schule im FreiRaum zu Besuch und versorgt alle Gäste mit einer leckeren Kleinigkeit. \nSchaut gerne vorbei!
URL:https://inklusion-warendorf.de/veranstaltung/das-tellen-cafe/2024-10-01/
LOCATION:FreiRaum\, Münsterstraße 27\, Warendorf\, NRW\, 48231\, Deutschland
CATEGORIES:FreiRaum
ATTACH;FMTTYPE=image/jpeg:https://inklusion-warendorf.de/wp-content/uploads/2024/09/candy.jpg
END:VEVENT
BEGIN:VEVENT
DTSTART;TZID=Europe/Berlin:20240929T143000
DTEND;TZID=Europe/Berlin:20240929T170000
DTSTAMP:20260425T060024
CREATED:20240625T093257Z
LAST-MODIFIED:20250214T090511Z
UID:10002286-1727620200-1727629200@inklusion-warendorf.de
SUMMARY:Klön-Café
DESCRIPTION:Jeden letzten Sonntag im Monat ist das Klön-Café eine gute Gelegenheit um Unterhaltung\, Begegnung und Gemeinschaft zu erfahren – besonders auch für alleinstehende Warendorferinnen und Warendorfer. Ab 14:30 Uhr gibt es Kaffee und Kuchen in geselliger Atmosphäre. \nEuch erwartet Kaffee und Kuchen\, ein jeweils wechselndes leichtes Rahmenprogramm und viele nette Menschen\, die den Sonntagnachmittag zu einem angenehmen und geselligen Erlebnis machen. Eine Anmeldung ist nicht erforderlich – wir freuen uns auf Euren Besuch!
URL:https://inklusion-warendorf.de/veranstaltung/kloen-cafe/2024-09-29/
LOCATION:FreiRaum\, Münsterstraße 27\, Warendorf\, NRW\, 48231\, Deutschland
CATEGORIES:FreiRaum
END:VEVENT
BEGIN:VEVENT
DTSTART;TZID=Europe/Berlin:20240928T100000
DTEND;TZID=Europe/Berlin:20240928T130000
DTSTAMP:20260425T060024
CREATED:20240923T090022Z
LAST-MODIFIED:20240923T090159Z
UID:10002948-1727517600-1727528400@inklusion-warendorf.de
SUMMARY:Stammtisch Seniorenfreizeitkreis
DESCRIPTION:Stammtisch des Senioren Freizeitkreis Warendorf \nEinmal monatlich findet Samstags Vormittags der Stammtisch des Senioren Freizeitkreis statt. Bei Kaffee und Kuchen tauschen wir uns zu aktuellen Themen aus. In der Regel laden wir zum Stammtisch einen Gastreferenten ein. \nEine Anmeldung ist nicht erforderlich. \nAnsprechpartner: Ralf Holthaus \nTreffpunkt: FreiRaum \nZeitpunkt: Einmal monatlich Samstags Vormittags ab 10 Uhr
URL:https://inklusion-warendorf.de/veranstaltung/stammtisch-seniorenfreizeitkreis/
LOCATION:FreiRaum\, Münsterstraße 27\, Warendorf\, NRW\, 48231\, Deutschland
CATEGORIES:FreiRaum
ATTACH;FMTTYPE=image/jpeg:https://inklusion-warendorf.de/wp-content/uploads/2024/04/cookies-1383280_1920.jpg
END:VEVENT
BEGIN:VEVENT
DTSTART;TZID=Europe/Berlin:20240927T113000
DTEND;TZID=Europe/Berlin:20240927T133000
DTSTAMP:20260425T060024
CREATED:20240924T162505Z
LAST-MODIFIED:20250120T111642Z
UID:10002951-1727436600-1727443800@inklusion-warendorf.de
SUMMARY:Internationaler Lerntreff
DESCRIPTION:Internationaler Lerntreff – Deutsch lernen und sich austauschen! \nDas erwartet euch jeden Freitag im FreiRaum: \n-Lernmöglichkeit bei Sprachkursen und Prüfungsvorbereitung \n-Verbesserung der Deutschkenntnisse \n-Austausch mit anderen Teilnehmern und Motivation durch eine lernfreudige Gemeinschaft \n-ruhige Umgebung\, um eigenständig Deutsch zu lernen.
URL:https://inklusion-warendorf.de/veranstaltung/internationaler-lerntreff/2024-09-27/
LOCATION:FreiRaum\, Münsterstraße 27\, Warendorf\, NRW\, 48231\, Deutschland
CATEGORIES:FreiRaum
ATTACH;FMTTYPE=image/jpeg:https://inklusion-warendorf.de/wp-content/uploads/2024/04/people-2557396_1920.jpg
END:VEVENT
BEGIN:VEVENT
DTSTART;TZID=Europe/Berlin:20240926T200000
DTEND;TZID=Europe/Berlin:20240926T214500
DTSTAMP:20260425T060024
CREATED:20240625T075616Z
LAST-MODIFIED:20250422T121022Z
UID:10004899-1727380800-1727387100@inklusion-warendorf.de
SUMMARY:Chor Mischtöne
DESCRIPTION:Jeden Donnerstag Abend probt der Chor „Mischtöne“ im FreiRaum. Der gemischte Pop-Chor unter der Leitung von Thomas Kraß hat sich auf englische und deutsche Poplieder spezialisiert. Mit besonderen musikalischen Aktionen ist der Chor auch im FreiRaum immer wieder aktiv. Neue Chormitglieder sind willkommen\, komm´ bei Interesse gerne vorbei.
URL:https://inklusion-warendorf.de/veranstaltung/chor-mischtoene-probe/2024-09-26/
LOCATION:FreiRaum\, Münsterstraße 27\, Warendorf\, NRW\, 48231\, Deutschland
CATEGORIES:FreiRaum
ATTACH;FMTTYPE=image/jpeg:https://inklusion-warendorf.de/wp-content/uploads/2024/06/FreiRaum-_468-scaled.jpg
END:VEVENT
BEGIN:VEVENT
DTSTART;TZID=Europe/Berlin:20240925T160000
DTEND;TZID=Europe/Berlin:20240925T190000
DTSTAMP:20260425T060024
CREATED:20240624T220358Z
LAST-MODIFIED:20241218T133037Z
UID:10000136-1727280000-1727290800@inklusion-warendorf.de
SUMMARY:Café international
DESCRIPTION:Café international: Jeden Mittwoch Nachmittag im FreiRaum
URL:https://inklusion-warendorf.de/veranstaltung/cafe-international/2024-09-25/
LOCATION:FreiRaum\, Münsterstraße 27\, Warendorf\, NRW\, 48231\, Deutschland
CATEGORIES:FreiRaum
ATTACH;FMTTYPE=image/jpeg:https://inklusion-warendorf.de/wp-content/uploads/2024/04/cookies-1383280_1920.jpg
END:VEVENT
BEGIN:VEVENT
DTSTART;TZID=Europe/Berlin:20240924T093000
DTEND;TZID=Europe/Berlin:20240924T113000
DTSTAMP:20260425T060024
CREATED:20240920T174406Z
LAST-MODIFIED:20250430T073401Z
UID:10002378-1727170200-1727177400@inklusion-warendorf.de
SUMMARY:Das Tellen-Café
DESCRIPTION:Dienstags ist die Heinrich-Tellen-Schule im FreiRaum zu Besuch und versorgt alle Gäste mit einer leckeren Kleinigkeit. \nSchaut gerne vorbei!
URL:https://inklusion-warendorf.de/veranstaltung/das-tellen-cafe/2024-09-24/
LOCATION:FreiRaum\, Münsterstraße 27\, Warendorf\, NRW\, 48231\, Deutschland
CATEGORIES:FreiRaum
ATTACH;FMTTYPE=image/jpeg:https://inklusion-warendorf.de/wp-content/uploads/2024/09/candy.jpg
END:VEVENT
BEGIN:VEVENT
DTSTART;TZID=Europe/Berlin:20240920T113000
DTEND;TZID=Europe/Berlin:20240920T133000
DTSTAMP:20260425T060024
CREATED:20240924T162505Z
LAST-MODIFIED:20250120T111642Z
UID:10002950-1726831800-1726839000@inklusion-warendorf.de
SUMMARY:Internationaler Lerntreff
DESCRIPTION:Internationaler Lerntreff – Deutsch lernen und sich austauschen! \nDas erwartet euch jeden Freitag im FreiRaum: \n-Lernmöglichkeit bei Sprachkursen und Prüfungsvorbereitung \n-Verbesserung der Deutschkenntnisse \n-Austausch mit anderen Teilnehmern und Motivation durch eine lernfreudige Gemeinschaft \n-ruhige Umgebung\, um eigenständig Deutsch zu lernen.
URL:https://inklusion-warendorf.de/veranstaltung/internationaler-lerntreff/2024-09-20/
LOCATION:FreiRaum\, Münsterstraße 27\, Warendorf\, NRW\, 48231\, Deutschland
CATEGORIES:FreiRaum
ATTACH;FMTTYPE=image/jpeg:https://inklusion-warendorf.de/wp-content/uploads/2024/04/people-2557396_1920.jpg
END:VEVENT
BEGIN:VEVENT
DTSTART;TZID=Europe/Berlin:20240919T200000
DTEND;TZID=Europe/Berlin:20240919T214500
DTSTAMP:20260425T060024
CREATED:20240625T075616Z
LAST-MODIFIED:20250422T121022Z
UID:10004898-1726776000-1726782300@inklusion-warendorf.de
SUMMARY:Chor Mischtöne
DESCRIPTION:Jeden Donnerstag Abend probt der Chor „Mischtöne“ im FreiRaum. Der gemischte Pop-Chor unter der Leitung von Thomas Kraß hat sich auf englische und deutsche Poplieder spezialisiert. Mit besonderen musikalischen Aktionen ist der Chor auch im FreiRaum immer wieder aktiv. Neue Chormitglieder sind willkommen\, komm´ bei Interesse gerne vorbei.
URL:https://inklusion-warendorf.de/veranstaltung/chor-mischtoene-probe/2024-09-19/
LOCATION:FreiRaum\, Münsterstraße 27\, Warendorf\, NRW\, 48231\, Deutschland
CATEGORIES:FreiRaum
ATTACH;FMTTYPE=image/jpeg:https://inklusion-warendorf.de/wp-content/uploads/2024/06/FreiRaum-_468-scaled.jpg
END:VEVENT
BEGIN:VEVENT
DTSTART;TZID=Europe/Berlin:20240919T083000
DTEND;TZID=Europe/Berlin:20240919T123000
DTSTAMP:20260425T060024
CREATED:20250706T123032Z
LAST-MODIFIED:20250706T123123Z
UID:10006770-1726734600-1726749000@inklusion-warendorf.de
SUMMARY:Offener Treff für Alle! mit Ljuba Neufeld
DESCRIPTION:Offener Treff für Alle!\nmit Ljuba Neufeld \nGegenseitige Hilfe und Selbsthilfe in russischer Sprache \n“Miteinander reden – gesund bleiben”. \nAlle sind herzlich eingeladen mitzumachen. \nWir machen Aufwärmübungen\, Gymnastik\, singen\, plaudern\, tauschen interessante Geschichten aus der Vergangenheit aus\, trinken Tee und Kaffee und essen Kuchen. \nгруппа взаимопомощи и поддержки на русском языке \n“ Друг с другом разговаривать-оставаться здоровыми“ \nне сидите дома\, всем кому скучно и не хватает общения-вам к нам! У нас будет интерессно\, мы делаем разминки\, гимнастики\, поём\, общаемься\, делимься интерессными историями из прошлого\, а можем и Kuchen испечь\, и вместе чай & Кофе попить….. наша первая встреча состоится-26.06.2025. приглашаем всех желающих \nС собой возьмите позитив и хорошее настроение!
URL:https://inklusion-warendorf.de/veranstaltung/offener-treff-fuer-alle-mit-ljuba-neufeld/2024-09-19/
LOCATION:FreiRaum\, Münsterstraße 27\, Warendorf\, NRW\, 48231\, Deutschland
CATEGORIES:FreiRaum
ATTACH;FMTTYPE=image/jpeg:https://inklusion-warendorf.de/wp-content/uploads/2025/07/coffee-shop-3699340_1280.jpg
END:VEVENT
END:VCALENDAR