BEGIN:VCALENDAR
VERSION:2.0
PRODID:-//Wir. Alle. Füreinander. - ECPv6.15.5//NONSGML v1.0//EN
CALSCALE:GREGORIAN
METHOD:PUBLISH
X-WR-CALNAME:Wir. Alle. Füreinander.
X-ORIGINAL-URL:https://inklusion-warendorf.de
X-WR-CALDESC:Veranstaltungen für Wir. Alle. Füreinander.
REFRESH-INTERVAL;VALUE=DURATION:PT1H
X-Robots-Tag:noindex
X-PUBLISHED-TTL:PT1H
BEGIN:VTIMEZONE
TZID:Europe/Berlin
BEGIN:DAYLIGHT
TZOFFSETFROM:+0100
TZOFFSETTO:+0200
TZNAME:CEST
DTSTART:20240331T010000
END:DAYLIGHT
BEGIN:STANDARD
TZOFFSETFROM:+0200
TZOFFSETTO:+0100
TZNAME:CET
DTSTART:20241027T010000
END:STANDARD
END:VTIMEZONE
BEGIN:VEVENT
DTSTART;TZID=Europe/Berlin:20240815T200000
DTEND;TZID=Europe/Berlin:20240815T214500
DTSTAMP:20260425T141757
CREATED:20240625T075616Z
LAST-MODIFIED:20250422T121022Z
UID:10004893-1723752000-1723758300@inklusion-warendorf.de
SUMMARY:Chor Mischtöne
DESCRIPTION:Jeden Donnerstag Abend probt der Chor „Mischtöne“ im FreiRaum. Der gemischte Pop-Chor unter der Leitung von Thomas Kraß hat sich auf englische und deutsche Poplieder spezialisiert. Mit besonderen musikalischen Aktionen ist der Chor auch im FreiRaum immer wieder aktiv. Neue Chormitglieder sind willkommen\, komm´ bei Interesse gerne vorbei.
URL:https://inklusion-warendorf.de/veranstaltung/chor-mischtoene-probe/2024-08-15/
LOCATION:FreiRaum\, Münsterstraße 27\, Warendorf\, NRW\, 48231\, Deutschland
CATEGORIES:FreiRaum
ATTACH;FMTTYPE=image/jpeg:https://inklusion-warendorf.de/wp-content/uploads/2024/06/FreiRaum-_468-scaled.jpg
END:VEVENT
BEGIN:VEVENT
DTSTART;TZID=Europe/Berlin:20240814T160000
DTEND;TZID=Europe/Berlin:20240814T190000
DTSTAMP:20260425T141757
CREATED:20240624T220358Z
LAST-MODIFIED:20241218T133037Z
UID:10000130-1723651200-1723662000@inklusion-warendorf.de
SUMMARY:Café international
DESCRIPTION:Café international: Jeden Mittwoch Nachmittag im FreiRaum
URL:https://inklusion-warendorf.de/veranstaltung/cafe-international/2024-08-14/
LOCATION:FreiRaum\, Münsterstraße 27\, Warendorf\, NRW\, 48231\, Deutschland
CATEGORIES:FreiRaum
ATTACH;FMTTYPE=image/jpeg:https://inklusion-warendorf.de/wp-content/uploads/2024/04/cookies-1383280_1920.jpg
END:VEVENT
BEGIN:VEVENT
DTSTART;TZID=Europe/Berlin:20240808T200000
DTEND;TZID=Europe/Berlin:20240808T214500
DTSTAMP:20260425T141757
CREATED:20240625T075616Z
LAST-MODIFIED:20250422T121022Z
UID:10004892-1723147200-1723153500@inklusion-warendorf.de
SUMMARY:Chor Mischtöne
DESCRIPTION:Jeden Donnerstag Abend probt der Chor „Mischtöne“ im FreiRaum. Der gemischte Pop-Chor unter der Leitung von Thomas Kraß hat sich auf englische und deutsche Poplieder spezialisiert. Mit besonderen musikalischen Aktionen ist der Chor auch im FreiRaum immer wieder aktiv. Neue Chormitglieder sind willkommen\, komm´ bei Interesse gerne vorbei.
URL:https://inklusion-warendorf.de/veranstaltung/chor-mischtoene-probe/2024-08-08/
LOCATION:FreiRaum\, Münsterstraße 27\, Warendorf\, NRW\, 48231\, Deutschland
CATEGORIES:FreiRaum
ATTACH;FMTTYPE=image/jpeg:https://inklusion-warendorf.de/wp-content/uploads/2024/06/FreiRaum-_468-scaled.jpg
END:VEVENT
BEGIN:VEVENT
DTSTART;TZID=Europe/Berlin:20240808T083000
DTEND;TZID=Europe/Berlin:20240808T123000
DTSTAMP:20260425T141757
CREATED:20250706T123032Z
LAST-MODIFIED:20250706T123123Z
UID:10006767-1723105800-1723120200@inklusion-warendorf.de
SUMMARY:Offener Treff für Alle! mit Ljuba Neufeld
DESCRIPTION:Offener Treff für Alle!\nmit Ljuba Neufeld \nGegenseitige Hilfe und Selbsthilfe in russischer Sprache \n“Miteinander reden – gesund bleiben”. \nAlle sind herzlich eingeladen mitzumachen. \nWir machen Aufwärmübungen\, Gymnastik\, singen\, plaudern\, tauschen interessante Geschichten aus der Vergangenheit aus\, trinken Tee und Kaffee und essen Kuchen. \nгруппа взаимопомощи и поддержки на русском языке \n“ Друг с другом разговаривать-оставаться здоровыми“ \nне сидите дома\, всем кому скучно и не хватает общения-вам к нам! У нас будет интерессно\, мы делаем разминки\, гимнастики\, поём\, общаемься\, делимься интерессными историями из прошлого\, а можем и Kuchen испечь\, и вместе чай & Кофе попить….. наша первая встреча состоится-26.06.2025. приглашаем всех желающих \nС собой возьмите позитив и хорошее настроение!
URL:https://inklusion-warendorf.de/veranstaltung/offener-treff-fuer-alle-mit-ljuba-neufeld/2024-08-08/
LOCATION:FreiRaum\, Münsterstraße 27\, Warendorf\, NRW\, 48231\, Deutschland
CATEGORIES:FreiRaum
ATTACH;FMTTYPE=image/jpeg:https://inklusion-warendorf.de/wp-content/uploads/2025/07/coffee-shop-3699340_1280.jpg
END:VEVENT
BEGIN:VEVENT
DTSTART;TZID=Europe/Berlin:20240807T160000
DTEND;TZID=Europe/Berlin:20240807T190000
DTSTAMP:20260425T141757
CREATED:20240624T220358Z
LAST-MODIFIED:20241218T133037Z
UID:10000129-1723046400-1723057200@inklusion-warendorf.de
SUMMARY:Café international
DESCRIPTION:Café international: Jeden Mittwoch Nachmittag im FreiRaum
URL:https://inklusion-warendorf.de/veranstaltung/cafe-international/2024-08-07/
LOCATION:FreiRaum\, Münsterstraße 27\, Warendorf\, NRW\, 48231\, Deutschland
CATEGORIES:FreiRaum
ATTACH;FMTTYPE=image/jpeg:https://inklusion-warendorf.de/wp-content/uploads/2024/04/cookies-1383280_1920.jpg
END:VEVENT
BEGIN:VEVENT
DTSTART;TZID=Europe/Berlin:20240802T150000
DTEND;TZID=Europe/Berlin:20240802T170000
DTSTAMP:20260425T141757
CREATED:20240607T083916Z
LAST-MODIFIED:20250411T180434Z
UID:10000064-1722610800-1722618000@inklusion-warendorf.de
SUMMARY:Spiel- und Geburtstagsnachmittag
DESCRIPTION:Herzlich Willkommen beim Spiel- und Geburtstagsnachmittag des Seniorenfreizeitkreises! \nAm ersten Freitag des Monats treffen wir uns zum Spielen\, Lachen und Klönen. Bei Kaffee und Kuchen verbringen wir einen gemütlichen Nachmittag in entspannter Atmosphäre. Wir freuen uns auf Dich\, komm´ gerne vorbei und setz´ Dich dazu.
URL:https://inklusion-warendorf.de/veranstaltung/spiel-und-geburtstagsnachmittag/2024-08-02/
LOCATION:FreiRaum\, Münsterstraße 27\, Warendorf\, NRW\, 48231\, Deutschland
CATEGORIES:FreiRaum
ATTACH;FMTTYPE=image/jpeg:https://inklusion-warendorf.de/wp-content/uploads/2024/04/play-stone-1237457_1920.jpg
END:VEVENT
BEGIN:VEVENT
DTSTART;TZID=Europe/Berlin:20240801T200000
DTEND;TZID=Europe/Berlin:20240801T214500
DTSTAMP:20260425T141757
CREATED:20240625T075616Z
LAST-MODIFIED:20250422T121022Z
UID:10004891-1722542400-1722548700@inklusion-warendorf.de
SUMMARY:Chor Mischtöne
DESCRIPTION:Jeden Donnerstag Abend probt der Chor „Mischtöne“ im FreiRaum. Der gemischte Pop-Chor unter der Leitung von Thomas Kraß hat sich auf englische und deutsche Poplieder spezialisiert. Mit besonderen musikalischen Aktionen ist der Chor auch im FreiRaum immer wieder aktiv. Neue Chormitglieder sind willkommen\, komm´ bei Interesse gerne vorbei.
URL:https://inklusion-warendorf.de/veranstaltung/chor-mischtoene-probe/2024-08-01/
LOCATION:FreiRaum\, Münsterstraße 27\, Warendorf\, NRW\, 48231\, Deutschland
CATEGORIES:FreiRaum
ATTACH;FMTTYPE=image/jpeg:https://inklusion-warendorf.de/wp-content/uploads/2024/06/FreiRaum-_468-scaled.jpg
END:VEVENT
BEGIN:VEVENT
DTSTART;TZID=Europe/Berlin:20240731T160000
DTEND;TZID=Europe/Berlin:20240731T190000
DTSTAMP:20260425T141757
CREATED:20240624T220358Z
LAST-MODIFIED:20241218T133037Z
UID:10000128-1722441600-1722452400@inklusion-warendorf.de
SUMMARY:Café international
DESCRIPTION:Café international: Jeden Mittwoch Nachmittag im FreiRaum
URL:https://inklusion-warendorf.de/veranstaltung/cafe-international/2024-07-31/
LOCATION:FreiRaum\, Münsterstraße 27\, Warendorf\, NRW\, 48231\, Deutschland
CATEGORIES:FreiRaum
ATTACH;FMTTYPE=image/jpeg:https://inklusion-warendorf.de/wp-content/uploads/2024/04/cookies-1383280_1920.jpg
END:VEVENT
BEGIN:VEVENT
DTSTART;TZID=Europe/Berlin:20240728T143000
DTEND;TZID=Europe/Berlin:20240728T170000
DTSTAMP:20260425T141757
CREATED:20240625T093257Z
LAST-MODIFIED:20250214T090511Z
UID:10002284-1722177000-1722186000@inklusion-warendorf.de
SUMMARY:Klön-Café
DESCRIPTION:Jeden letzten Sonntag im Monat ist das Klön-Café eine gute Gelegenheit um Unterhaltung\, Begegnung und Gemeinschaft zu erfahren – besonders auch für alleinstehende Warendorferinnen und Warendorfer. Ab 14:30 Uhr gibt es Kaffee und Kuchen in geselliger Atmosphäre. \nEuch erwartet Kaffee und Kuchen\, ein jeweils wechselndes leichtes Rahmenprogramm und viele nette Menschen\, die den Sonntagnachmittag zu einem angenehmen und geselligen Erlebnis machen. Eine Anmeldung ist nicht erforderlich – wir freuen uns auf Euren Besuch!
URL:https://inklusion-warendorf.de/veranstaltung/kloen-cafe/2024-07-28/
LOCATION:FreiRaum\, Münsterstraße 27\, Warendorf\, NRW\, 48231\, Deutschland
CATEGORIES:FreiRaum
END:VEVENT
BEGIN:VEVENT
DTSTART;TZID=Europe/Berlin:20240725T200000
DTEND;TZID=Europe/Berlin:20240725T214500
DTSTAMP:20260425T141757
CREATED:20240625T075616Z
LAST-MODIFIED:20250422T121022Z
UID:10004890-1721937600-1721943900@inklusion-warendorf.de
SUMMARY:Chor Mischtöne
DESCRIPTION:Jeden Donnerstag Abend probt der Chor „Mischtöne“ im FreiRaum. Der gemischte Pop-Chor unter der Leitung von Thomas Kraß hat sich auf englische und deutsche Poplieder spezialisiert. Mit besonderen musikalischen Aktionen ist der Chor auch im FreiRaum immer wieder aktiv. Neue Chormitglieder sind willkommen\, komm´ bei Interesse gerne vorbei.
URL:https://inklusion-warendorf.de/veranstaltung/chor-mischtoene-probe/2024-07-25/
LOCATION:FreiRaum\, Münsterstraße 27\, Warendorf\, NRW\, 48231\, Deutschland
CATEGORIES:FreiRaum
ATTACH;FMTTYPE=image/jpeg:https://inklusion-warendorf.de/wp-content/uploads/2024/06/FreiRaum-_468-scaled.jpg
END:VEVENT
BEGIN:VEVENT
DTSTART;TZID=Europe/Berlin:20240725T083000
DTEND;TZID=Europe/Berlin:20240725T123000
DTSTAMP:20260425T141757
CREATED:20250706T123032Z
LAST-MODIFIED:20250706T123123Z
UID:10006766-1721896200-1721910600@inklusion-warendorf.de
SUMMARY:Offener Treff für Alle! mit Ljuba Neufeld
DESCRIPTION:Offener Treff für Alle!\nmit Ljuba Neufeld \nGegenseitige Hilfe und Selbsthilfe in russischer Sprache \n“Miteinander reden – gesund bleiben”. \nAlle sind herzlich eingeladen mitzumachen. \nWir machen Aufwärmübungen\, Gymnastik\, singen\, plaudern\, tauschen interessante Geschichten aus der Vergangenheit aus\, trinken Tee und Kaffee und essen Kuchen. \nгруппа взаимопомощи и поддержки на русском языке \n“ Друг с другом разговаривать-оставаться здоровыми“ \nне сидите дома\, всем кому скучно и не хватает общения-вам к нам! У нас будет интерессно\, мы делаем разминки\, гимнастики\, поём\, общаемься\, делимься интерессными историями из прошлого\, а можем и Kuchen испечь\, и вместе чай & Кофе попить….. наша первая встреча состоится-26.06.2025. приглашаем всех желающих \nС собой возьмите позитив и хорошее настроение!
URL:https://inklusion-warendorf.de/veranstaltung/offener-treff-fuer-alle-mit-ljuba-neufeld/2024-07-25/
LOCATION:FreiRaum\, Münsterstraße 27\, Warendorf\, NRW\, 48231\, Deutschland
CATEGORIES:FreiRaum
ATTACH;FMTTYPE=image/jpeg:https://inklusion-warendorf.de/wp-content/uploads/2025/07/coffee-shop-3699340_1280.jpg
END:VEVENT
BEGIN:VEVENT
DTSTART;TZID=Europe/Berlin:20240724T160000
DTEND;TZID=Europe/Berlin:20240724T190000
DTSTAMP:20260425T141757
CREATED:20240624T220358Z
LAST-MODIFIED:20241218T133037Z
UID:10000127-1721836800-1721847600@inklusion-warendorf.de
SUMMARY:Café international
DESCRIPTION:Café international: Jeden Mittwoch Nachmittag im FreiRaum
URL:https://inklusion-warendorf.de/veranstaltung/cafe-international/2024-07-24/
LOCATION:FreiRaum\, Münsterstraße 27\, Warendorf\, NRW\, 48231\, Deutschland
CATEGORIES:FreiRaum
ATTACH;FMTTYPE=image/jpeg:https://inklusion-warendorf.de/wp-content/uploads/2024/04/cookies-1383280_1920.jpg
END:VEVENT
BEGIN:VEVENT
DTSTART;TZID=Europe/Berlin:20240717T160000
DTEND;TZID=Europe/Berlin:20240717T190000
DTSTAMP:20260425T141757
CREATED:20240624T220358Z
LAST-MODIFIED:20241218T133037Z
UID:10000126-1721232000-1721242800@inklusion-warendorf.de
SUMMARY:Café international
DESCRIPTION:Café international: Jeden Mittwoch Nachmittag im FreiRaum
URL:https://inklusion-warendorf.de/veranstaltung/cafe-international/2024-07-17/
LOCATION:FreiRaum\, Münsterstraße 27\, Warendorf\, NRW\, 48231\, Deutschland
CATEGORIES:FreiRaum
ATTACH;FMTTYPE=image/jpeg:https://inklusion-warendorf.de/wp-content/uploads/2024/04/cookies-1383280_1920.jpg
END:VEVENT
BEGIN:VEVENT
DTSTART;TZID=Europe/Berlin:20240711T083000
DTEND;TZID=Europe/Berlin:20240711T123000
DTSTAMP:20260425T141757
CREATED:20250706T123032Z
LAST-MODIFIED:20250706T123123Z
UID:10006759-1720686600-1720701000@inklusion-warendorf.de
SUMMARY:Offener Treff für Alle! mit Ljuba Neufeld
DESCRIPTION:Offener Treff für Alle!\nmit Ljuba Neufeld \nGegenseitige Hilfe und Selbsthilfe in russischer Sprache \n“Miteinander reden – gesund bleiben”. \nAlle sind herzlich eingeladen mitzumachen. \nWir machen Aufwärmübungen\, Gymnastik\, singen\, plaudern\, tauschen interessante Geschichten aus der Vergangenheit aus\, trinken Tee und Kaffee und essen Kuchen. \nгруппа взаимопомощи и поддержки на русском языке \n“ Друг с другом разговаривать-оставаться здоровыми“ \nне сидите дома\, всем кому скучно и не хватает общения-вам к нам! У нас будет интерессно\, мы делаем разминки\, гимнастики\, поём\, общаемься\, делимься интерессными историями из прошлого\, а можем и Kuchen испечь\, и вместе чай & Кофе попить….. наша первая встреча состоится-26.06.2025. приглашаем всех желающих \nС собой возьмите позитив и хорошее настроение!
URL:https://inklusion-warendorf.de/veranstaltung/offener-treff-fuer-alle-mit-ljuba-neufeld/2024-07-11/
LOCATION:FreiRaum\, Münsterstraße 27\, Warendorf\, NRW\, 48231\, Deutschland
CATEGORIES:FreiRaum
ATTACH;FMTTYPE=image/jpeg:https://inklusion-warendorf.de/wp-content/uploads/2025/07/coffee-shop-3699340_1280.jpg
END:VEVENT
BEGIN:VEVENT
DTSTART;TZID=Europe/Berlin:20240710T160000
DTEND;TZID=Europe/Berlin:20240710T190000
DTSTAMP:20260425T141757
CREATED:20240624T220358Z
LAST-MODIFIED:20241218T133037Z
UID:10000125-1720627200-1720638000@inklusion-warendorf.de
SUMMARY:Café international
DESCRIPTION:Café international: Jeden Mittwoch Nachmittag im FreiRaum
URL:https://inklusion-warendorf.de/veranstaltung/cafe-international/2024-07-10/
LOCATION:FreiRaum\, Münsterstraße 27\, Warendorf\, NRW\, 48231\, Deutschland
CATEGORIES:FreiRaum
ATTACH;FMTTYPE=image/jpeg:https://inklusion-warendorf.de/wp-content/uploads/2024/04/cookies-1383280_1920.jpg
END:VEVENT
BEGIN:VEVENT
DTSTART;TZID=Europe/Berlin:20240703T160000
DTEND;TZID=Europe/Berlin:20240703T190000
DTSTAMP:20260425T141757
CREATED:20240624T220358Z
LAST-MODIFIED:20241218T133037Z
UID:10000124-1720022400-1720033200@inklusion-warendorf.de
SUMMARY:Café international
DESCRIPTION:Café international: Jeden Mittwoch Nachmittag im FreiRaum
URL:https://inklusion-warendorf.de/veranstaltung/cafe-international/2024-07-03/
LOCATION:FreiRaum\, Münsterstraße 27\, Warendorf\, NRW\, 48231\, Deutschland
CATEGORIES:FreiRaum
ATTACH;FMTTYPE=image/jpeg:https://inklusion-warendorf.de/wp-content/uploads/2024/04/cookies-1383280_1920.jpg
END:VEVENT
BEGIN:VEVENT
DTSTART;TZID=Europe/Berlin:20240626T160000
DTEND;TZID=Europe/Berlin:20240626T190000
DTSTAMP:20260425T141757
CREATED:20240624T220358Z
LAST-MODIFIED:20241218T133037Z
UID:10000123-1719417600-1719428400@inklusion-warendorf.de
SUMMARY:Café international
DESCRIPTION:Café international: Jeden Mittwoch Nachmittag im FreiRaum
URL:https://inklusion-warendorf.de/veranstaltung/cafe-international/2024-06-26/
LOCATION:FreiRaum\, Münsterstraße 27\, Warendorf\, NRW\, 48231\, Deutschland
CATEGORIES:FreiRaum
ATTACH;FMTTYPE=image/jpeg:https://inklusion-warendorf.de/wp-content/uploads/2024/04/cookies-1383280_1920.jpg
END:VEVENT
END:VCALENDAR